BEGIN:VCALENDAR
VERSION:2.0
PRODID:-//Califon, New Jersey - ECPv6.13.2.1//NONSGML v1.0//EN
CALSCALE:GREGORIAN
METHOD:PUBLISH
X-WR-CALNAME:Califon, New Jersey
X-ORIGINAL-URL:https://www.califonboro.org
X-WR-CALDESC:Events for Califon, New Jersey
REFRESH-INTERVAL;VALUE=DURATION:PT1H
X-Robots-Tag:noindex
X-PUBLISHED-TTL:PT1H
BEGIN:VTIMEZONE
TZID:America/New_York
BEGIN:DAYLIGHT
TZOFFSETFROM:-0500
TZOFFSETTO:-0400
TZNAME:EDT
DTSTART:20260308T070000
END:DAYLIGHT
BEGIN:STANDARD
TZOFFSETFROM:-0400
TZOFFSETTO:-0500
TZNAME:EST
DTSTART:20261101T060000
END:STANDARD
END:VTIMEZONE
BEGIN:VEVENT
DTSTART;TZID=America/New_York:20260303T190000
DTEND;TZID=America/New_York:20260303T210000
DTSTAMP:20260424T205207
CREATED:20260106T170901Z
LAST-MODIFIED:20260106T170901Z
UID:13347-1772564400-1772571600@www.califonboro.org
SUMMARY:Council Meeting
DESCRIPTION:
URL:https://www.califonboro.org/event/council-meeting-95/
LOCATION:Municipal Building\, 39 Academy Street\, Califon\, NJ\, 07830\, United States
CATEGORIES:Main Calendar
END:VEVENT
BEGIN:VEVENT
DTSTART;TZID=America/New_York:20260310T190000
DTEND;TZID=America/New_York:20260310T210000
DTSTAMP:20260424T205207
CREATED:20260318T141420Z
LAST-MODIFIED:20260318T141519Z
UID:13658-1773169200-1773176400@www.califonboro.org
SUMMARY:Environmental Commission Meeting
DESCRIPTION:
URL:https://www.califonboro.org/event/environmental-commission/
LOCATION:Municipal Building\, 39 Academy Street\, Califon\, NJ\, 07830\, United States
CATEGORIES:Califon Environmental Commission
END:VEVENT
BEGIN:VEVENT
DTSTART;TZID=America/New_York:20260317T190000
DTEND;TZID=America/New_York:20260317T210000
DTSTAMP:20260424T205207
CREATED:20260106T170930Z
LAST-MODIFIED:20260106T170930Z
UID:13349-1773774000-1773781200@www.califonboro.org
SUMMARY:Council Meeting
DESCRIPTION:
URL:https://www.califonboro.org/event/council-meeting-96/
LOCATION:Municipal Building\, 39 Academy Street\, Califon\, NJ\, 07830\, United States
CATEGORIES:Main Calendar
END:VEVENT
BEGIN:VEVENT
DTSTART;TZID=America/New_York:20260318T190000
DTEND;TZID=America/New_York:20260318T200000
DTSTAMP:20260424T205207
CREATED:20260315T230258Z
LAST-MODIFIED:20260315T230258Z
UID:13532-1773860400-1773864000@www.califonboro.org
SUMMARY:Planning Board Meeting
DESCRIPTION:
URL:https://www.califonboro.org/event/planning-board-meeting-17/
LOCATION:Municipal Building\, 39 Academy Street\, Califon\, NJ\, 07830\, United States
CATEGORIES:Main Calendar
END:VEVENT
BEGIN:VEVENT
DTSTART;TZID=America/New_York:20260318T190000
DTEND;TZID=America/New_York:20260318T210000
DTSTAMP:20260424T205207
CREATED:20260316T123126Z
LAST-MODIFIED:20260316T123126Z
UID:13555-1773860400-1773867600@www.califonboro.org
SUMMARY:Planning/Zoning Board Meeting
DESCRIPTION:
URL:https://www.califonboro.org/event/planning-zoning-board-meeting-21/
LOCATION:Municipal Building\, 39 Academy Street\, Califon\, NJ\, 07830\, United States
CATEGORIES:Main Calendar,Planning/Zoning
END:VEVENT
BEGIN:VEVENT
DTSTART;TZID=America/New_York:20260324T190000
DTEND;TZID=America/New_York:20260324T210000
DTSTAMP:20260424T205207
CREATED:20260316T122023Z
LAST-MODIFIED:20260316T122900Z
UID:13535-1774378800-1774386000@www.califonboro.org
SUMMARY:PARC Meeting
DESCRIPTION:
URL:https://www.califonboro.org/event/parc-meeting-21/
LOCATION:Municipal Building\, 39 Academy Street\, Califon\, NJ\, 07830\, United States
CATEGORIES:Califon Parks and Recreation Committee,Main Calendar
END:VEVENT
BEGIN:VEVENT
DTSTART;TZID=America/New_York:20260329T140000
DTEND;TZID=America/New_York:20260329T150000
DTSTAMP:20260424T205207
CREATED:20260309T173051Z
LAST-MODIFIED:20260309T173051Z
UID:13498-1774792800-1774796400@www.califonboro.org
SUMMARY:Easter Egg Hunt
DESCRIPTION:
URL:https://www.califonboro.org/event/easter-egg-hunt-3/
LOCATION:Califon Island Park
END:VEVENT
END:VCALENDAR