BEGIN:VCALENDAR
VERSION:2.0
PRODID:-//Califon, New Jersey - ECPv6.13.2.1//NONSGML v1.0//EN
CALSCALE:GREGORIAN
METHOD:PUBLISH
X-WR-CALNAME:Califon, New Jersey
X-ORIGINAL-URL:https://www.califonboro.org
X-WR-CALDESC:Events for Califon, New Jersey
REFRESH-INTERVAL;VALUE=DURATION:PT1H
X-Robots-Tag:noindex
X-PUBLISHED-TTL:PT1H
BEGIN:VTIMEZONE
TZID:America/New_York
BEGIN:DAYLIGHT
TZOFFSETFROM:-0500
TZOFFSETTO:-0400
TZNAME:EDT
DTSTART:20250309T070000
END:DAYLIGHT
BEGIN:STANDARD
TZOFFSETFROM:-0400
TZOFFSETTO:-0500
TZNAME:EST
DTSTART:20251102T060000
END:STANDARD
BEGIN:DAYLIGHT
TZOFFSETFROM:-0500
TZOFFSETTO:-0400
TZNAME:EDT
DTSTART:20260308T070000
END:DAYLIGHT
BEGIN:STANDARD
TZOFFSETFROM:-0400
TZOFFSETTO:-0500
TZNAME:EST
DTSTART:20261101T060000
END:STANDARD
END:VTIMEZONE
BEGIN:VEVENT
DTSTART;TZID=America/New_York:20260329T140000
DTEND;TZID=America/New_York:20260329T150000
DTSTAMP:20260425T123737
CREATED:20260309T173051Z
LAST-MODIFIED:20260309T173051Z
UID:13498-1774792800-1774796400@www.califonboro.org
SUMMARY:Easter Egg Hunt
DESCRIPTION:
URL:https://www.califonboro.org/event/easter-egg-hunt-3/
LOCATION:Califon Island Park
END:VEVENT
BEGIN:VEVENT
DTSTART;TZID=America/New_York:20260324T190000
DTEND;TZID=America/New_York:20260324T210000
DTSTAMP:20260425T123737
CREATED:20260316T122023Z
LAST-MODIFIED:20260316T122900Z
UID:13535-1774378800-1774386000@www.califonboro.org
SUMMARY:PARC Meeting
DESCRIPTION:
URL:https://www.califonboro.org/event/parc-meeting-21/
LOCATION:Municipal Building\, 39 Academy Street\, Califon\, NJ\, 07830\, United States
CATEGORIES:Califon Parks and Recreation Committee,Main Calendar
END:VEVENT
BEGIN:VEVENT
DTSTART;TZID=America/New_York:20260318T190000
DTEND;TZID=America/New_York:20260318T210000
DTSTAMP:20260425T123737
CREATED:20260316T123126Z
LAST-MODIFIED:20260316T123126Z
UID:13555-1773860400-1773867600@www.califonboro.org
SUMMARY:Planning/Zoning Board Meeting
DESCRIPTION:
URL:https://www.califonboro.org/event/planning-zoning-board-meeting-21/
LOCATION:Municipal Building\, 39 Academy Street\, Califon\, NJ\, 07830\, United States
CATEGORIES:Main Calendar,Planning/Zoning
END:VEVENT
BEGIN:VEVENT
DTSTART;TZID=America/New_York:20260318T190000
DTEND;TZID=America/New_York:20260318T200000
DTSTAMP:20260425T123737
CREATED:20260315T230258Z
LAST-MODIFIED:20260315T230258Z
UID:13532-1773860400-1773864000@www.califonboro.org
SUMMARY:Planning Board Meeting
DESCRIPTION:
URL:https://www.califonboro.org/event/planning-board-meeting-17/
LOCATION:Municipal Building\, 39 Academy Street\, Califon\, NJ\, 07830\, United States
CATEGORIES:Main Calendar
END:VEVENT
BEGIN:VEVENT
DTSTART;TZID=America/New_York:20260317T190000
DTEND;TZID=America/New_York:20260317T210000
DTSTAMP:20260425T123737
CREATED:20260106T170930Z
LAST-MODIFIED:20260106T170930Z
UID:13349-1773774000-1773781200@www.califonboro.org
SUMMARY:Council Meeting
DESCRIPTION:
URL:https://www.califonboro.org/event/council-meeting-96/
LOCATION:Municipal Building\, 39 Academy Street\, Califon\, NJ\, 07830\, United States
CATEGORIES:Main Calendar
END:VEVENT
BEGIN:VEVENT
DTSTART;TZID=America/New_York:20260310T190000
DTEND;TZID=America/New_York:20260310T210000
DTSTAMP:20260425T123737
CREATED:20260318T141420Z
LAST-MODIFIED:20260318T141519Z
UID:13658-1773169200-1773176400@www.califonboro.org
SUMMARY:Environmental Commission Meeting
DESCRIPTION:
URL:https://www.califonboro.org/event/environmental-commission/
LOCATION:Municipal Building\, 39 Academy Street\, Califon\, NJ\, 07830\, United States
CATEGORIES:Califon Environmental Commission
END:VEVENT
BEGIN:VEVENT
DTSTART;TZID=America/New_York:20260303T190000
DTEND;TZID=America/New_York:20260303T210000
DTSTAMP:20260425T123737
CREATED:20260106T170901Z
LAST-MODIFIED:20260106T170901Z
UID:13347-1772564400-1772571600@www.califonboro.org
SUMMARY:Council Meeting
DESCRIPTION:
URL:https://www.califonboro.org/event/council-meeting-95/
LOCATION:Municipal Building\, 39 Academy Street\, Califon\, NJ\, 07830\, United States
CATEGORIES:Main Calendar
END:VEVENT
BEGIN:VEVENT
DTSTART;TZID=America/New_York:20260224T190000
DTEND;TZID=America/New_York:20260224T210000
DTSTAMP:20260425T123737
CREATED:20260318T144419Z
LAST-MODIFIED:20260318T144419Z
UID:13667-1771959600-1771966800@www.califonboro.org
SUMMARY:PARC Meeting
DESCRIPTION:
URL:https://www.califonboro.org/event/parc-meeting-32/
LOCATION:Municipal Building\, 39 Academy Street\, Califon\, NJ\, 07830\, United States
CATEGORIES:Califon Parks and Recreation Committee
END:VEVENT
BEGIN:VEVENT
DTSTART;TZID=America/New_York:20260218T190000
DTEND;TZID=America/New_York:20260218T210000
DTSTAMP:20260425T123737
CREATED:20260218T023615Z
LAST-MODIFIED:20260218T023615Z
UID:13470-1771441200-1771448400@www.califonboro.org
SUMMARY:Planning/Zoning Board Meeting
DESCRIPTION:
URL:https://www.califonboro.org/event/planning-zoning-board-meeting-20/
LOCATION:Municipal Building\, 39 Academy Street\, Califon\, NJ\, 07830\, United States
END:VEVENT
BEGIN:VEVENT
DTSTART;TZID=America/New_York:20260217T190000
DTEND;TZID=America/New_York:20260217T210000
DTSTAMP:20260425T123737
CREATED:20260106T170759Z
LAST-MODIFIED:20260211T003923Z
UID:13345-1771354800-1771362000@www.califonboro.org
SUMMARY:Council Meeting
DESCRIPTION:
URL:https://www.califonboro.org/event/council-meeting-94/
LOCATION:Municipal Building\, 39 Academy Street\, Califon\, NJ\, 07830\, United States
CATEGORIES:Main Calendar
END:VEVENT
BEGIN:VEVENT
DTSTART;TZID=America/New_York:20260203T190000
DTEND;TZID=America/New_York:20260203T210000
DTSTAMP:20260425T123737
CREATED:20260106T170646Z
LAST-MODIFIED:20260106T170646Z
UID:13343-1770145200-1770152400@www.califonboro.org
SUMMARY:Council Meeting
DESCRIPTION:
URL:https://www.califonboro.org/event/council-meeting-93/
LOCATION:Municipal Building\, 39 Academy Street\, Califon\, NJ\, 07830\, United States
CATEGORIES:Main Calendar
END:VEVENT
BEGIN:VEVENT
DTSTART;TZID=America/New_York:20260121T190000
DTEND;TZID=America/New_York:20260121T200000
DTSTAMP:20260425T123737
CREATED:20250114T152718Z
LAST-MODIFIED:20250114T152718Z
UID:12179-1769022000-1769025600@www.califonboro.org
SUMMARY:Planning Board Meeting
DESCRIPTION:
URL:https://www.califonboro.org/event/planning-board-meeting-15/
LOCATION:NJ
CATEGORIES:Califon Events,Main Calendar
END:VEVENT
BEGIN:VEVENT
DTSTART;TZID=America/New_York:20260120T190000
DTEND;TZID=America/New_York:20260120T210000
DTSTAMP:20260425T123737
CREATED:20260107T002130Z
LAST-MODIFIED:20260107T002130Z
UID:13386-1768935600-1768942800@www.califonboro.org
SUMMARY:Council Meeting
DESCRIPTION:
URL:https://www.califonboro.org/event/council-meeting-112/
LOCATION:Municipal Building\, 39 Academy Street\, Califon\, NJ\, 07830\, United States
CATEGORIES:Main Calendar
END:VEVENT
BEGIN:VEVENT
DTSTART;TZID=America/New_York:20260114T190000
DTEND;TZID=America/New_York:20260114T210000
DTSTAMP:20260425T123737
CREATED:20260318T143638Z
LAST-MODIFIED:20260318T143638Z
UID:13665-1768417200-1768424400@www.califonboro.org
SUMMARY:PARC Meeting
DESCRIPTION:
URL:https://www.califonboro.org/event/parc-meeting-31/
LOCATION:Municipal Building\, 39 Academy Street\, Califon\, NJ\, 07830\, United States
CATEGORIES:Califon Parks and Recreation Committee
END:VEVENT
BEGIN:VEVENT
DTSTART;TZID=America/New_York:20260113T190000
DTEND;TZID=America/New_York:20260113T210000
DTSTAMP:20260425T123737
CREATED:20260318T143549Z
LAST-MODIFIED:20260318T143549Z
UID:13663-1768330800-1768338000@www.califonboro.org
SUMMARY:Environmental Commission Meeting
DESCRIPTION:
URL:https://www.califonboro.org/event/environmental-commission-meeting-32/
LOCATION:Municipal Building\, 39 Academy Street\, Califon\, NJ\, 07830\, United States
CATEGORIES:Califon Environmental Commission
END:VEVENT
BEGIN:VEVENT
DTSTART;TZID=America/New_York:20260106T190000
DTEND;TZID=America/New_York:20260106T210000
DTSTAMP:20260425T123737
CREATED:20251218T222136Z
LAST-MODIFIED:20260104T013957Z
UID:13321-1767726000-1767733200@www.califonboro.org
SUMMARY:Annual Borough of Califon Council Reorganization Meeting
DESCRIPTION:
URL:https://www.califonboro.org/event/annual-borough-of-califon-council-reorganization-meeting-and-1st-regular-meeting-of-2026/
LOCATION:Municipal Building\, 39 Academy Street\, Califon\, NJ\, 07830\, United States
CATEGORIES:Main Calendar
END:VEVENT
BEGIN:VEVENT
DTSTART;TZID=America/New_York:20251217T190000
DTEND;TZID=America/New_York:20251217T210000
DTSTAMP:20260425T123737
CREATED:20250922T202013Z
LAST-MODIFIED:20250922T202155Z
UID:13058-1765998000-1766005200@www.califonboro.org
SUMMARY:Califon School Board of Education Meeting
DESCRIPTION:Please check the school website for any cancellations or changes at www.califonschool.org
URL:https://www.califonboro.org/event/califon-school-board-of-education-meeting-3/
LOCATION:Califon School
CATEGORIES:Main Calendar
END:VEVENT
BEGIN:VEVENT
DTSTART;TZID=America/New_York:20251217T190000
DTEND;TZID=America/New_York:20251217T200000
DTSTAMP:20260425T123737
CREATED:20250114T152641Z
LAST-MODIFIED:20251218T222215Z
UID:12177-1765998000-1766001600@www.califonboro.org
SUMMARY:Cancelled - Planning Board Meeting
DESCRIPTION:
URL:https://www.califonboro.org/event/planning-board-meeting-14/
LOCATION:NJ
CATEGORIES:Califon Events,Main Calendar
END:VEVENT
BEGIN:VEVENT
DTSTART;TZID=America/New_York:20251216T190000
DTEND;TZID=America/New_York:20251216T210000
DTSTAMP:20260425T123737
CREATED:20250113T181718Z
LAST-MODIFIED:20250113T181718Z
UID:12124-1765911600-1765918800@www.califonboro.org
SUMMARY:Council Meeting
DESCRIPTION:
URL:https://www.califonboro.org/event/council-meeting-91/
LOCATION:NJ
CATEGORIES:Califon Events,Main Calendar
END:VEVENT
BEGIN:VEVENT
DTSTART;TZID=America/New_York:20251215T183000
DTEND;TZID=America/New_York:20251215T193000
DTSTAMP:20260425T123737
CREATED:20251027T192511Z
LAST-MODIFIED:20251124T221815Z
UID:13174-1765823400-1765827000@www.califonboro.org
SUMMARY:Borough Menorah Lighting
DESCRIPTION:
URL:https://www.califonboro.org/event/califon-borough-menorah-lighting/
LOCATION:Califon Commons
CATEGORIES:Main Calendar
END:VEVENT
BEGIN:VEVENT
DTSTART;TZID=America/New_York:20251210T190000
DTEND;TZID=America/New_York:20251210T200000
DTSTAMP:20260425T123737
CREATED:20251208T161228Z
LAST-MODIFIED:20251209T201226Z
UID:13282-1765393200-1765396800@www.califonboro.org
SUMMARY:CANCELLED - Parks and Recreation Committee Meeting
DESCRIPTION:
URL:https://www.califonboro.org/event/parks-and-recreation-committee-meeting/
LOCATION:Municipal Building\, 39 Academy Street\, Califon\, NJ\, 07830\, United States
END:VEVENT
BEGIN:VEVENT
DTSTART;TZID=America/New_York:20251207T160000
DTEND;TZID=America/New_York:20251207T173000
DTSTAMP:20260425T123737
CREATED:20251124T221650Z
LAST-MODIFIED:20251202T165344Z
UID:13255-1765123200-1765128600@www.califonboro.org
SUMMARY:Borough Tree Lighting
DESCRIPTION:
URL:https://www.califonboro.org/event/tree-lighting/
LOCATION:Califon Commons
CATEGORIES:Califon Events,Califon Parks and Recreation Committee,Main Calendar
END:VEVENT
BEGIN:VEVENT
DTSTART;TZID=America/New_York:20251202T190000
DTEND;TZID=America/New_York:20251202T210000
DTSTAMP:20260425T123737
CREATED:20250114T155049Z
LAST-MODIFIED:20251201T233739Z
UID:12215-1764702000-1764709200@www.califonboro.org
SUMMARY:CANCELLED - Council Meeting
DESCRIPTION:
URL:https://www.califonboro.org/event/council-meeting-92/
LOCATION:NJ
CATEGORIES:Califon Events,Main Calendar
END:VEVENT
BEGIN:VEVENT
DTSTART;TZID=America/New_York:20251125T190000
DTEND;TZID=America/New_York:20251125T190000
DTSTAMP:20260425T123737
CREATED:20250114T152617Z
LAST-MODIFIED:20251124T141345Z
UID:12175-1764097200-1764097200@www.califonboro.org
SUMMARY:Cancelled - Planning Board Meeting
DESCRIPTION:
URL:https://www.califonboro.org/event/planning-board-meeting-13/
LOCATION:NJ
CATEGORIES:Califon Events,Main Calendar
END:VEVENT
BEGIN:VEVENT
DTSTART;TZID=America/New_York:20251119T190000
DTEND;TZID=America/New_York:20251119T210000
DTSTAMP:20260425T123737
CREATED:20250922T201850Z
LAST-MODIFIED:20250922T201850Z
UID:13056-1763578800-1763586000@www.califonboro.org
SUMMARY:Califon School Board of Education Meeting
DESCRIPTION:Please check the school website for any cancellations or changes at www.califonschool.org \n 
URL:https://www.califonboro.org/event/califon-school-board-of-education-meeting-2/
LOCATION:Califon School
CATEGORIES:Main Calendar
END:VEVENT
BEGIN:VEVENT
DTSTART;TZID=America/New_York:20251118T190000
DTEND;TZID=America/New_York:20251118T200000
DTSTAMP:20260425T123737
CREATED:20250113T185334Z
LAST-MODIFIED:20251020T125437Z
UID:12149-1763492400-1763496000@www.califonboro.org
SUMMARY:New Date - Environmental Commission Meeting
DESCRIPTION:
URL:https://www.califonboro.org/event/environmental-commission-meeting-37/
LOCATION:NJ
CATEGORIES:Califon Events,Main Calendar
END:VEVENT
BEGIN:VEVENT
DTSTART;TZID=America/New_York:20251112T180000
DTEND;TZID=America/New_York:20251112T190000
DTSTAMP:20260425T123737
CREATED:20250114T153854Z
LAST-MODIFIED:20251106T004320Z
UID:12211-1762970400-1762974000@www.califonboro.org
SUMMARY:PARC Meeting- New time 6:00 PM
DESCRIPTION:
URL:https://www.califonboro.org/event/parc-meeting-20/
LOCATION:NJ
CATEGORIES:Califon Events,Main Calendar
END:VEVENT
BEGIN:VEVENT
DTSTART;TZID=America/New_York:20251110T190000
DTEND;TZID=America/New_York:20251110T210000
DTSTAMP:20260425T123737
CREATED:20250113T181627Z
LAST-MODIFIED:20250113T181627Z
UID:12122-1762801200-1762808400@www.califonboro.org
SUMMARY:Council Meeting
DESCRIPTION:
URL:https://www.califonboro.org/event/council-meeting-90/
LOCATION:NJ
CATEGORIES:Califon Events,Main Calendar
END:VEVENT
BEGIN:VEVENT
DTSTART;TZID=America/New_York:20251105T190000
DTEND;TZID=America/New_York:20251105T200000
DTSTAMP:20260425T123737
CREATED:20250114T153308Z
LAST-MODIFIED:20251103T164436Z
UID:12191-1762369200-1762372800@www.califonboro.org
SUMMARY:CANCELLED-Board of Health Meeting
DESCRIPTION:
URL:https://www.califonboro.org/event/board-of-health-meeting-10/
LOCATION:NJ
CATEGORIES:Califon Events,Main Calendar
END:VEVENT
BEGIN:VEVENT
DTSTART;TZID=America/New_York:20251104T060000
DTEND;TZID=America/New_York:20251104T200000
DTSTAMP:20260425T123737
CREATED:20251103T170344Z
LAST-MODIFIED:20251103T170518Z
UID:13191-1762236000-1762286400@www.califonboro.org
SUMMARY:ELECTION DAY- Polls open from 6:00 am to 8:00 pm
DESCRIPTION:
URL:https://www.califonboro.org/event/election-day-polls-open-from-600-am-to-800-pm/
LOCATION:Municipal Building\, 39 Academy Street\, Califon\, NJ\, 07830\, United States
END:VEVENT
END:VCALENDAR