BEGIN:VCALENDAR
VERSION:2.0
PRODID:-//Califon, New Jersey - ECPv6.13.2.1//NONSGML v1.0//EN
CALSCALE:GREGORIAN
METHOD:PUBLISH
X-ORIGINAL-URL:https://www.califonboro.org
X-WR-CALDESC:Events for Califon, New Jersey
REFRESH-INTERVAL;VALUE=DURATION:PT1H
X-Robots-Tag:noindex
X-PUBLISHED-TTL:PT1H
BEGIN:VTIMEZONE
TZID:America/New_York
BEGIN:DAYLIGHT
TZOFFSETFROM:-0500
TZOFFSETTO:-0400
TZNAME:EDT
DTSTART:20260308T070000
END:DAYLIGHT
BEGIN:STANDARD
TZOFFSETFROM:-0400
TZOFFSETTO:-0500
TZNAME:EST
DTSTART:20261101T060000
END:STANDARD
BEGIN:DAYLIGHT
TZOFFSETFROM:-0500
TZOFFSETTO:-0400
TZNAME:EDT
DTSTART:20270314T070000
END:DAYLIGHT
BEGIN:STANDARD
TZOFFSETFROM:-0400
TZOFFSETTO:-0500
TZNAME:EST
DTSTART:20271107T060000
END:STANDARD
END:VTIMEZONE
BEGIN:VEVENT
DTSTART;TZID=America/New_York:20261013T190000
DTEND;TZID=America/New_York:20261013T210000
DTSTAMP:20260425T091603
CREATED:20260319T141206Z
LAST-MODIFIED:20260319T141206Z
UID:13683-1791918000-1791925200@www.califonboro.org
SUMMARY:Environmental Commission Meeting
DESCRIPTION:
URL:https://www.califonboro.org/event/environmental-commission-meeting-42/
LOCATION:Municipal Building\, 39 Academy Street\, Califon\, NJ\, 07830\, United States
CATEGORIES:Califon Environmental Commission
END:VEVENT
BEGIN:VEVENT
DTSTART;TZID=America/New_York:20261020T190000
DTEND;TZID=America/New_York:20261020T210000
DTSTAMP:20260425T091603
CREATED:20260106T171656Z
LAST-MODIFIED:20260106T171656Z
UID:13374-1792522800-1792530000@www.califonboro.org
SUMMARY:Council Meeting
DESCRIPTION:
URL:https://www.califonboro.org/event/council-meeting-108/
LOCATION:Municipal Building\, 39 Academy Street\, Califon\, NJ\, 07830\, United States
CATEGORIES:Main Calendar
END:VEVENT
BEGIN:VEVENT
DTSTART;TZID=America/New_York:20261021T080000
DTEND;TZID=America/New_York:20261021T170000
DTSTAMP:20260425T091603
CREATED:20260316T124012Z
LAST-MODIFIED:20260316T124012Z
UID:13570-1792569600-1792602000@www.califonboro.org
SUMMARY:Planning/Zoning Board Meeting
DESCRIPTION:
URL:https://www.califonboro.org/event/planning-zoning-board-meeting-28/
LOCATION:Municipal Building\, 39 Academy Street\, Califon\, NJ\, 07830\, United States
CATEGORIES:Main Calendar,Planning/Zoning
END:VEVENT
BEGIN:VEVENT
DTSTART;TZID=America/New_York:20261027T190000
DTEND;TZID=America/New_York:20261027T210000
DTSTAMP:20260425T091603
CREATED:20260316T122351Z
LAST-MODIFIED:20260316T123403Z
UID:13549-1793127600-1793134800@www.califonboro.org
SUMMARY:PARC Meeting
DESCRIPTION:
URL:https://www.califonboro.org/event/parc-meeting-28/
LOCATION:Municipal Building\, 39 Academy Street\, Califon\, NJ\, 07830\, United States
CATEGORIES:Califon Parks and Recreation Committee,Main Calendar
END:VEVENT
BEGIN:VEVENT
DTSTART;TZID=America/New_York:20261110T190000
DTEND;TZID=America/New_York:20261110T210000
DTSTAMP:20260425T091603
CREATED:20260106T171722Z
LAST-MODIFIED:20260106T171722Z
UID:13376-1794337200-1794344400@www.califonboro.org
SUMMARY:Council Meeting
DESCRIPTION:
URL:https://www.califonboro.org/event/council-meeting-109/
LOCATION:Municipal Building\, 39 Academy Street\, Califon\, NJ\, 07830\, United States
CATEGORIES:Main Calendar
END:VEVENT
BEGIN:VEVENT
DTSTART;TZID=America/New_York:20261124T190000
DTEND;TZID=America/New_York:20261124T210000
DTSTAMP:20260425T091603
CREATED:20260316T122423Z
LAST-MODIFIED:20260316T123342Z
UID:13551-1795546800-1795554000@www.califonboro.org
SUMMARY:PARC Meeting
DESCRIPTION:
URL:https://www.califonboro.org/event/parc-meeting-29/
LOCATION:Municipal Building\, 39 Academy Street\, Califon\, NJ\, 07830\, United States
CATEGORIES:Califon Parks and Recreation Committee,Main Calendar
END:VEVENT
BEGIN:VEVENT
DTSTART;TZID=America/New_York:20261124T190000
DTEND;TZID=America/New_York:20261124T210000
DTSTAMP:20260425T091603
CREATED:20260316T124046Z
LAST-MODIFIED:20260402T160541Z
UID:13572-1795546800-1795554000@www.califonboro.org
SUMMARY:Planning/Zoning Board Meeting
DESCRIPTION:
URL:https://www.califonboro.org/event/planning-zoning-board-meeting-29/
LOCATION:Municipal Building\, 39 Academy Street\, Califon\, NJ\, 07830\, United States
CATEGORIES:Main Calendar,Planning/Zoning
END:VEVENT
BEGIN:VEVENT
DTSTART;TZID=America/New_York:20261201T190000
DTEND;TZID=America/New_York:20261201T210000
DTSTAMP:20260425T091603
CREATED:20260106T171744Z
LAST-MODIFIED:20260106T171744Z
UID:13378-1796151600-1796158800@www.califonboro.org
SUMMARY:Council Meeting
DESCRIPTION:
URL:https://www.califonboro.org/event/council-meeting-110/
LOCATION:Municipal Building\, 39 Academy Street\, Califon\, NJ\, 07830\, United States
CATEGORIES:Main Calendar
END:VEVENT
BEGIN:VEVENT
DTSTART;TZID=America/New_York:20261208T190000
DTEND;TZID=America/New_York:20261208T210000
DTSTAMP:20260425T091603
CREATED:20260319T142254Z
LAST-MODIFIED:20260319T142254Z
UID:13690-1796756400-1796763600@www.califonboro.org
SUMMARY:Environmental Commission Meeting
DESCRIPTION:
URL:https://www.califonboro.org/event/environmental-commission-meeting-43/
LOCATION:Municipal Building\, 39 Academy Street\, Califon\, NJ\, 07830\, United States
CATEGORIES:Califon Environmental Commission
END:VEVENT
BEGIN:VEVENT
DTSTART;TZID=America/New_York:20261215T190000
DTEND;TZID=America/New_York:20261215T210000
DTSTAMP:20260425T091603
CREATED:20260106T171809Z
LAST-MODIFIED:20260106T171809Z
UID:13380-1797361200-1797368400@www.califonboro.org
SUMMARY:Council Meeting
DESCRIPTION:
URL:https://www.califonboro.org/event/council-meeting-111/
LOCATION:Municipal Building\, 39 Academy Street\, Califon\, NJ\, 07830\, United States
CATEGORIES:Main Calendar
END:VEVENT
BEGIN:VEVENT
DTSTART;TZID=America/New_York:20261222T190000
DTEND;TZID=America/New_York:20261222T210000
DTSTAMP:20260425T091603
CREATED:20260316T122451Z
LAST-MODIFIED:20260316T123150Z
UID:13553-1797966000-1797973200@www.califonboro.org
SUMMARY:PARC Meeting
DESCRIPTION:
URL:https://www.califonboro.org/event/parc-meeting-30/
LOCATION:Municipal Building\, 39 Academy Street\, Califon\, NJ\, 07830\, United States
CATEGORIES:Califon Parks and Recreation Committee,Main Calendar
END:VEVENT
BEGIN:VEVENT
DTSTART;TZID=America/New_York:20261222T190000
DTEND;TZID=America/New_York:20261222T210000
DTSTAMP:20260425T091603
CREATED:20260316T124116Z
LAST-MODIFIED:20260402T160618Z
UID:13574-1797966000-1797973200@www.califonboro.org
SUMMARY:Planning/Zoning Board Meeting
DESCRIPTION:
URL:https://www.califonboro.org/event/planning-zoning-board-meeting-30/
LOCATION:Municipal Building\, 39 Academy Street\, Califon\, NJ\, 07830\, United States
CATEGORIES:Main Calendar,Planning/Zoning
END:VEVENT
BEGIN:VEVENT
DTSTART;TZID=America/New_York:20270105T190000
DTEND;TZID=America/New_York:20270105T210000
DTSTAMP:20260425T091603
CREATED:20260106T171842Z
LAST-MODIFIED:20260106T171842Z
UID:13382-1799175600-1799182800@www.califonboro.org
SUMMARY:Council Annual Reorganization Meeting
DESCRIPTION:
URL:https://www.califonboro.org/event/council-annual-reorganization-meeting/
LOCATION:Municipal Building\, 39 Academy Street\, Califon\, NJ\, 07830\, United States
CATEGORIES:Main Calendar
END:VEVENT
BEGIN:VEVENT
DTSTART;TZID=America/New_York:20270120T190000
DTEND;TZID=America/New_York:20270120T210000
DTSTAMP:20260425T091603
CREATED:20260316T124156Z
LAST-MODIFIED:20260316T124156Z
UID:13576-1800471600-1800478800@www.califonboro.org
SUMMARY:Planning/Zoning Board Re-Org Meeting
DESCRIPTION:
URL:https://www.califonboro.org/event/planning-zoning-board-re-org-meeting/
LOCATION:Municipal Building\, 39 Academy Street\, Califon\, NJ\, 07830\, United States
CATEGORIES:Main Calendar,Planning/Zoning
END:VEVENT
END:VCALENDAR