BEGIN:VCALENDAR
VERSION:2.0
PRODID:-//Califon, New Jersey - ECPv6.13.2.1//NONSGML v1.0//EN
CALSCALE:GREGORIAN
METHOD:PUBLISH
X-WR-CALNAME:Califon, New Jersey
X-ORIGINAL-URL:https://www.califonboro.org
X-WR-CALDESC:Events for Califon, New Jersey
REFRESH-INTERVAL;VALUE=DURATION:PT1H
X-Robots-Tag:noindex
X-PUBLISHED-TTL:PT1H
BEGIN:VTIMEZONE
TZID:America/New_York
BEGIN:DAYLIGHT
TZOFFSETFROM:-0500
TZOFFSETTO:-0400
TZNAME:EDT
DTSTART:20250309T070000
END:DAYLIGHT
BEGIN:STANDARD
TZOFFSETFROM:-0400
TZOFFSETTO:-0500
TZNAME:EST
DTSTART:20251102T060000
END:STANDARD
END:VTIMEZONE
BEGIN:VEVENT
DTSTART;TZID=America/New_York:20251104T060000
DTEND;TZID=America/New_York:20251104T200000
DTSTAMP:20260425T103823
CREATED:20251103T170344Z
LAST-MODIFIED:20251103T170518Z
UID:13191-1762236000-1762286400@www.califonboro.org
SUMMARY:ELECTION DAY- Polls open from 6:00 am to 8:00 pm
DESCRIPTION:
URL:https://www.califonboro.org/event/election-day-polls-open-from-600-am-to-800-pm/
LOCATION:Municipal Building\, 39 Academy Street\, Califon\, NJ\, 07830\, United States
END:VEVENT
BEGIN:VEVENT
DTSTART;TZID=America/New_York:20251029T190000
DTEND;TZID=America/New_York:20251029T200000
DTSTAMP:20260425T103823
CREATED:20250114T152535Z
LAST-MODIFIED:20250625T125754Z
UID:12173-1761764400-1761768000@www.califonboro.org
SUMMARY:Planning Board Meeting
DESCRIPTION:
URL:https://www.califonboro.org/event/planning-board-meeting-12/
LOCATION:NJ
CATEGORIES:Califon Events,Main Calendar
END:VEVENT
BEGIN:VEVENT
DTSTART;TZID=America/New_York:20251025T120000
DTEND;TZID=America/New_York:20251025T150000
DTSTAMP:20260425T103823
CREATED:20251020T195807Z
LAST-MODIFIED:20251020T195807Z
UID:13140-1761393600-1761404400@www.califonboro.org
SUMMARY:Pavilion Reserved
DESCRIPTION:
URL:https://www.califonboro.org/event/pavilion-reserved-2/
LOCATION:Califon Park Pavillon
CATEGORIES:Island Park Pavilion
END:VEVENT
BEGIN:VEVENT
DTSTART;TZID=America/New_York:20251021T190000
DTEND;TZID=America/New_York:20251021T210000
DTSTAMP:20260425T103823
CREATED:20250113T181540Z
LAST-MODIFIED:20250113T181540Z
UID:12120-1761073200-1761080400@www.califonboro.org
SUMMARY:Council Meeting
DESCRIPTION:
URL:https://www.califonboro.org/event/council-meeting-89/
LOCATION:NJ
CATEGORIES:Califon Events,Main Calendar
END:VEVENT
BEGIN:VEVENT
DTSTART;TZID=America/New_York:20251015T190000
DTEND;TZID=America/New_York:20251015T210000
DTSTAMP:20260425T103823
CREATED:20250922T201425Z
LAST-MODIFIED:20250922T202257Z
UID:13053-1760554800-1760562000@www.califonboro.org
SUMMARY:Califon School Board of Education Meeting
DESCRIPTION:Please check the Califon School website for any cancellations or changes at www.califonschool.org \n 
URL:https://www.califonboro.org/event/califon-school-board-of-education-meeting/
LOCATION:Califon School
CATEGORIES:Main Calendar
END:VEVENT
BEGIN:VEVENT
DTSTART;TZID=America/New_York:20251014T190000
DTEND;TZID=America/New_York:20251014T200000
DTSTAMP:20260425T103823
CREATED:20250113T185219Z
LAST-MODIFIED:20251011T142650Z
UID:12147-1760468400-1760472000@www.califonboro.org
SUMMARY:Cancelled-Environmental Commission Meeting
DESCRIPTION:
URL:https://www.califonboro.org/event/environmental-commission-meeting-36/
LOCATION:NJ
CATEGORIES:Califon Events,Main Calendar
END:VEVENT
BEGIN:VEVENT
DTSTART;VALUE=DATE:20251013
DTEND;VALUE=DATE:20251014
DTSTAMP:20260425T103823
CREATED:20251010T221317Z
LAST-MODIFIED:20251010T221317Z
UID:13103-1760313600-1760399999@www.califonboro.org
SUMMARY:Borough offices closed
DESCRIPTION:
URL:https://www.califonboro.org/event/borough-offices-closed/
LOCATION:NJ
CATEGORIES:Califon Events,Main Calendar
END:VEVENT
BEGIN:VEVENT
DTSTART;TZID=America/New_York:20251012T110000
DTEND;TZID=America/New_York:20251012T160000
DTSTAMP:20260425T103823
CREATED:20250327T184017Z
LAST-MODIFIED:20251011T140822Z
UID:12468-1760266800-1760284800@www.califonboro.org
SUMMARY:CANCELLED-Califon Street Fair
DESCRIPTION:
URL:https://www.califonboro.org/event/califon-street-fair-3/
LOCATION:Main Street Califon\, Califon\, NJ\, 07830
CATEGORIES:Califon Events,Califon Parks and Recreation Committee,Main Calendar
END:VEVENT
BEGIN:VEVENT
DTSTART;TZID=America/New_York:20251007T190000
DTEND;TZID=America/New_York:20251007T210000
DTSTAMP:20260425T103823
CREATED:20250113T181508Z
LAST-MODIFIED:20250113T181508Z
UID:12118-1759863600-1759870800@www.califonboro.org
SUMMARY:Council Meeting
DESCRIPTION:
URL:https://www.califonboro.org/event/council-meeting-88/
LOCATION:NJ
CATEGORIES:Califon Events,Main Calendar
END:VEVENT
BEGIN:VEVENT
DTSTART;TZID=America/New_York:20251007T180000
DTEND;TZID=America/New_York:20251007T190000
DTSTAMP:20260425T103823
CREATED:20250114T153749Z
LAST-MODIFIED:20251001T215748Z
UID:12209-1759860000-1759863600@www.califonboro.org
SUMMARY:PARC Meeting - Rescheduled date
DESCRIPTION:
URL:https://www.califonboro.org/event/parc-meeting-19/
LOCATION:NJ
CATEGORIES:Califon Events,Main Calendar
END:VEVENT
BEGIN:VEVENT
DTSTART;TZID=America/New_York:20251005T093000
DTEND;TZID=America/New_York:20251005T130000
DTSTAMP:20260425T103823
CREATED:20250908T181106Z
LAST-MODIFIED:20250908T183000Z
UID:13004-1759656600-1759669200@www.califonboro.org
SUMMARY:Pavilion reserved
DESCRIPTION:
URL:https://www.califonboro.org/event/pavilion-reserved-930am-1pm/
LOCATION:NJ
CATEGORIES:Califon Parks and Recreation Committee,Island Park Pavilion
END:VEVENT
BEGIN:VEVENT
DTSTART;TZID=America/New_York:20250928T120000
DTEND;TZID=America/New_York:20250928T170000
DTSTAMP:20260425T103823
CREATED:20250715T145004Z
LAST-MODIFIED:20250715T145004Z
UID:12789-1759060800-1759078800@www.califonboro.org
SUMMARY:Old Timers' Baseball Game - pavilion and ball field reserved
DESCRIPTION:
URL:https://www.califonboro.org/event/old-timers-baseball-game-pavilion-and-ball-field-reserved/
LOCATION:NJ
CATEGORIES:Califon Events,Califon Parks and Recreation Committee,Island Park Pavilion,Main Calendar
END:VEVENT
BEGIN:VEVENT
DTSTART;TZID=America/New_York:20250922T190000
DTEND;TZID=America/New_York:20250922T200000
DTSTAMP:20260425T103823
CREATED:20250903T180112Z
LAST-MODIFIED:20250903T180112Z
UID:12989-1758567600-1758571200@www.califonboro.org
SUMMARY:PARC Meeting
DESCRIPTION:
URL:https://www.califonboro.org/event/parc-meeting-16/
LOCATION:Municipal Building\, 39 Academy Street\, Califon\, NJ\, 07830\, United States
CATEGORIES:Califon Parks and Recreation Committee
END:VEVENT
BEGIN:VEVENT
DTSTART;TZID=America/New_York:20250920T080000
DTEND;TZID=America/New_York:20250920T140000
DTSTAMP:20260425T103823
CREATED:20250715T154748Z
LAST-MODIFIED:20250715T155658Z
UID:12793-1758355200-1758376800@www.califonboro.org
SUMMARY:11th Annual Califon Classic Car Show - all fields in use - rain date 9/21/2025
DESCRIPTION:11th Annual Califon Classic Car Show flyer \n \nLink to register for 11th Annual Califon Classic Car Show
URL:https://www.califonboro.org/event/11th-annual-califon-classic-car-show-all-fields-in-use-rain-date-9-21-2025/
LOCATION:Califon Island Park
CATEGORIES:Califon Events,Califon Parks and Recreation Committee,Friends of Califon Island Park,Island Park Pavilion,Main Calendar
ORGANIZER;CN="Califon Car Show":MAILTO:califoncarshow@gmail.com
END:VEVENT
BEGIN:VEVENT
DTSTART;TZID=America/New_York:20250917T190000
DTEND;TZID=America/New_York:20250917T200000
DTSTAMP:20260425T103823
CREATED:20250114T152453Z
LAST-MODIFIED:20250114T152453Z
UID:12171-1758135600-1758139200@www.califonboro.org
SUMMARY:Planning Board Meeting
DESCRIPTION:
URL:https://www.califonboro.org/event/planning-board-meeting-11/
LOCATION:NJ
CATEGORIES:Califon Events,Main Calendar
END:VEVENT
BEGIN:VEVENT
DTSTART;TZID=America/New_York:20250916T190000
DTEND;TZID=America/New_York:20250916T210000
DTSTAMP:20260425T103823
CREATED:20250113T181439Z
LAST-MODIFIED:20250113T181439Z
UID:12116-1758049200-1758056400@www.califonboro.org
SUMMARY:Council Meeting
DESCRIPTION:
URL:https://www.califonboro.org/event/council-meeting-87/
LOCATION:NJ
CATEGORIES:Califon Events,Main Calendar
END:VEVENT
BEGIN:VEVENT
DTSTART;TZID=America/New_York:20250910T190000
DTEND;TZID=America/New_York:20250910T200000
DTSTAMP:20260425T103823
CREATED:20250114T153727Z
LAST-MODIFIED:20250903T175900Z
UID:12207-1757530800-1757534400@www.califonboro.org
SUMMARY:CANCELLED - PARC Meeting
DESCRIPTION:
URL:https://www.califonboro.org/event/parc-meeting-18/
LOCATION:NJ
CATEGORIES:Califon Events,Main Calendar
END:VEVENT
BEGIN:VEVENT
DTSTART;TZID=America/New_York:20250909T190000
DTEND;TZID=America/New_York:20250909T200000
DTSTAMP:20260425T103823
CREATED:20250113T183110Z
LAST-MODIFIED:20250113T183110Z
UID:12145-1757444400-1757448000@www.califonboro.org
SUMMARY:Environmental Commission Meeting
DESCRIPTION:
URL:https://www.califonboro.org/event/environmental-commission-meeting-35/
LOCATION:NJ
CATEGORIES:Califon Events,Main Calendar
END:VEVENT
BEGIN:VEVENT
DTSTART;TZID=America/New_York:20250903T190000
DTEND;TZID=America/New_York:20250903T200000
DTSTAMP:20260425T103823
CREATED:20250114T153228Z
LAST-MODIFIED:20250114T153228Z
UID:12189-1756926000-1756929600@www.califonboro.org
SUMMARY:Board of Health Meeting
DESCRIPTION:
URL:https://www.califonboro.org/event/board-of-health-meeting-9/
LOCATION:NJ
CATEGORIES:Califon Events,Main Calendar
END:VEVENT
BEGIN:VEVENT
DTSTART;TZID=America/New_York:20250902T190000
DTEND;TZID=America/New_York:20250902T210000
DTSTAMP:20260425T103823
CREATED:20250113T181413Z
LAST-MODIFIED:20250113T181413Z
UID:12114-1756839600-1756846800@www.califonboro.org
SUMMARY:Council Meeting
DESCRIPTION:
URL:https://www.califonboro.org/event/council-meeting-86/
LOCATION:NJ
CATEGORIES:Califon Events,Main Calendar
END:VEVENT
BEGIN:VEVENT
DTSTART;TZID=America/New_York:20250827T190000
DTEND;TZID=America/New_York:20250827T200000
DTSTAMP:20260425T103823
CREATED:20250812T160102Z
LAST-MODIFIED:20250812T160524Z
UID:12905-1756321200-1756324800@www.califonboro.org
SUMMARY:PARC Meeting - Street Fair Discussion
DESCRIPTION:
URL:https://www.califonboro.org/event/parc-meeting-street-fair-discussion/
LOCATION:Municipal Building\, 39 Academy Street\, Califon\, NJ\, 07830\, United States
CATEGORIES:Califon Events,Califon Parks and Recreation Committee,Main Calendar
END:VEVENT
BEGIN:VEVENT
DTSTART;TZID=America/New_York:20250824T100000
DTEND;TZID=America/New_York:20250824T150000
DTSTAMP:20260425T103823
CREATED:20250715T141536Z
LAST-MODIFIED:20250715T141536Z
UID:12787-1756029600-1756047600@www.califonboro.org
SUMMARY:Pavilion reserved - playground and basketball court in use
DESCRIPTION:
URL:https://www.califonboro.org/event/pavilion-reserved-playground-and-basketball-court-in-use/
LOCATION:NJ
CATEGORIES:Califon Parks and Recreation Committee,Island Park Pavilion
END:VEVENT
BEGIN:VEVENT
DTSTART;TZID=America/New_York:20250820T193000
DTEND;TZID=America/New_York:20250820T213000
DTSTAMP:20260425T103823
CREATED:20250413T202031Z
LAST-MODIFIED:20250521T164520Z
UID:12526-1755718200-1755725400@www.califonboro.org
SUMMARY:Historical Society Meeting
DESCRIPTION:
URL:https://www.califonboro.org/event/historical-society-meeting-9/
LOCATION:Cabin by the River\, United States
CATEGORIES:Califon Events,Main Calendar
END:VEVENT
BEGIN:VEVENT
DTSTART;TZID=America/New_York:20250820T190000
DTEND;TZID=America/New_York:20250820T200000
DTSTAMP:20260425T103823
CREATED:20250114T152432Z
LAST-MODIFIED:20250114T152432Z
UID:12169-1755716400-1755720000@www.califonboro.org
SUMMARY:Planning Board Meeting
DESCRIPTION:
URL:https://www.califonboro.org/event/planning-board-meeting-10/
LOCATION:NJ
CATEGORIES:Califon Events,Main Calendar
END:VEVENT
BEGIN:VEVENT
DTSTART;TZID=America/New_York:20250819T193000
DTEND;TZID=America/New_York:20250819T213000
DTSTAMP:20260425T103823
CREATED:20250522T115346Z
LAST-MODIFIED:20250522T115346Z
UID:12629-1755631800-1755639000@www.califonboro.org
SUMMARY:Historical Society Meeting
DESCRIPTION:
URL:https://www.califonboro.org/event/historical-society-meeting-10/
LOCATION:Cabin by the River\, United States
END:VEVENT
BEGIN:VEVENT
DTSTART;TZID=America/New_York:20250819T190000
DTEND;TZID=America/New_York:20250819T210000
DTSTAMP:20260425T103823
CREATED:20250113T181344Z
LAST-MODIFIED:20250113T181344Z
UID:12112-1755630000-1755637200@www.califonboro.org
SUMMARY:Council Meeting
DESCRIPTION:
URL:https://www.califonboro.org/event/council-meeting-85/
LOCATION:NJ
CATEGORIES:Califon Events,Main Calendar
END:VEVENT
BEGIN:VEVENT
DTSTART;TZID=America/New_York:20250817T140000
DTEND;TZID=America/New_York:20250817T160000
DTSTAMP:20260425T103823
CREATED:20250522T115304Z
LAST-MODIFIED:20250522T115310Z
UID:12626-1755439200-1755446400@www.califonboro.org
SUMMARY:Cabin/Hoffman House Open
DESCRIPTION:
URL:https://www.califonboro.org/event/cabin-hoffman-house-ope/
LOCATION:Cabin by the River\, United States
CATEGORIES:Main Calendar
END:VEVENT
BEGIN:VEVENT
DTSTART;TZID=America/New_York:20250817T140000
DTEND;TZID=America/New_York:20250817T160000
DTSTAMP:20260425T103823
CREATED:20250413T201953Z
LAST-MODIFIED:20250413T201953Z
UID:12524-1755439200-1755446400@www.califonboro.org
SUMMARY:Cabin/Hoffman House Open
DESCRIPTION:
URL:https://www.califonboro.org/event/cabin-hoffman-house-open-7/
LOCATION:Cabin by the River\, United States
END:VEVENT
BEGIN:VEVENT
DTSTART;TZID=America/New_York:20250817T100000
DTEND;TZID=America/New_York:20250817T120000
DTSTAMP:20260425T103823
CREATED:20250813T180611Z
LAST-MODIFIED:20250813T180611Z
UID:12913-1755424800-1755432000@www.califonboro.org
SUMMARY:ROCK THE PARK!
DESCRIPTION:
URL:https://www.califonboro.org/event/rock-the-park/
LOCATION:Califon Island Park
CATEGORIES:Califon Events,Califon Fire Company,Califon First Aid Squad,Califon Parks and Recreation Committee,Island Park Pavilion,Main Calendar
END:VEVENT
BEGIN:VEVENT
DTSTART;TZID=America/New_York:20250813T190000
DTEND;TZID=America/New_York:20250813T200000
DTSTAMP:20260425T103823
CREATED:20250114T153704Z
LAST-MODIFIED:20250811T190527Z
UID:12205-1755111600-1755115200@www.califonboro.org
SUMMARY:PARC Meeting - CANCELLED
DESCRIPTION:
URL:https://www.califonboro.org/event/parc-meeting-17/
LOCATION:NJ
CATEGORIES:Califon Events,Main Calendar
END:VEVENT
END:VCALENDAR