BEGIN:VCALENDAR
VERSION:2.0
PRODID:-//Califon, New Jersey - ECPv6.13.2.1//NONSGML v1.0//EN
CALSCALE:GREGORIAN
METHOD:PUBLISH
X-WR-CALNAME:Califon, New Jersey
X-ORIGINAL-URL:https://www.califonboro.org
X-WR-CALDESC:Events for Califon, New Jersey
REFRESH-INTERVAL;VALUE=DURATION:PT1H
X-Robots-Tag:noindex
X-PUBLISHED-TTL:PT1H
BEGIN:VTIMEZONE
TZID:America/New_York
BEGIN:DAYLIGHT
TZOFFSETFROM:-0500
TZOFFSETTO:-0400
TZNAME:EDT
DTSTART:20260308T070000
END:DAYLIGHT
BEGIN:STANDARD
TZOFFSETFROM:-0400
TZOFFSETTO:-0500
TZNAME:EST
DTSTART:20261101T060000
END:STANDARD
END:VTIMEZONE
BEGIN:VEVENT
DTSTART;TZID=America/New_York:20260629T170000
DTEND;TZID=America/New_York:20260630T193000
DTSTAMP:20260425T073438
CREATED:20260318T135959Z
LAST-MODIFIED:20260318T135959Z
UID:13630-1782752400-1782847800@www.califonboro.org
SUMMARY:LTAA Softball
DESCRIPTION:
URL:https://www.califonboro.org/event/ltaa-softball-16/
LOCATION:Califon Island Park
CATEGORIES:Island Park Pavilion
END:VEVENT
BEGIN:VEVENT
DTSTART;TZID=America/New_York:20260627T080000
DTEND;TZID=America/New_York:20260627T170000
DTSTAMP:20260425T073438
CREATED:20260318T141139Z
LAST-MODIFIED:20260318T141139Z
UID:13656-1782547200-1782579600@www.califonboro.org
SUMMARY:LTAA Softball
DESCRIPTION:
URL:https://www.califonboro.org/event/ltaa-softball-27/
LOCATION:Califon Island Park
CATEGORIES:Island Park Pavilion
END:VEVENT
BEGIN:VEVENT
DTSTART;TZID=America/New_York:20260623T080000
DTEND;TZID=America/New_York:20260623T170000
DTSTAMP:20260425T073438
CREATED:20260316T122152Z
LAST-MODIFIED:20260316T122747Z
UID:13541-1782201600-1782234000@www.califonboro.org
SUMMARY:PARC Meeting
DESCRIPTION:
URL:https://www.califonboro.org/event/parc-meeting-24/
LOCATION:Municipal Building\, 39 Academy Street\, Califon\, NJ\, 07830\, United States
CATEGORIES:Califon Parks and Recreation Committee,Main Calendar
END:VEVENT
BEGIN:VEVENT
DTSTART;TZID=America/New_York:20260622T170000
DTEND;TZID=America/New_York:20260626T193000
DTSTAMP:20260425T073438
CREATED:20260318T135901Z
LAST-MODIFIED:20260318T140342Z
UID:13628-1782147600-1782502200@www.califonboro.org
SUMMARY:LTAA Softball
DESCRIPTION:
URL:https://www.califonboro.org/event/ltaa-softball-15/
LOCATION:Califon Island Park
CATEGORIES:Island Park Pavilion
END:VEVENT
BEGIN:VEVENT
DTSTART;TZID=America/New_York:20260620T080000
DTEND;TZID=America/New_York:20260620T170000
DTSTAMP:20260425T073438
CREATED:20260318T140947Z
LAST-MODIFIED:20260318T140947Z
UID:13650-1781942400-1781974800@www.califonboro.org
SUMMARY:LTAA Softball
DESCRIPTION:
URL:https://www.califonboro.org/event/ltaa-softball-25/
LOCATION:Califon Island Park
CATEGORIES:Island Park Pavilion
END:VEVENT
BEGIN:VEVENT
DTSTART;TZID=America/New_York:20260617T190000
DTEND;TZID=America/New_York:20260617T210000
DTSTAMP:20260425T073438
CREATED:20260316T123318Z
LAST-MODIFIED:20260316T123318Z
UID:13561-1781722800-1781730000@www.califonboro.org
SUMMARY:Planning/Zoning Board Meeting
DESCRIPTION:
URL:https://www.califonboro.org/event/planning-zoning-board-meeting-24/
LOCATION:Municipal Building\, 39 Academy Street\, Califon\, NJ\, 07830\, United States
CATEGORIES:Main Calendar,Planning/Zoning
END:VEVENT
BEGIN:VEVENT
DTSTART;TZID=America/New_York:20260616T190000
DTEND;TZID=America/New_York:20260616T210000
DTSTAMP:20260425T073438
CREATED:20260106T171407Z
LAST-MODIFIED:20260106T171407Z
UID:13362-1781636400-1781643600@www.califonboro.org
SUMMARY:Council Meeting
DESCRIPTION:
URL:https://www.califonboro.org/event/council-meeting-102/
LOCATION:Municipal Building\, 39 Academy Street\, Califon\, NJ\, 07830\, United States
CATEGORIES:Main Calendar
END:VEVENT
BEGIN:VEVENT
DTSTART;TZID=America/New_York:20260615T170000
DTEND;TZID=America/New_York:20260619T193000
DTSTAMP:20260425T073438
CREATED:20260318T135829Z
LAST-MODIFIED:20260318T135829Z
UID:13626-1781542800-1781897400@www.califonboro.org
SUMMARY:LTAA Softball
DESCRIPTION:
URL:https://www.califonboro.org/event/ltaa-softball-14/
LOCATION:Califon Island Park
CATEGORIES:Island Park Pavilion
END:VEVENT
BEGIN:VEVENT
DTSTART;TZID=America/New_York:20260613T080000
DTEND;TZID=America/New_York:20260613T170000
DTSTAMP:20260425T073438
CREATED:20260318T141113Z
LAST-MODIFIED:20260318T141113Z
UID:13654-1781337600-1781370000@www.califonboro.org
SUMMARY:LTAA Softball
DESCRIPTION:
URL:https://www.califonboro.org/event/ltaa-softball-26/
LOCATION:Califon Island Park
CATEGORIES:Island Park Pavilion
END:VEVENT
BEGIN:VEVENT
DTSTART;TZID=America/New_York:20260610T110000
DTEND;TZID=America/New_York:20260610T133000
DTSTAMP:20260425T073438
CREATED:20260317T150441Z
LAST-MODIFIED:20260317T150441Z
UID:13592-1781089200-1781098200@www.califonboro.org
SUMMARY:Tewksbury Elementary School - Preschool Picnic
DESCRIPTION:
URL:https://www.califonboro.org/event/tewksbury-elementary-school-preschool-picnic/
LOCATION:Califon Park Pavillon
CATEGORIES:Island Park Pavilion
END:VEVENT
BEGIN:VEVENT
DTSTART;TZID=America/New_York:20260609T190000
DTEND;TZID=America/New_York:20260609T210000
DTSTAMP:20260425T073438
CREATED:20260319T135557Z
LAST-MODIFIED:20260319T135557Z
UID:13678-1781031600-1781038800@www.califonboro.org
SUMMARY:Environmental Commission Meeting
DESCRIPTION:
URL:https://www.califonboro.org/event/environmental-commission-meeting-40/
LOCATION:Municipal Building\, 39 Academy Street\, Califon\, NJ\, 07830\, United States
CATEGORIES:Califon Environmental Commission
END:VEVENT
BEGIN:VEVENT
DTSTART;TZID=America/New_York:20260608T170000
DTEND;TZID=America/New_York:20260612T193000
DTSTAMP:20260425T073438
CREATED:20260318T135749Z
LAST-MODIFIED:20260318T135749Z
UID:13624-1780938000-1781292600@www.califonboro.org
SUMMARY:LTAA Softball
DESCRIPTION:
URL:https://www.califonboro.org/event/ltaa-softball-13/
LOCATION:Califon Island Park
CATEGORIES:Island Park Pavilion
END:VEVENT
BEGIN:VEVENT
DTSTART;TZID=America/New_York:20260607T070000
DTEND;TZID=America/New_York:20260607T120000
DTSTAMP:20260425T073438
CREATED:20260317T143219Z
LAST-MODIFIED:20260317T143219Z
UID:13590-1780815600-1780833600@www.califonboro.org
SUMMARY:LVPC Service
DESCRIPTION:
URL:https://www.califonboro.org/event/lvpc-service/
LOCATION:Califon Park Pavillon
CATEGORIES:Island Park Pavilion
END:VEVENT
BEGIN:VEVENT
DTSTART;TZID=America/New_York:20260606T090000
DTEND;TZID=America/New_York:20260606T140000
DTSTAMP:20260425T073438
CREATED:20260127T174522Z
LAST-MODIFIED:20260318T141914Z
UID:13415-1780736400-1780754400@www.califonboro.org
SUMMARY:Califon's All Mopar Car Show
DESCRIPTION:
URL:https://www.califonboro.org/event/car-show-2/
LOCATION:Califon Island Park
CATEGORIES:Island Park Pavilion
END:VEVENT
BEGIN:VEVENT
DTSTART;TZID=America/New_York:20260606T080000
DTEND;TZID=America/New_York:20260606T170000
DTSTAMP:20260425T073438
CREATED:20260318T140849Z
LAST-MODIFIED:20260318T140849Z
UID:13648-1780732800-1780765200@www.califonboro.org
SUMMARY:LTAA Softball
DESCRIPTION:
URL:https://www.califonboro.org/event/ltaa-softball-24/
LOCATION:Califon Island Park
CATEGORIES:Island Park Pavilion
END:VEVENT
BEGIN:VEVENT
DTSTART;TZID=America/New_York:20260603T190000
DTEND;TZID=America/New_York:20260603T210000
DTSTAMP:20260425T073438
CREATED:20260316T131729Z
LAST-MODIFIED:20260316T131729Z
UID:13580-1780513200-1780520400@www.califonboro.org
SUMMARY:Board of Health Meeting
DESCRIPTION:
URL:https://www.califonboro.org/event/board-of-health-meeting-11/
LOCATION:Municipal Building\, 39 Academy Street\, Califon\, NJ\, 07830\, United States
CATEGORIES:Board of Health,Main Calendar
END:VEVENT
BEGIN:VEVENT
DTSTART;TZID=America/New_York:20260602T190000
DTEND;TZID=America/New_York:20260602T210000
DTSTAMP:20260425T073438
CREATED:20260106T171342Z
LAST-MODIFIED:20260106T171342Z
UID:13360-1780426800-1780434000@www.califonboro.org
SUMMARY:Council Meeting
DESCRIPTION:
URL:https://www.califonboro.org/event/council-meeting-101/
LOCATION:Municipal Building\, 39 Academy Street\, Califon\, NJ\, 07830\, United States
CATEGORIES:Main Calendar
END:VEVENT
BEGIN:VEVENT
DTSTART;TZID=America/New_York:20260601T170000
DTEND;TZID=America/New_York:20260605T193000
DTSTAMP:20260425T073438
CREATED:20260318T135656Z
LAST-MODIFIED:20260318T135656Z
UID:13622-1780333200-1780687800@www.califonboro.org
SUMMARY:LTAA Softball
DESCRIPTION:
URL:https://www.califonboro.org/event/ltaa-softball-12/
LOCATION:Califon Island Park
CATEGORIES:Island Park Pavilion
END:VEVENT
BEGIN:VEVENT
DTSTART;TZID=America/New_York:20260530T080000
DTEND;TZID=America/New_York:20260530T170000
DTSTAMP:20260425T073438
CREATED:20260318T140822Z
LAST-MODIFIED:20260318T140822Z
UID:13646-1780128000-1780160400@www.califonboro.org
SUMMARY:LTAA Softball
DESCRIPTION:
URL:https://www.califonboro.org/event/ltaa-softball-23/
LOCATION:Califon Island Park
CATEGORIES:Island Park Pavilion
END:VEVENT
BEGIN:VEVENT
DTSTART;TZID=America/New_York:20260526T190000
DTEND;TZID=America/New_York:20260526T210000
DTSTAMP:20260425T073438
CREATED:20260316T122116Z
LAST-MODIFIED:20260316T123552Z
UID:13539-1779822000-1779829200@www.califonboro.org
SUMMARY:PARC Meeting
DESCRIPTION:
URL:https://www.califonboro.org/event/parc-meeting-23/
LOCATION:Municipal Building\, 39 Academy Street\, Califon\, NJ\, 07830\, United States
CATEGORIES:Califon Parks and Recreation Committee,Main Calendar
END:VEVENT
BEGIN:VEVENT
DTSTART;TZID=America/New_York:20260525T170000
DTEND;TZID=America/New_York:20260529T193000
DTSTAMP:20260425T073438
CREATED:20260318T135555Z
LAST-MODIFIED:20260318T135555Z
UID:13620-1779728400-1780083000@www.califonboro.org
SUMMARY:LTAA Softball
DESCRIPTION:
URL:https://www.califonboro.org/event/ltaa-softball-11/
LOCATION:Califon Island Park
CATEGORIES:Island Park Pavilion
END:VEVENT
BEGIN:VEVENT
DTSTART;TZID=America/New_York:20260523T080000
DTEND;TZID=America/New_York:20260523T170000
DTSTAMP:20260425T073438
CREATED:20260318T140751Z
LAST-MODIFIED:20260318T140751Z
UID:13644-1779523200-1779555600@www.califonboro.org
SUMMARY:LTAA Softball
DESCRIPTION:
URL:https://www.califonboro.org/event/ltaa-softball-22/
LOCATION:Califon Island Park
CATEGORIES:Island Park Pavilion
END:VEVENT
BEGIN:VEVENT
DTSTART;TZID=America/New_York:20260520T190000
DTEND;TZID=America/New_York:20260520T210000
DTSTAMP:20260425T073438
CREATED:20260316T123244Z
LAST-MODIFIED:20260316T123817Z
UID:13559-1779303600-1779310800@www.califonboro.org
SUMMARY:Planning/Zoning Board Meeting
DESCRIPTION:
URL:https://www.califonboro.org/event/planning-zoning-board-meeting-23/
LOCATION:Municipal Building\, 39 Academy Street\, Califon\, NJ\, 07830\, United States
CATEGORIES:Main Calendar,Planning/Zoning
END:VEVENT
BEGIN:VEVENT
DTSTART;TZID=America/New_York:20260519T190000
DTEND;TZID=America/New_York:20260519T210000
DTSTAMP:20260425T073438
CREATED:20260106T171315Z
LAST-MODIFIED:20260106T171315Z
UID:13358-1779217200-1779224400@www.califonboro.org
SUMMARY:Council Meeting
DESCRIPTION:
URL:https://www.califonboro.org/event/council-meeting-100/
LOCATION:Municipal Building\, 39 Academy Street\, Califon\, NJ\, 07830\, United States
CATEGORIES:Main Calendar
END:VEVENT
BEGIN:VEVENT
DTSTART;TZID=America/New_York:20260518T170000
DTEND;TZID=America/New_York:20260522T193000
DTSTAMP:20260425T073438
CREATED:20260318T135443Z
LAST-MODIFIED:20260318T135443Z
UID:13618-1779123600-1779478200@www.califonboro.org
SUMMARY:LTAA Softball
DESCRIPTION:
URL:https://www.califonboro.org/event/ltaa-softball-10/
LOCATION:Califon Island Park
CATEGORIES:Island Park Pavilion
END:VEVENT
BEGIN:VEVENT
DTSTART;TZID=America/New_York:20260516T120000
DTEND;TZID=America/New_York:20260516T160000
DTSTAMP:20260425T073438
CREATED:20260319T142313Z
LAST-MODIFIED:20260319T142313Z
UID:13689-1778932800-1778947200@www.califonboro.org
SUMMARY:TROUT FEST 2026
DESCRIPTION:
URL:https://www.califonboro.org/event/trout-fest-2026-2/
LOCATION:Califon Island Park\, Bank Street\, Califon\, 07830
CATEGORIES:Califon Events,Island Park Pavilion
END:VEVENT
BEGIN:VEVENT
DTSTART;TZID=America/New_York:20260516T080000
DTEND;TZID=America/New_York:20260516T170000
DTSTAMP:20260425T073438
CREATED:20260318T140717Z
LAST-MODIFIED:20260318T140717Z
UID:13642-1778918400-1778950800@www.califonboro.org
SUMMARY:LTAA Softball
DESCRIPTION:
URL:https://www.califonboro.org/event/ltaa-softball-21/
LOCATION:Califon Island Park
CATEGORIES:Island Park Pavilion
END:VEVENT
BEGIN:VEVENT
DTSTART;TZID=America/New_York:20260512T190000
DTEND;TZID=America/New_York:20260512T210000
DTSTAMP:20260425T073438
CREATED:20260319T134956Z
LAST-MODIFIED:20260319T134956Z
UID:13676-1778612400-1778619600@www.califonboro.org
SUMMARY:Environmental Commission Meeting
DESCRIPTION:
URL:https://www.califonboro.org/event/environmental-commission-meeting-39/
LOCATION:Municipal Building\, 39 Academy Street\, Califon\, NJ\, 07830\, United States
CATEGORIES:Califon Environmental Commission
END:VEVENT
BEGIN:VEVENT
DTSTART;TZID=America/New_York:20260511T170000
DTEND;TZID=America/New_York:20260515T193000
DTSTAMP:20260425T073438
CREATED:20260318T135351Z
LAST-MODIFIED:20260318T135351Z
UID:13616-1778518800-1778873400@www.califonboro.org
SUMMARY:LTAA Softball
DESCRIPTION:
URL:https://www.califonboro.org/event/ltaa-softball-9/
LOCATION:Califon Island Park
CATEGORIES:Island Park Pavilion
END:VEVENT
BEGIN:VEVENT
DTSTART;TZID=America/New_York:20260509T110000
DTEND;TZID=America/New_York:20260509T130000
DTSTAMP:20260425T073438
CREATED:20260319T142837Z
LAST-MODIFIED:20260319T142837Z
UID:13693-1778324400-1778331600@www.califonboro.org
SUMMARY:Adult Recreation (Baseball Field)
DESCRIPTION:
URL:https://www.califonboro.org/event/adult-recreation-baseball-field/
LOCATION:Califon Island Park
CATEGORIES:Califon Parks and Recreation Committee
END:VEVENT
END:VCALENDAR