BEGIN:VCALENDAR
VERSION:2.0
PRODID:-//Califon, New Jersey - ECPv6.13.2.1//NONSGML v1.0//EN
CALSCALE:GREGORIAN
METHOD:PUBLISH
X-WR-CALNAME:Califon, New Jersey
X-ORIGINAL-URL:https://www.califonboro.org
X-WR-CALDESC:Events for Califon, New Jersey
REFRESH-INTERVAL;VALUE=DURATION:PT1H
X-Robots-Tag:noindex
X-PUBLISHED-TTL:PT1H
BEGIN:VTIMEZONE
TZID:America/New_York
BEGIN:DAYLIGHT
TZOFFSETFROM:-0500
TZOFFSETTO:-0400
TZNAME:EDT
DTSTART:20220313T070000
END:DAYLIGHT
BEGIN:STANDARD
TZOFFSETFROM:-0400
TZOFFSETTO:-0500
TZNAME:EST
DTSTART:20221106T060000
END:STANDARD
BEGIN:DAYLIGHT
TZOFFSETFROM:-0500
TZOFFSETTO:-0400
TZNAME:EDT
DTSTART:20230312T070000
END:DAYLIGHT
BEGIN:STANDARD
TZOFFSETFROM:-0400
TZOFFSETTO:-0500
TZNAME:EST
DTSTART:20231105T060000
END:STANDARD
END:VTIMEZONE
BEGIN:VEVENT
DTSTART;TZID=America/New_York:20230118T190000
DTEND;TZID=America/New_York:20230118T210000
DTSTAMP:20260425T074524
CREATED:20221230T152945Z
LAST-MODIFIED:20221230T152945Z
UID:8900-1674068400-1674075600@www.califonboro.org
SUMMARY:Planning Board Reorg & Regular Meeting Tonight
DESCRIPTION:
URL:https://www.califonboro.org/event/planning-board-reorg-regular-meeting-tonight/
LOCATION:Municipal Building\, 39 Academy Street\, Califon\, NJ\, 07830\, United States
CATEGORIES:Main Calendar,Planning and Zoninig
END:VEVENT
BEGIN:VEVENT
DTSTART;TZID=America/New_York:20221116T193000
DTEND;TZID=America/New_York:20221116T213000
DTSTAMP:20260425T074524
CREATED:20221115T133310Z
LAST-MODIFIED:20221115T133604Z
UID:8739-1668627000-1668634200@www.califonboro.org
SUMMARY:Come to the Planning Board Meeting Tonight
DESCRIPTION:The Califon Planning Board will be reviewing the final draft of the Open Space and Recreation Plan tonight at 7:30pm\, at the Municipal Building. \nResidents are encouraged to attend to learn about this plan and share your thoughts. \nA copy of the Final Draft can be viewed here Califon OSRP Final Draft 11-2-2022
URL:https://www.califonboro.org/event/come-to-the-planning-board-meeting-tonight/
LOCATION:Municipal Building\, 39 Academy Street\, Califon\, NJ\, 07830\, United States
CATEGORIES:Califon Events,Main Calendar,Planning and Zoninig
END:VEVENT
BEGIN:VEVENT
DTSTART;TZID=America/New_York:20221116T193000
DTEND;TZID=America/New_York:20221116T193000
DTSTAMP:20260425T074524
CREATED:20221031T154257Z
LAST-MODIFIED:20221031T154257Z
UID:8684-1668627000-1668627000@www.califonboro.org
SUMMARY:Planning Board Public Hearing Open Space & Recreation Plan
DESCRIPTION:
URL:https://www.califonboro.org/event/planning-board-public-hearing-open-space-recreation-plan/
LOCATION:Municipal Building\, 39 Academy Street\, Califon\, NJ\, 07830\, United States
CATEGORIES:Planning and Zoninig
END:VEVENT
BEGIN:VEVENT
DTSTART;TZID=America/New_York:20220615T193000
DTEND;TZID=America/New_York:20220615T213000
DTSTAMP:20260425T074524
CREATED:20220606T191106Z
LAST-MODIFIED:20220606T191106Z
UID:8108-1655321400-1655328600@www.califonboro.org
SUMMARY:Open Space & Recreation Planning Meeting- Califon Residents Welcome!
DESCRIPTION:
URL:https://www.califonboro.org/event/open-space-recreation-planning-meeting-califon-residents-welcome/
LOCATION:Municipal Building\, 39 Academy Street\, Califon\, NJ\, 07830\, United States
CATEGORIES:Califon Mayor and Council,Califon Parks and Recreation Committee,Environmental Commission,Main Calendar,Planning and Zoninig,Planning/Zoning
END:VEVENT
END:VCALENDAR