BEGIN:VCALENDAR
VERSION:2.0
PRODID:-//Califon, New Jersey - ECPv6.13.2.1//NONSGML v1.0//EN
CALSCALE:GREGORIAN
METHOD:PUBLISH
X-WR-CALNAME:Califon, New Jersey
X-ORIGINAL-URL:https://www.califonboro.org
X-WR-CALDESC:Events for Califon, New Jersey
REFRESH-INTERVAL;VALUE=DURATION:PT1H
X-Robots-Tag:noindex
X-PUBLISHED-TTL:PT1H
BEGIN:VTIMEZONE
TZID:America/New_York
BEGIN:DAYLIGHT
TZOFFSETFROM:-0500
TZOFFSETTO:-0400
TZNAME:EDT
DTSTART:20190310T070000
END:DAYLIGHT
BEGIN:STANDARD
TZOFFSETFROM:-0400
TZOFFSETTO:-0500
TZNAME:EST
DTSTART:20191103T060000
END:STANDARD
BEGIN:DAYLIGHT
TZOFFSETFROM:-0500
TZOFFSETTO:-0400
TZNAME:EDT
DTSTART:20200308T070000
END:DAYLIGHT
BEGIN:STANDARD
TZOFFSETFROM:-0400
TZOFFSETTO:-0500
TZNAME:EST
DTSTART:20201101T060000
END:STANDARD
BEGIN:DAYLIGHT
TZOFFSETFROM:-0500
TZOFFSETTO:-0400
TZNAME:EDT
DTSTART:20210314T070000
END:DAYLIGHT
BEGIN:STANDARD
TZOFFSETFROM:-0400
TZOFFSETTO:-0500
TZNAME:EST
DTSTART:20211107T060000
END:STANDARD
BEGIN:DAYLIGHT
TZOFFSETFROM:-0500
TZOFFSETTO:-0400
TZNAME:EDT
DTSTART:20220313T070000
END:DAYLIGHT
BEGIN:STANDARD
TZOFFSETFROM:-0400
TZOFFSETTO:-0500
TZNAME:EST
DTSTART:20221106T060000
END:STANDARD
BEGIN:DAYLIGHT
TZOFFSETFROM:-0500
TZOFFSETTO:-0400
TZNAME:EDT
DTSTART:20230312T070000
END:DAYLIGHT
BEGIN:STANDARD
TZOFFSETFROM:-0400
TZOFFSETTO:-0500
TZNAME:EST
DTSTART:20231105T060000
END:STANDARD
BEGIN:DAYLIGHT
TZOFFSETFROM:-0500
TZOFFSETTO:-0400
TZNAME:EDT
DTSTART:20240310T070000
END:DAYLIGHT
BEGIN:STANDARD
TZOFFSETFROM:-0400
TZOFFSETTO:-0500
TZNAME:EST
DTSTART:20241103T060000
END:STANDARD
BEGIN:DAYLIGHT
TZOFFSETFROM:-0500
TZOFFSETTO:-0400
TZNAME:EDT
DTSTART:20250309T070000
END:DAYLIGHT
BEGIN:STANDARD
TZOFFSETFROM:-0400
TZOFFSETTO:-0500
TZNAME:EST
DTSTART:20251102T060000
END:STANDARD
END:VTIMEZONE
BEGIN:VEVENT
DTSTART;TZID=America/New_York:20250920T080000
DTEND;TZID=America/New_York:20250920T140000
DTSTAMP:20260425T075752
CREATED:20250715T154748Z
LAST-MODIFIED:20250715T155658Z
UID:12793-1758355200-1758376800@www.califonboro.org
SUMMARY:11th Annual Califon Classic Car Show - all fields in use - rain date 9/21/2025
DESCRIPTION:11th Annual Califon Classic Car Show flyer \n \nLink to register for 11th Annual Califon Classic Car Show
URL:https://www.califonboro.org/event/11th-annual-califon-classic-car-show-all-fields-in-use-rain-date-9-21-2025/
LOCATION:Califon Island Park
CATEGORIES:Califon Events,Califon Parks and Recreation Committee,Friends of Califon Island Park,Island Park Pavilion,Main Calendar
ORGANIZER;CN="Califon Car Show":MAILTO:califoncarshow@gmail.com
END:VEVENT
BEGIN:VEVENT
DTSTART;TZID=America/New_York:20250607T090000
DTEND;TZID=America/New_York:20250607T140000
DTSTAMP:20260425T075752
CREATED:20250227T172418Z
LAST-MODIFIED:20250715T155914Z
UID:12376-1749286800-1749304800@www.califonboro.org
SUMMARY:All MOPAR Show - postponed to rain date of 6/8/2025
DESCRIPTION:
URL:https://www.califonboro.org/event/all-mopar-show/
LOCATION:Califon Island Park\, Bank Street\, Califon\, 07830
CATEGORIES:Califon Events,Califon Parks and Recreation Committee,Friends of Califon Island Park,Island Park Pavilion,Main Calendar
ORGANIZER;CN="Califon Car Show":MAILTO:califoncarshow@gmail.com
END:VEVENT
BEGIN:VEVENT
DTSTART;TZID=America/New_York:20230617T090000
DTEND;TZID=America/New_York:20230617T140000
DTSTAMP:20260425T075752
CREATED:20230118T162720Z
LAST-MODIFIED:20230118T163342Z
UID:9016-1686992400-1687010400@www.califonboro.org
SUMMARY:Califon's All MOPAR Show
DESCRIPTION:Mopar June 2023
URL:https://www.califonboro.org/event/califons-all-mopar-show-2/
LOCATION:Califon Island Park
CATEGORIES:Califon Events,Friends of Califon Island Park,Island Park Pavilion
END:VEVENT
BEGIN:VEVENT
DTSTART;TZID=America/New_York:20230426T170000
DTEND;TZID=America/New_York:20230426T200000
DTSTAMP:20260425T075752
CREATED:20230118T163251Z
LAST-MODIFIED:20230118T163251Z
UID:9023-1682528400-1682539200@www.califonboro.org
SUMMARY:Califon Cruisers - Wednesday Cruise Nights
DESCRIPTION:Cruise Night Wednesday
URL:https://www.califonboro.org/event/califon-cruisers-wednesday-cruise-nights/
LOCATION:Victorian Square Mall
CATEGORIES:Califon Events,Califon Veterans Memorial,Friends of Califon Island Park,Main Calendar
END:VEVENT
BEGIN:VEVENT
DTSTART;TZID=America/New_York:20230131T183000
DTEND;TZID=America/New_York:20230131T200000
DTSTAMP:20260425T075752
CREATED:20230119T151541Z
LAST-MODIFIED:20230119T151541Z
UID:9035-1675189800-1675195200@www.califonboro.org
SUMMARY:Califon Car Show Meeting/Training
DESCRIPTION:
URL:https://www.califonboro.org/event/califon-car-show-meeting-training/
LOCATION:Municipal Building\, 39 Academy Street\, Califon\, NJ\, 07830\, United States
CATEGORIES:Califon Events,Friends of Califon Island Park,Main Calendar
ORGANIZER;CN="Califon Car Show":MAILTO:califoncarshow@gmail.com
END:VEVENT
BEGIN:VEVENT
DTSTART;TZID=America/New_York:20220917T070000
DTEND;TZID=America/New_York:20220917T230000
DTSTAMP:20260425T075752
CREATED:20220629T170428Z
LAST-MODIFIED:20220629T170428Z
UID:8222-1663398000-1663455600@www.califonboro.org
SUMMARY:Bike MS Country Challenge
DESCRIPTION:
URL:https://www.califonboro.org/event/bike-ms-country-challenge/
LOCATION:Borough Streets
CATEGORIES:Califon Events,Friends of Califon Island Park,Main Calendar
END:VEVENT
BEGIN:VEVENT
DTSTART;TZID=America/New_York:20190907T080000
DTEND;TZID=America/New_York:20190907T140000
DTSTAMP:20260425T075752
CREATED:20190820T142537Z
LAST-MODIFIED:20190820T142537Z
UID:4595-1567843200-1567864800@www.califonboro.org
SUMMARY:5th Annual Classic Car Show
DESCRIPTION:Registration starts at 8:00 am \nRain Date: Sunday September 8th
URL:https://www.califonboro.org/event/5th-annual-classic-car-show/
LOCATION:Califon Island Park
CATEGORIES:Friends of Califon Island Park
END:VEVENT
END:VCALENDAR