BEGIN:VCALENDAR
VERSION:2.0
PRODID:-//Califon, New Jersey - ECPv6.13.2.1//NONSGML v1.0//EN
CALSCALE:GREGORIAN
METHOD:PUBLISH
X-WR-CALNAME:Califon, New Jersey
X-ORIGINAL-URL:https://www.califonboro.org
X-WR-CALDESC:Events for Califon, New Jersey
REFRESH-INTERVAL;VALUE=DURATION:PT1H
X-Robots-Tag:noindex
X-PUBLISHED-TTL:PT1H
BEGIN:VTIMEZONE
TZID:America/New_York
BEGIN:DAYLIGHT
TZOFFSETFROM:-0500
TZOFFSETTO:-0400
TZNAME:EDT
DTSTART:20230312T070000
END:DAYLIGHT
BEGIN:STANDARD
TZOFFSETFROM:-0400
TZOFFSETTO:-0500
TZNAME:EST
DTSTART:20231105T060000
END:STANDARD
END:VTIMEZONE
BEGIN:VTIMEZONE
TZID:Europe/London
BEGIN:DAYLIGHT
TZOFFSETFROM:+0000
TZOFFSETTO:+0100
TZNAME:BST
DTSTART:20200329T010000
END:DAYLIGHT
BEGIN:STANDARD
TZOFFSETFROM:+0100
TZOFFSETTO:+0000
TZNAME:GMT
DTSTART:20201025T010000
END:STANDARD
END:VTIMEZONE
BEGIN:VEVENT
DTSTART;TZID=America/New_York:20230426T170000
DTEND;TZID=America/New_York:20230426T200000
DTSTAMP:20260425T215337
CREATED:20230118T163251Z
LAST-MODIFIED:20230118T163251Z
UID:9023-1682528400-1682539200@www.califonboro.org
SUMMARY:Califon Cruisers - Wednesday Cruise Nights
DESCRIPTION:Cruise Night Wednesday
URL:https://www.califonboro.org/event/califon-cruisers-wednesday-cruise-nights/
LOCATION:Victorian Square Mall
CATEGORIES:Califon Events,Califon Veterans Memorial,Friends of Califon Island Park,Main Calendar
END:VEVENT
BEGIN:VEVENT
DTSTART;TZID=Europe/London:20200819T173000
DTEND;TZID=Europe/London:20200819T200000
DTSTAMP:20260425T215337
CREATED:20200615T202454Z
LAST-MODIFIED:20200615T202454Z
UID:5681-1597858200-1597867200@www.califonboro.org
SUMMARY:Califon Cruise Night at Victorian Square Mall
DESCRIPTION:Califon Cruisers presents Wednesday Cruise Night at the Victorian Square Mall in Califon\, NJ. It starts at 5:30 pm to 8:00 pm. Food Available for purchase at Oscar’s and the Brasserie. Come out and enjoy the outdoors\, cars\, good food\, and music and support the Califon Veterans Memorial!
URL:https://www.califonboro.org/event/califon-cruise-night-at-victorian-square-mall-2/
LOCATION:Victorian Square Mall
CATEGORIES:Califon Veterans Memorial
END:VEVENT
BEGIN:VEVENT
DTSTART;TZID=Europe/London:20200812T173000
DTEND;TZID=Europe/London:20200812T200000
DTSTAMP:20260425T215337
CREATED:20200615T202151Z
LAST-MODIFIED:20200615T202151Z
UID:5679-1597253400-1597262400@www.califonboro.org
SUMMARY:Califon Cruise Night at Victorian Square Mall
DESCRIPTION:Califon Cruisers presents Wednesday Cruise Night at the Victorian Square Mall in Califon\, NJ. It starts at 5:30 pm to 8:00 pm. Food Available for purchase at Oscar’s and the Brasserie. Come out and enjoy the outdoors\, cars\, good food\, and music and support the Califon Veterans Memorial!
URL:https://www.califonboro.org/event/califon-cruise-night-at-victorian-square-mall/
LOCATION:Victorian Square Mall
CATEGORIES:Califon Veterans Memorial
END:VEVENT
BEGIN:VEVENT
DTSTART;TZID=Europe/London:20200805T173000
DTEND;TZID=Europe/London:20200805T200000
DTSTAMP:20260425T215337
CREATED:20200615T202020Z
LAST-MODIFIED:20200615T202020Z
UID:5677-1596648600-1596657600@www.califonboro.org
SUMMARY:Califon Cruisers Presents Califon Cruise Night
DESCRIPTION:Califon Cruisers presents Wednesday Cruise Night at the Victorian Square Mall in Califon\, NJ. It starts at 5:30 pm to 8:00 pm. Food Available for purchase at Oscar’s and the Brasserie. Come out and enjoy the outdoors\, cars\, good food and music and support the Califon Veterans Memorial!
URL:https://www.califonboro.org/event/califon-cruisers-presents-califon-cruise-night/
CATEGORIES:Califon Veterans Memorial
END:VEVENT
BEGIN:VEVENT
DTSTART;TZID=Europe/London:20200728T190000
DTEND;TZID=Europe/London:20200728T200000
DTSTAMP:20260425T215337
CREATED:20200623T233120Z
LAST-MODIFIED:20200623T233120Z
UID:5695-1595962800-1595966400@www.califonboro.org
SUMMARY:Car Show Meeting 7:00 Pm @ Municipal Building
DESCRIPTION:
URL:https://www.califonboro.org/event/car-show-meeting-700-pm-municipal-building/
LOCATION:Municipal Building\, 39 Academy Street\, Califon\, NJ\, 07830\, United States
CATEGORIES:Califon Veterans Memorial
END:VEVENT
BEGIN:VEVENT
DTSTART;TZID=Europe/London:20200722T173000
DTEND;TZID=Europe/London:20200722T200000
DTSTAMP:20260425T215337
CREATED:20200615T201913Z
LAST-MODIFIED:20200615T201913Z
UID:5675-1595439000-1595448000@www.califonboro.org
SUMMARY:Califon Cruisers Presents Wednesday Cruise Night
DESCRIPTION:Califon Cruisers presents Wednesday Cruise Night at the Victorian Square Mall in Califon\, NJ. It starts at 5:30 pm to 8:00 pm. Food Available for purchase at Oscar’s and the Brasserie. Come out and enjoy the outdoors\, cars\, good food and music and support the Califon Veterans Memorial!
URL:https://www.califonboro.org/event/califon-cruisers-presents-wednesday-cruise-night-6/
LOCATION:Victorian Square Mall
CATEGORIES:Califon Veterans Memorial
END:VEVENT
BEGIN:VEVENT
DTSTART;TZID=Europe/London:20200708T173000
DTEND;TZID=Europe/London:20200708T200000
DTSTAMP:20260425T215337
CREATED:20200615T201717Z
LAST-MODIFIED:20200615T201717Z
UID:5673-1594229400-1594238400@www.califonboro.org
SUMMARY:Califon Cruisers Presents Wednesday Cruise Night
DESCRIPTION:Califon Cruisers presents Wednesday Cruise Night at the Victorian Square Mall in Califon\, NJ. It starts at 5:30 pm to 8:00 pm. Food Available for purchase at Oscar’s and the Brasserie. Come out and enjoy the outdoors\, cars\, good food\, and music and support the Califon Veterans Memorial!
URL:https://www.califonboro.org/event/califon-cruisers-presents-wednesday-cruise-night-5/
CATEGORIES:Califon Veterans Memorial
END:VEVENT
BEGIN:VEVENT
DTSTART;TZID=Europe/London:20200428T190000
DTEND;TZID=Europe/London:20200428T203000
DTSTAMP:20260425T215337
CREATED:20200317T224754Z
LAST-MODIFIED:20200414T201348Z
UID:5387-1588100400-1588105800@www.califonboro.org
SUMMARY:Car Show Meeting @ 7PM - Rescheduled To May 26th
DESCRIPTION:The committee for the upcoming Califon Car Shows will meet at the Califon Municipal Building at 7 pm. \n 
URL:https://www.califonboro.org/event/car-show-meeting-7pm/
LOCATION:Municipal Building\, 39 Academy Street\, Califon\, NJ\, 07830\, United States
CATEGORIES:Califon Veterans Memorial
END:VEVENT
END:VCALENDAR