BEGIN:VCALENDAR
VERSION:2.0
PRODID:-//Califon, New Jersey - ECPv6.13.2.1//NONSGML v1.0//EN
CALSCALE:GREGORIAN
METHOD:PUBLISH
X-ORIGINAL-URL:https://www.califonboro.org
X-WR-CALDESC:Events for Califon, New Jersey
REFRESH-INTERVAL;VALUE=DURATION:PT1H
X-Robots-Tag:noindex
X-PUBLISHED-TTL:PT1H
BEGIN:VTIMEZONE
TZID:America/New_York
BEGIN:DAYLIGHT
TZOFFSETFROM:-0500
TZOFFSETTO:-0400
TZNAME:EDT
DTSTART:20230312T070000
END:DAYLIGHT
BEGIN:STANDARD
TZOFFSETFROM:-0400
TZOFFSETTO:-0500
TZNAME:EST
DTSTART:20231105T060000
END:STANDARD
END:VTIMEZONE
BEGIN:VEVENT
DTSTART;TZID=America/New_York:20230614T193000
DTEND;TZID=America/New_York:20230614T203000
DTSTAMP:20260425T171348
CREATED:20230531T125429Z
LAST-MODIFIED:20230531T125429Z
UID:9692-1686771000-1686774600@www.califonboro.org
SUMMARY:Califon Troop 192 Flag Retirement Ceremony
DESCRIPTION:
URL:https://www.califonboro.org/event/califon-troop-192-flag-retirement-ceremony/
LOCATION:Califon Park Pavillon
CATEGORIES:Califon Troop 192
END:VEVENT
BEGIN:VEVENT
DTSTART;TZID=America/New_York:20230614T193000
DTEND;TZID=America/New_York:20230614T193000
DTSTAMP:20260425T171348
CREATED:20230531T125929Z
LAST-MODIFIED:20230531T125929Z
UID:9694-1686771000-1686771000@www.califonboro.org
SUMMARY:Califon Troop 192 Flag Retirement Ceremony
DESCRIPTION:
URL:https://www.califonboro.org/event/califon-troop-192-flag-retirement-ceremony-2/
LOCATION:Califon Park Pavillon
CATEGORIES:Califon Events,Califon Troop 192,Island Park Pavilion
END:VEVENT
END:VCALENDAR