BEGIN:VCALENDAR
VERSION:2.0
PRODID:-//Califon, New Jersey - ECPv6.13.2.1//NONSGML v1.0//EN
CALSCALE:GREGORIAN
METHOD:PUBLISH
X-WR-CALNAME:Califon, New Jersey
X-ORIGINAL-URL:https://www.califonboro.org
X-WR-CALDESC:Events for Califon, New Jersey
REFRESH-INTERVAL;VALUE=DURATION:PT1H
X-Robots-Tag:noindex
X-PUBLISHED-TTL:PT1H
BEGIN:VTIMEZONE
TZID:America/New_York
BEGIN:DAYLIGHT
TZOFFSETFROM:-0500
TZOFFSETTO:-0400
TZNAME:EDT
DTSTART:20220313T070000
END:DAYLIGHT
BEGIN:STANDARD
TZOFFSETFROM:-0400
TZOFFSETTO:-0500
TZNAME:EST
DTSTART:20221106T060000
END:STANDARD
BEGIN:DAYLIGHT
TZOFFSETFROM:-0500
TZOFFSETTO:-0400
TZNAME:EDT
DTSTART:20230312T070000
END:DAYLIGHT
BEGIN:STANDARD
TZOFFSETFROM:-0400
TZOFFSETTO:-0500
TZNAME:EST
DTSTART:20231105T060000
END:STANDARD
BEGIN:DAYLIGHT
TZOFFSETFROM:-0500
TZOFFSETTO:-0400
TZNAME:EDT
DTSTART:20240310T070000
END:DAYLIGHT
BEGIN:STANDARD
TZOFFSETFROM:-0400
TZOFFSETTO:-0500
TZNAME:EST
DTSTART:20241103T060000
END:STANDARD
BEGIN:DAYLIGHT
TZOFFSETFROM:-0500
TZOFFSETTO:-0400
TZNAME:EDT
DTSTART:20250309T070000
END:DAYLIGHT
BEGIN:STANDARD
TZOFFSETFROM:-0400
TZOFFSETTO:-0500
TZNAME:EST
DTSTART:20251102T060000
END:STANDARD
END:VTIMEZONE
BEGIN:VTIMEZONE
TZID:Europe/London
BEGIN:DAYLIGHT
TZOFFSETFROM:+0000
TZOFFSETTO:+0100
TZNAME:BST
DTSTART:20220327T010000
END:DAYLIGHT
BEGIN:STANDARD
TZOFFSETFROM:+0100
TZOFFSETTO:+0000
TZNAME:GMT
DTSTART:20221030T010000
END:STANDARD
END:VTIMEZONE
BEGIN:VEVENT
DTSTART;TZID=America/New_York:20250526T110000
DTEND;TZID=America/New_York:20250526T120000
DTSTAMP:20260425T123648
CREATED:20250108T204406Z
LAST-MODIFIED:20250108T204406Z
UID:12080-1748257200-1748260800@www.califonboro.org
SUMMARY:Memorial Day Parade
DESCRIPTION:
URL:https://www.califonboro.org/event/memorial-day-parade-6/
LOCATION:Borough Streets
CATEGORIES:Califon Events,Califon Parks and Recreation Committee,Main Calendar
END:VEVENT
BEGIN:VEVENT
DTSTART;TZID=America/New_York:20250511T080000
DTEND;TZID=America/New_York:20250511T103000
DTSTAMP:20260425T123648
CREATED:20250715T140818Z
LAST-MODIFIED:20250715T140818Z
UID:12783-1746950400-1746959400@www.califonboro.org
SUMMARY:Basketball court reserved - group fitness
DESCRIPTION:
URL:https://www.califonboro.org/event/basketball-court-reserved-group-fitness/
LOCATION:NJ
CATEGORIES:Califon Parks and Recreation Committee,Island Park Pavilion
END:VEVENT
BEGIN:VEVENT
DTSTART;TZID=America/New_York:20250417T130000
DTEND;TZID=America/New_York:20250417T170000
DTSTAMP:20260425T123648
CREATED:20250715T140347Z
LAST-MODIFIED:20250715T140347Z
UID:12781-1744894800-1744909200@www.califonboro.org
SUMMARY:Pavilion reserved
DESCRIPTION:
URL:https://www.califonboro.org/event/pavilion-reserved/
LOCATION:NJ
CATEGORIES:Califon Parks and Recreation Committee,Island Park Pavilion
END:VEVENT
BEGIN:VEVENT
DTSTART;TZID=America/New_York:20250412T140000
DTEND;TZID=America/New_York:20250413T150000
DTSTAMP:20260425T123648
CREATED:20250108T204137Z
LAST-MODIFIED:20250410T122930Z
UID:12078-1744466400-1744556400@www.califonboro.org
SUMMARY:EASTER EGG HUNT
DESCRIPTION:
URL:https://www.califonboro.org/event/easter-egg-hunt-2/
LOCATION:Califon Island Park\, Bank Street\, Califon\, 07830
CATEGORIES:Califon Events,Califon Parks and Recreation Committee,Island Park Pavilion,Main Calendar
END:VEVENT
BEGIN:VEVENT
DTSTART;TZID=America/New_York:20250412T120000
DTEND;TZID=America/New_York:20250412T160000
DTSTAMP:20260425T123648
CREATED:20250327T182257Z
LAST-MODIFIED:20250327T182257Z
UID:12460-1744459200-1744473600@www.califonboro.org
SUMMARY:Trout Fest
DESCRIPTION:https://www.sboutfitters.com/trout-fest-2025
URL:https://www.califonboro.org/event/trout-fest/
LOCATION:Califon Island Park
CATEGORIES:Califon Events,Califon Parks and Recreation Committee,Island Park Pavilion,Main Calendar
END:VEVENT
BEGIN:VEVENT
DTSTART;TZID=America/New_York:20250107T190000
DTEND;TZID=America/New_York:20250107T203000
DTSTAMP:20260425T123648
CREATED:20241217T134615Z
LAST-MODIFIED:20241217T134624Z
UID:12013-1736276400-1736281800@www.califonboro.org
SUMMARY:Califon Parks & Recreation Reorganization Meeting Tonight!
DESCRIPTION:
URL:https://www.califonboro.org/event/califon-parks-recreation-reorganization-meeting-tonight/
LOCATION:Municipal Building\, 39 Academy Street\, Califon\, NJ\, 07830\, United States
CATEGORIES:Califon Events,Califon Parks and Recreation Committee,Main Calendar
END:VEVENT
BEGIN:VEVENT
DTSTART;TZID=America/New_York:20241208T160000
DTEND;TZID=America/New_York:20241208T170000
DTSTAMP:20260425T123648
CREATED:20241112T210258Z
LAST-MODIFIED:20241113T132153Z
UID:11892-1733673600-1733677200@www.califonboro.org
SUMMARY:Tree Lighting in Califon
DESCRIPTION:Click here to download flyer
URL:https://www.califonboro.org/event/tree-lighting-in-califon/
LOCATION:Califon Commons
CATEGORIES:Califon Events,Califon Parks and Recreation Committee,Main Calendar
END:VEVENT
BEGIN:VEVENT
DTSTART;TZID=America/New_York:20240212T190000
DTEND;TZID=America/New_York:20240212T200000
DTSTAMP:20260425T123648
CREATED:20240124T150234Z
LAST-MODIFIED:20240124T150234Z
UID:10558-1707764400-1707768000@www.califonboro.org
SUMMARY:Califon Parks and Recreation
DESCRIPTION:
URL:https://www.califonboro.org/event/califon-parks-and-recreation/
LOCATION:Municipal Building\, 39 Academy Street\, Califon\, NJ\, 07830\, United States
CATEGORIES:Califon Events,Califon Parks and Recreation Committee,Main Calendar
END:VEVENT
BEGIN:VEVENT
DTSTART;TZID=America/New_York:20231213T193000
DTEND;TZID=America/New_York:20231213T213000
DTSTAMP:20260425T123648
CREATED:20230308T141847Z
LAST-MODIFIED:20230308T172602Z
UID:9344-1702495800-1702503000@www.califonboro.org
SUMMARY:Parks and Recreation Monthly Meeting Via Zoom
DESCRIPTION:Please join Parks and Recreation for their Monthly Meeting tonight Wednesday\, December 13th\, 2023 at  7:30 PM\nJoin Zoom Meeting\nhttps://us06web.zoom.us/j/83899899321?pwd=K0VHdjJjaG1oUFVBbG5oRk4yeTRZUT09 \nMeeting ID: 838 9989 9321\nPasscode: 07830
URL:https://www.califonboro.org/event/parks-and-recreation-monthly-meeting-via-zoom-9/
LOCATION:via Zoom
CATEGORIES:Califon Events,Califon Parks and Recreation Committee,Main Calendar
END:VEVENT
BEGIN:VEVENT
DTSTART;TZID=America/New_York:20231108T193000
DTEND;TZID=America/New_York:20231108T193000
DTSTAMP:20260425T123648
CREATED:20230308T141730Z
LAST-MODIFIED:20230308T172633Z
UID:9342-1699471800-1699471800@www.califonboro.org
SUMMARY:Parks and Recreation Monthly Meeting Via Zoom
DESCRIPTION:Please join Parks and Recreation for their Monthly Meeting tonight Wednesday\, November 8th\, 2023 at  7:30 PM\nJoin Zoom Meeting\nhttps://us06web.zoom.us/j/83899899321?pwd=K0VHdjJjaG1oUFVBbG5oRk4yeTRZUT09 \nMeeting ID: 838 9989 9321\nPasscode: 07830
URL:https://www.califonboro.org/event/parks-and-recreation-monthly-meeting-via-zoom-8/
LOCATION:via Zoom
CATEGORIES:Califon Events,Califon Parks and Recreation Committee,Main Calendar
END:VEVENT
BEGIN:VEVENT
DTSTART;TZID=America/New_York:20231011T193000
DTEND;TZID=America/New_York:20231011T220000
DTSTAMP:20260425T123648
CREATED:20230308T141611Z
LAST-MODIFIED:20230308T172654Z
UID:9340-1697052600-1697061600@www.califonboro.org
SUMMARY:Parks and Recreation Monthly Meeting Via Zoom
DESCRIPTION:Please join Parks and Recreation for their Monthly Meeting tonight Wednesday\, October 11th\, 2023 at  7:30 PM\nJoin Zoom Meeting\nhttps://us06web.zoom.us/j/83899899321?pwd=K0VHdjJjaG1oUFVBbG5oRk4yeTRZUT09 \nMeeting ID: 838 9989 9321\nPasscode: 07830
URL:https://www.califonboro.org/event/parks-and-recreation-monthly-meeting-via-zoom-7/
LOCATION:via Zoom
CATEGORIES:Califon Events,Califon Parks and Recreation Committee,Main Calendar
END:VEVENT
BEGIN:VEVENT
DTSTART;VALUE=DATE:20231008
DTEND;VALUE=DATE:20231009
DTSTAMP:20260425T123648
CREATED:20230907T174632Z
LAST-MODIFIED:20230907T174632Z
UID:9953-1696723200-1696809599@www.califonboro.org
SUMMARY:Califon's 10th Annual Street Fair October 8th
DESCRIPTION:Califon Street Fair 8_5 x 11 (003)
URL:https://www.califonboro.org/event/califons-10th-annual-street-fair-october-8th/
LOCATION:Main Street Califon\, Califon\, NJ\, 07830
CATEGORIES:Califon Events,Califon Parks and Recreation Committee,Main Calendar
END:VEVENT
BEGIN:VEVENT
DTSTART;TZID=America/New_York:20230913T193000
DTEND;TZID=America/New_York:20230913T213000
DTSTAMP:20260425T123648
CREATED:20230308T141452Z
LAST-MODIFIED:20230308T172715Z
UID:9338-1694633400-1694640600@www.califonboro.org
SUMMARY:Parks and Recreation Monthly Meeting Via Zoom
DESCRIPTION:Please join Parks and Recreation for their Monthly Meeting tonight Wednesday\, September 13th\, 2023 at  7:30 PM\nJoin Zoom Meeting\nhttps://us06web.zoom.us/j/83899899321?pwd=K0VHdjJjaG1oUFVBbG5oRk4yeTRZUT09 \nMeeting ID: 838 9989 9321\nPasscode: 07830
URL:https://www.califonboro.org/event/parks-and-recreation-monthly-meeting-via-zoom-6/
LOCATION:via Zoom
CATEGORIES:Califon Events,Califon Parks and Recreation Committee,Main Calendar
END:VEVENT
BEGIN:VEVENT
DTSTART;TZID=America/New_York:20230809T080000
DTEND;TZID=America/New_York:20230809T170000
DTSTAMP:20260425T123648
CREATED:20230308T141329Z
LAST-MODIFIED:20230308T172740Z
UID:9336-1691568000-1691600400@www.califonboro.org
SUMMARY:Parks and Recreation Monthly Meeting Via Zoom
DESCRIPTION:Please join Parks and Recreation for their Monthly Meeting tonight Wednesday\, August 9th\, 2023 at  7:30 PM\nJoin Zoom Meeting\nhttps://us06web.zoom.us/j/83899899321?pwd=K0VHdjJjaG1oUFVBbG5oRk4yeTRZUT09 \nMeeting ID: 838 9989 9321\nPasscode: 07830
URL:https://www.califonboro.org/event/parks-and-recreation-monthly-meeting-via-zoom-5/
LOCATION:via Zoom
CATEGORIES:Califon Events,Califon Parks and Recreation Committee,Main Calendar
END:VEVENT
BEGIN:VEVENT
DTSTART;TZID=America/New_York:20230712T193000
DTEND;TZID=America/New_York:20230712T213000
DTSTAMP:20260425T123648
CREATED:20230308T141224Z
LAST-MODIFIED:20230308T172808Z
UID:9334-1689190200-1689197400@www.califonboro.org
SUMMARY:Parks and Recreation Monthly Meeting Via Zoom
DESCRIPTION:Please join Parks and Recreation for their Monthly Meeting tonight Wednesday\, July 12th\, 2023 at  7:30 PM\nJoin Zoom Meeting\nhttps://us06web.zoom.us/j/83899899321?pwd=K0VHdjJjaG1oUFVBbG5oRk4yeTRZUT09 \nMeeting ID: 838 9989 9321\nPasscode: 07830
URL:https://www.califonboro.org/event/parks-and-recreation-monthly-meeting-via-zoom-4/
LOCATION:via Zoom
CATEGORIES:Califon Events,Califon Parks and Recreation Committee,Main Calendar
END:VEVENT
BEGIN:VEVENT
DTSTART;TZID=America/New_York:20230614T193000
DTEND;TZID=America/New_York:20230614T213000
DTSTAMP:20260425T123648
CREATED:20230308T141028Z
LAST-MODIFIED:20230308T172829Z
UID:9332-1686771000-1686778200@www.califonboro.org
SUMMARY:Parks and Recreation Monthly Meeting Via Zoom
DESCRIPTION:Please join Parks and Recreation for their Monthly Meeting tonight Wednesday\, June 14th\, 2023 at  7:30 PM\nJoin Zoom Meeting\nhttps://us06web.zoom.us/j/83899899321?pwd=K0VHdjJjaG1oUFVBbG5oRk4yeTRZUT09 \nMeeting ID: 838 9989 9321\nPasscode: 07830
URL:https://www.califonboro.org/event/parks-and-recreation-monthly-meeting-via-zoom-3/
LOCATION:via Zoom
CATEGORIES:Califon Events,Califon Parks and Recreation Committee,Main Calendar
END:VEVENT
BEGIN:VEVENT
DTSTART;TZID=America/New_York:20230510T193000
DTEND;TZID=America/New_York:20230510T213000
DTSTAMP:20260425T123648
CREATED:20230308T140854Z
LAST-MODIFIED:20230308T172848Z
UID:9330-1683747000-1683754200@www.califonboro.org
SUMMARY:Parks and Recreation Monthly Meeting Via Zoom
DESCRIPTION:Please join Parks and Recreation for their Monthly Meeting tonight Wednesday\, May 10th\, 2023 at  7:30 PM\nJoin Zoom Meeting\nhttps://us06web.zoom.us/j/83899899321?pwd=K0VHdjJjaG1oUFVBbG5oRk4yeTRZUT09 \nMeeting ID: 838 9989 9321\nPasscode: 07830
URL:https://www.califonboro.org/event/parks-and-recreation-monthly-meeting-via-zoom-2/
LOCATION:via Zoom
CATEGORIES:Califon Events,Califon Parks and Recreation Committee,Main Calendar
END:VEVENT
BEGIN:VEVENT
DTSTART;TZID=America/New_York:20230412T193000
DTEND;TZID=America/New_York:20230412T213000
DTSTAMP:20260425T123648
CREATED:20230308T140733Z
LAST-MODIFIED:20230308T172913Z
UID:9328-1681327800-1681335000@www.califonboro.org
SUMMARY:Parks and Recreation Monthly Meeting Via Zoom
DESCRIPTION:Please join Parks and Recreation for their Monthly Meeting tonight Wednesday\, April 12\, 2023 at  7:30 PM\nJoin Zoom Meeting\nhttps://us06web.zoom.us/j/83899899321?pwd=K0VHdjJjaG1oUFVBbG5oRk4yeTRZUT09 \nMeeting ID: 838 9989 9321\nPasscode: 07830
URL:https://www.califonboro.org/event/parks-and-recreation-monthly-meeting-via-zoom/
LOCATION:via Zoom
CATEGORIES:Califon Events,Califon Parks and Recreation Committee,Main Calendar
END:VEVENT
BEGIN:VEVENT
DTSTART;TZID=America/New_York:20230308T193000
DTEND;TZID=America/New_York:20230308T213000
DTSTAMP:20260425T123648
CREATED:20230308T140515Z
LAST-MODIFIED:20230308T163506Z
UID:9326-1678303800-1678311000@www.califonboro.org
SUMMARY:Parks & Recreation Monthly Meeting Via Zoom
DESCRIPTION:Please join Parks and Recreation for their Monthly Meeting tonight Wednesday\, March 8th\, 2023 at  7:30 PM\nJoin Zoom Meeting\nhttps://us06web.zoom.us/j/83899899321?pwd=K0VHdjJjaG1oUFVBbG5oRk4yeTRZUT09 \nMeeting ID: 838 9989 9321\nPasscode: 07830
URL:https://www.califonboro.org/event/parks-recreation-monthly-meeting-via-zoom/
LOCATION:via Zoom
CATEGORIES:Califon Events,Califon Parks and Recreation Committee,Main Calendar
END:VEVENT
BEGIN:VEVENT
DTSTART;TZID=America/New_York:20230208T193000
DTEND;TZID=America/New_York:20230208T213000
DTSTAMP:20260425T123648
CREATED:20230127T200211Z
LAST-MODIFIED:20230127T200211Z
UID:9126-1675884600-1675891800@www.califonboro.org
SUMMARY:Recreation Meeting
DESCRIPTION:
URL:https://www.califonboro.org/event/recreation-meeting-5/
LOCATION:Municipal Building\, 39 Academy Street\, Califon\, NJ\, 07830\, United States
CATEGORIES:Califon Events,Califon Parks and Recreation Committee,Main Calendar
END:VEVENT
BEGIN:VEVENT
DTSTART;TZID=America/New_York:20230111T193000
DTEND;TZID=America/New_York:20230111T203000
DTSTAMP:20260425T123648
CREATED:20221122T170929Z
LAST-MODIFIED:20230308T172949Z
UID:8777-1673465400-1673469000@www.califonboro.org
SUMMARY:Parks & Recreation Reorganization Meeting
DESCRIPTION:
URL:https://www.califonboro.org/event/parks-recreation-reorganization-meeting/
LOCATION:NJ
CATEGORIES:Califon Events,Califon Parks and Recreation Committee,Main Calendar
END:VEVENT
BEGIN:VEVENT
DTSTART;TZID=Europe/London:20221214T193000
DTEND;TZID=Europe/London:20221214T203000
DTSTAMP:20260425T123648
CREATED:20220217T213959Z
LAST-MODIFIED:20220217T213959Z
UID:7132-1671046200-1671049800@www.califonboro.org
SUMMARY:Parks and Recreation Meeting
DESCRIPTION:Meeting via Zoom until further notice \nhttps://us02web.zoom.us/j/86368168106?pwd=enJwNEVDTVdtOWxHTDZwTS9Oc0IxUT09 \nMeeting ID: 863 6816 8106 \nPasscode: 506701
URL:https://www.califonboro.org/event/parks-and-recreation-meeting-7/
LOCATION:via Zoom
CATEGORIES:Califon Events,Califon Parks and Recreation Committee,Main Calendar
END:VEVENT
BEGIN:VEVENT
DTSTART;VALUE=DATE:20221118
DTEND;VALUE=DATE:20221119
DTSTAMP:20260425T123648
CREATED:20221110T171504Z
LAST-MODIFIED:20221115T155024Z
UID:8732-1668729600-1668815999@www.califonboro.org
SUMMARY:CALIFON ISLAND PARK CLOSED
DESCRIPTION:PLEASE BE ADVISED THAT THE CALIFON ISLAND PARK WILL BE CLOSED ON FRIDAY\, NOVEMBER 18TH. \nTHE COUNTY WILL BE CUTTING DOWN ASH TREES THAT ARE ALONG THE PERIMETER OF THE PARK AND FOR SAFETY CONCERNS\, WE WILL BE CLOSING THE PARK UNTIL THEY ARE FINISHED. THIS SHOULD ONLY TAKE A DAY. \nTHANK YOU FOR YOUR COOPERATION! \nBorough of Califon
URL:https://www.califonboro.org/event/califon-island-park-closed/
LOCATION:Califon Island Park\, Bank Street\, Califon\, 07830
CATEGORIES:Califon Events,Califon Parks and Recreation Committee,Island Park Pavilion,Main Calendar
END:VEVENT
BEGIN:VEVENT
DTSTART;TZID=Europe/London:20221109T193000
DTEND;TZID=Europe/London:20221109T203000
DTSTAMP:20260425T123648
CREATED:20220217T213752Z
LAST-MODIFIED:20220217T213752Z
UID:7130-1668022200-1668025800@www.califonboro.org
SUMMARY:Parks and Recreation Meeting
DESCRIPTION:Meeting via Zoom until further notice \nhttps://us02web.zoom.us/j/86368168106?pwd=enJwNEVDTVdtOWxHTDZwTS9Oc0IxUT09 \nMeeting ID: 863 6816 8106 \nPasscode: 506701
URL:https://www.califonboro.org/event/parks-and-recreation-meeting-6/
LOCATION:via Zoom
CATEGORIES:Califon Events,Califon Parks and Recreation Committee,Main Calendar
END:VEVENT
BEGIN:VEVENT
DTSTART;TZID=Europe/London:20221012T193000
DTEND;TZID=Europe/London:20221012T203000
DTSTAMP:20260425T123648
CREATED:20220217T213627Z
LAST-MODIFIED:20220217T213627Z
UID:7128-1665603000-1665606600@www.califonboro.org
SUMMARY:Parks and Recreation Meeting
DESCRIPTION:Meeting via Zoom until further notice \nhttps://us02web.zoom.us/j/86368168106?pwd=enJwNEVDTVdtOWxHTDZwTS9Oc0IxUT09 \nMeeting ID: 863 6816 8106 \nPasscode: 506701
URL:https://www.califonboro.org/event/parks-and-recreation-meeting-5/
LOCATION:via Zoom
CATEGORIES:Califon Events,Califon Parks and Recreation Committee,Main Calendar
END:VEVENT
BEGIN:VEVENT
DTSTART;TZID=America/New_York:20221009T110000
DTEND;TZID=America/New_York:20221009T170000
DTSTAMP:20260425T123648
CREATED:20220712T192226Z
LAST-MODIFIED:20220817T181542Z
UID:8254-1665313200-1665334800@www.califonboro.org
SUMMARY:Street Fair
DESCRIPTION:
URL:https://www.califonboro.org/event/street-fair/
LOCATION:Main Street Califon\, Califon\, NJ\, 07830
CATEGORIES:Califon Parks and Recreation Committee,Island Park Pavilion,Main Calendar
END:VEVENT
BEGIN:VEVENT
DTSTART;TZID=Europe/London:20220921T193000
DTEND;TZID=Europe/London:20220921T203000
DTSTAMP:20260425T123648
CREATED:20220217T213430Z
LAST-MODIFIED:20220217T213430Z
UID:7126-1663788600-1663792200@www.califonboro.org
SUMMARY:Parks and Recreation Meeting
DESCRIPTION:Meeting via Zoom until further notice \nhttps://us02web.zoom.us/j/86368168106?pwd=enJwNEVDTVdtOWxHTDZwTS9Oc0IxUT09 \nMeeting ID: 863 6816 8106 \nPasscode: 506701
URL:https://www.califonboro.org/event/parks-and-recreation-meeting-4/
LOCATION:via Zoom
CATEGORIES:Califon Events,Califon Parks and Recreation Committee,Main Calendar
END:VEVENT
BEGIN:VEVENT
DTSTART;TZID=America/New_York:20220918T140000
DTEND;TZID=America/New_York:20220918T160000
DTSTAMP:20260425T123648
CREATED:20220621T123039Z
LAST-MODIFIED:20220815T144832Z
UID:8210-1663509600-1663516800@www.califonboro.org
SUMMARY:Coach Sabatini Dedication - Califon Island Park
DESCRIPTION:Batting Cage Dedication for\nBaseball Coach Jerry Sabatini\nSunday\, September 18\, 2022 at 2pm
URL:https://www.califonboro.org/event/coach-sabatini-dedication-califon-island-park/
LOCATION:Califon Island Park\, Bank Street\, Califon\, 07830
CATEGORIES:Califon Events,Califon Parks and Recreation Committee,Island Park Pavilion
END:VEVENT
BEGIN:VEVENT
DTSTART;TZID=America/New_York:20220810T193000
DTEND;TZID=America/New_York:20220810T203000
DTSTAMP:20260425T123648
CREATED:20220809T134329Z
LAST-MODIFIED:20220809T134329Z
UID:8310-1660159800-1660163400@www.califonboro.org
SUMMARY:Parks and Recreation Meeting
DESCRIPTION:
URL:https://www.califonboro.org/event/parks-and-recreation-meeting-8/
LOCATION:Municipal Building\, 39 Academy Street\, Califon\, NJ\, 07830\, United States
CATEGORIES:Califon Events,Califon Parks and Recreation Committee,Main Calendar
END:VEVENT
BEGIN:VEVENT
DTSTART;TZID=Europe/London:20220810T193000
DTEND;TZID=Europe/London:20220810T203000
DTSTAMP:20260425T123648
CREATED:20220217T213248Z
LAST-MODIFIED:20220217T213248Z
UID:7124-1660159800-1660163400@www.califonboro.org
SUMMARY:Parks and Recreation Meeting
DESCRIPTION:Meeting via Zoom until further notice \nhttps://us02web.zoom.us/j/86368168106?pwd=enJwNEVDTVdtOWxHTDZwTS9Oc0IxUT09 \nMeeting ID: 863 6816 8106 \nPasscode: 506701
URL:https://www.califonboro.org/event/parks-and-recreation-meeting-3/
LOCATION:via Zoom
CATEGORIES:Califon Events,Califon Parks and Recreation Committee,Main Calendar
END:VEVENT
END:VCALENDAR