BEGIN:VCALENDAR
VERSION:2.0
PRODID:-//Califon, New Jersey - ECPv6.13.2.1//NONSGML v1.0//EN
CALSCALE:GREGORIAN
METHOD:PUBLISH
X-ORIGINAL-URL:https://www.califonboro.org
X-WR-CALDESC:Events for Califon, New Jersey
REFRESH-INTERVAL;VALUE=DURATION:PT1H
X-Robots-Tag:noindex
X-PUBLISHED-TTL:PT1H
BEGIN:VTIMEZONE
TZID:America/New_York
BEGIN:DAYLIGHT
TZOFFSETFROM:-0500
TZOFFSETTO:-0400
TZNAME:EDT
DTSTART:20230312T070000
END:DAYLIGHT
BEGIN:STANDARD
TZOFFSETFROM:-0400
TZOFFSETTO:-0500
TZNAME:EST
DTSTART:20231105T060000
END:STANDARD
BEGIN:DAYLIGHT
TZOFFSETFROM:-0500
TZOFFSETTO:-0400
TZNAME:EDT
DTSTART:20240310T070000
END:DAYLIGHT
BEGIN:STANDARD
TZOFFSETFROM:-0400
TZOFFSETTO:-0500
TZNAME:EST
DTSTART:20241103T060000
END:STANDARD
END:VTIMEZONE
BEGIN:VEVENT
DTSTART;TZID=America/New_York:20240801T190000
DTEND;TZID=America/New_York:20240801T210000
DTSTAMP:20260425T121501
CREATED:20240109T201440Z
LAST-MODIFIED:20240717T144728Z
UID:10467-1722538800-1722546000@www.califonboro.org
SUMMARY:Council Meeting- CANCELLED
DESCRIPTION:
URL:https://www.califonboro.org/event/council-meeting-63/
LOCATION:NJ
CATEGORIES:Califon Events,Califon Mayor and Council,Main Calendar
END:VEVENT
BEGIN:VEVENT
DTSTART;TZID=America/New_York:20240718T190000
DTEND;TZID=America/New_York:20240718T210000
DTSTAMP:20260425T121501
CREATED:20240109T201406Z
LAST-MODIFIED:20240109T201406Z
UID:10465-1721329200-1721336400@www.califonboro.org
SUMMARY:Council Meeting
DESCRIPTION:
URL:https://www.califonboro.org/event/council-meeting-62/
LOCATION:NJ
CATEGORIES:Califon Events,Califon Mayor and Council,Main Calendar
END:VEVENT
BEGIN:VEVENT
DTSTART;TZID=America/New_York:20240620T190000
DTEND;TZID=America/New_York:20240620T210000
DTSTAMP:20260425T121501
CREATED:20240109T201330Z
LAST-MODIFIED:20240109T201330Z
UID:10463-1718910000-1718917200@www.califonboro.org
SUMMARY:Council Meeting
DESCRIPTION:
URL:https://www.califonboro.org/event/council-meeting-61/
LOCATION:NJ
CATEGORIES:Califon Events,Califon Mayor and Council,Main Calendar
END:VEVENT
BEGIN:VEVENT
DTSTART;TZID=America/New_York:20240606T190000
DTEND;TZID=America/New_York:20240606T210000
DTSTAMP:20260425T121501
CREATED:20240109T201253Z
LAST-MODIFIED:20240109T201253Z
UID:10461-1717700400-1717707600@www.califonboro.org
SUMMARY:Council Meeting
DESCRIPTION:
URL:https://www.califonboro.org/event/council-meeting-60/
LOCATION:NJ
CATEGORIES:Califon Events,Califon Mayor and Council,Main Calendar
END:VEVENT
BEGIN:VEVENT
DTSTART;TZID=America/New_York:20240516T190000
DTEND;TZID=America/New_York:20240516T210000
DTSTAMP:20260425T121501
CREATED:20240109T201213Z
LAST-MODIFIED:20240109T201213Z
UID:10459-1715886000-1715893200@www.califonboro.org
SUMMARY:Council Meeting
DESCRIPTION:
URL:https://www.califonboro.org/event/council-meeting-59/
LOCATION:NJ
CATEGORIES:Califon Events,Califon Mayor and Council,Main Calendar
END:VEVENT
BEGIN:VEVENT
DTSTART;TZID=America/New_York:20240502T190000
DTEND;TZID=America/New_York:20240502T210000
DTSTAMP:20260425T121501
CREATED:20240109T202517Z
LAST-MODIFIED:20240109T202517Z
UID:10487-1714676400-1714683600@www.califonboro.org
SUMMARY:Council Meeting
DESCRIPTION:
URL:https://www.califonboro.org/event/council-meeting-73/
LOCATION:NJ
CATEGORIES:Califon Events,Califon Mayor and Council,Main Calendar
END:VEVENT
BEGIN:VEVENT
DTSTART;TZID=America/New_York:20240418T190000
DTEND;TZID=America/New_York:20240418T210000
DTSTAMP:20260425T121501
CREATED:20240109T201126Z
LAST-MODIFIED:20240109T201126Z
UID:10457-1713466800-1713474000@www.califonboro.org
SUMMARY:Council Meeting
DESCRIPTION:
URL:https://www.califonboro.org/event/council-meeting-58/
LOCATION:NJ
CATEGORIES:Califon Events,Califon Mayor and Council,Main Calendar
END:VEVENT
BEGIN:VEVENT
DTSTART;TZID=America/New_York:20240404T190000
DTEND;TZID=America/New_York:20240404T210000
DTSTAMP:20260425T121501
CREATED:20240109T201049Z
LAST-MODIFIED:20240403T143006Z
UID:10455-1712257200-1712264400@www.califonboro.org
SUMMARY:Council Meeting - CANCELLED
DESCRIPTION:
URL:https://www.califonboro.org/event/council-meeting-57/
LOCATION:NJ
CATEGORIES:Califon Events,Califon Mayor and Council,Main Calendar
END:VEVENT
BEGIN:VEVENT
DTSTART;TZID=America/New_York:20240321T190000
DTEND;TZID=America/New_York:20240321T210000
DTSTAMP:20260425T121501
CREATED:20240109T200559Z
LAST-MODIFIED:20240109T200559Z
UID:10453-1711047600-1711054800@www.califonboro.org
SUMMARY:Council Meeting
DESCRIPTION:
URL:https://www.califonboro.org/event/council-meeting-56/
LOCATION:NJ
CATEGORIES:Califon Events,Califon Mayor and Council,Main Calendar
END:VEVENT
BEGIN:VEVENT
DTSTART;TZID=America/New_York:20240307T190000
DTEND;TZID=America/New_York:20240307T210000
DTSTAMP:20260425T121501
CREATED:20240109T200524Z
LAST-MODIFIED:20240109T200524Z
UID:10451-1709838000-1709845200@www.califonboro.org
SUMMARY:Council Meeting
DESCRIPTION:
URL:https://www.califonboro.org/event/council-meeting-55/
LOCATION:NJ
CATEGORIES:Califon Events,Califon Mayor and Council,Main Calendar
END:VEVENT
BEGIN:VEVENT
DTSTART;TZID=America/New_York:20240215T190000
DTEND;TZID=America/New_York:20240215T210000
DTSTAMP:20260425T121501
CREATED:20240109T200443Z
LAST-MODIFIED:20240109T200443Z
UID:10449-1708023600-1708030800@www.califonboro.org
SUMMARY:Council Meeting
DESCRIPTION:
URL:https://www.califonboro.org/event/council-meeting-54/
LOCATION:NJ
CATEGORIES:Califon Events,Califon Mayor and Council,Main Calendar
END:VEVENT
BEGIN:VEVENT
DTSTART;TZID=America/New_York:20240201T190000
DTEND;TZID=America/New_York:20240201T210000
DTSTAMP:20260425T121501
CREATED:20240109T195947Z
LAST-MODIFIED:20240109T195947Z
UID:10447-1706814000-1706821200@www.califonboro.org
SUMMARY:Council Meeting
DESCRIPTION:
URL:https://www.califonboro.org/event/council-meeting-53/
LOCATION:NJ
CATEGORIES:Califon Events,Califon Mayor and Council,Main Calendar
END:VEVENT
BEGIN:VEVENT
DTSTART;TZID=America/New_York:20240118T190000
DTEND;TZID=America/New_York:20240118T210000
DTSTAMP:20260425T121501
CREATED:20240109T195834Z
LAST-MODIFIED:20240109T200050Z
UID:10445-1705604400-1705611600@www.califonboro.org
SUMMARY:Council Meeting
DESCRIPTION:
URL:https://www.califonboro.org/event/council-meeting-49/
LOCATION:NJ
CATEGORIES:Califon Events,Califon Mayor and Council,Main Calendar
END:VEVENT
BEGIN:VEVENT
DTSTART;TZID=America/New_York:20240104T190000
DTEND;TZID=America/New_York:20240104T213000
DTSTAMP:20260425T121501
CREATED:20221122T170340Z
LAST-MODIFIED:20231204T154109Z
UID:8771-1704394800-1704403800@www.califonboro.org
SUMMARY:Council Reorganization Meeting
DESCRIPTION:
URL:https://www.califonboro.org/event/council-reorganization-meeting/
LOCATION:NJ
CATEGORIES:Califon Mayor and Council,Main Calendar
END:VEVENT
BEGIN:VEVENT
DTSTART;TZID=America/New_York:20231221T190000
DTEND;TZID=America/New_York:20231221T210000
DTSTAMP:20260425T121501
CREATED:20230620T183353Z
LAST-MODIFIED:20230620T183353Z
UID:9786-1703185200-1703192400@www.califonboro.org
SUMMARY:Council Meeting
DESCRIPTION:
URL:https://www.califonboro.org/event/council-meeting-52/
LOCATION:Municipal Building\, 39 Academy Street\, Califon\, NJ\, 07830\, United States
CATEGORIES:Califon Events,Califon Mayor and Council,Main Calendar
END:VEVENT
BEGIN:VEVENT
DTSTART;TZID=America/New_York:20231207T190000
DTEND;TZID=America/New_York:20231207T210000
DTSTAMP:20260425T121501
CREATED:20230620T183310Z
LAST-MODIFIED:20230620T183310Z
UID:9784-1701975600-1701982800@www.califonboro.org
SUMMARY:Council Meeting
DESCRIPTION:
URL:https://www.califonboro.org/event/council-meeting-51/
LOCATION:Municipal Building\, 39 Academy Street\, Califon\, NJ\, 07830\, United States
CATEGORIES:Califon Events,Califon Mayor and Council,Main Calendar
END:VEVENT
BEGIN:VEVENT
DTSTART;TZID=America/New_York:20231116T190000
DTEND;TZID=America/New_York:20231116T210000
DTSTAMP:20260425T121501
CREATED:20230620T182903Z
LAST-MODIFIED:20230620T182903Z
UID:9782-1700161200-1700168400@www.califonboro.org
SUMMARY:Council Meeting
DESCRIPTION:
URL:https://www.califonboro.org/event/council-meeting-50/
LOCATION:Municipal Building\, 39 Academy Street\, Califon\, NJ\, 07830\, United States
CATEGORIES:Califon Events,Califon Mayor and Council,Main Calendar
END:VEVENT
BEGIN:VEVENT
DTSTART;TZID=America/New_York:20231102T190000
DTEND;TZID=America/New_York:20231102T210000
DTSTAMP:20260425T121501
CREATED:20230620T182738Z
LAST-MODIFIED:20230620T182738Z
UID:9778-1698951600-1698958800@www.califonboro.org
SUMMARY:Council Meeting
DESCRIPTION:
URL:https://www.califonboro.org/event/council-meeting-48/
LOCATION:Municipal Building\, 39 Academy Street\, Califon\, NJ\, 07830\, United States
CATEGORIES:Califon Events,Califon Mayor and Council,Main Calendar
END:VEVENT
BEGIN:VEVENT
DTSTART;TZID=America/New_York:20231019T190000
DTEND;TZID=America/New_York:20231019T210000
DTSTAMP:20260425T121501
CREATED:20230620T182652Z
LAST-MODIFIED:20230620T182652Z
UID:9776-1697742000-1697749200@www.califonboro.org
SUMMARY:Council Meeting
DESCRIPTION:
URL:https://www.califonboro.org/event/council-meeting-47/
LOCATION:Municipal Building\, 39 Academy Street\, Califon\, NJ\, 07830\, United States
CATEGORIES:Califon Events,Califon Mayor and Council,Main Calendar
END:VEVENT
BEGIN:VEVENT
DTSTART;TZID=America/New_York:20231005T190000
DTEND;TZID=America/New_York:20231005T210000
DTSTAMP:20260425T121501
CREATED:20230620T183558Z
LAST-MODIFIED:20230620T183639Z
UID:9788-1696532400-1696539600@www.califonboro.org
SUMMARY:Council Meeting
DESCRIPTION:
URL:https://www.califonboro.org/event/council-meeting-46/
LOCATION:Municipal Building\, 39 Academy Street\, Califon\, NJ\, 07830\, United States
CATEGORIES:Califon Events,Califon Mayor and Council,Main Calendar
END:VEVENT
BEGIN:VEVENT
DTSTART;TZID=America/New_York:20230921T190000
DTEND;TZID=America/New_York:20230921T210000
DTSTAMP:20260425T121501
CREATED:20230620T175616Z
LAST-MODIFIED:20230620T182528Z
UID:9772-1695322800-1695330000@www.califonboro.org
SUMMARY:Council Meeting
DESCRIPTION:
URL:https://www.califonboro.org/event/council-meeting-44/
LOCATION:Municipal Building\, 39 Academy Street\, Califon\, NJ\, 07830\, United States
CATEGORIES:Califon Events,Califon Mayor and Council,Main Calendar
END:VEVENT
BEGIN:VEVENT
DTSTART;TZID=America/New_York:20230907T190000
DTEND;TZID=America/New_York:20230907T210000
DTSTAMP:20260425T121501
CREATED:20230620T175919Z
LAST-MODIFIED:20230620T175919Z
UID:9774-1694113200-1694120400@www.califonboro.org
SUMMARY:Council Meeting
DESCRIPTION:
URL:https://www.califonboro.org/event/council-meeting-45/
LOCATION:Municipal Building\, 39 Academy Street\, Califon\, NJ\, 07830\, United States
CATEGORIES:Califon Events,Califon Mayor and Council,Main Calendar
END:VEVENT
BEGIN:VEVENT
DTSTART;TZID=America/New_York:20230817T190000
DTEND;TZID=America/New_York:20230817T213000
DTSTAMP:20260425T121501
CREATED:20230308T154352Z
LAST-MODIFIED:20230619T140524Z
UID:9364-1692298800-1692307800@www.califonboro.org
SUMMARY:Council Meeting
DESCRIPTION:
URL:https://www.califonboro.org/event/council-meeting-43/
LOCATION:Municipal Building\, 39 Academy Street\, Califon\, NJ\, 07830\, United States
CATEGORIES:Califon Events,Califon Mayor and Council,Main Calendar
END:VEVENT
BEGIN:VEVENT
DTSTART;TZID=America/New_York:20230720T190000
DTEND;TZID=America/New_York:20230720T210000
DTSTAMP:20260425T121501
CREATED:20230308T154308Z
LAST-MODIFIED:20230620T175425Z
UID:9362-1689879600-1689886800@www.califonboro.org
SUMMARY:Council Meeting
DESCRIPTION:
URL:https://www.califonboro.org/event/council-meeting-42/
LOCATION:Municipal Building\, 39 Academy Street\, Califon\, NJ\, 07830\, United States
CATEGORIES:Califon Events,Califon Mayor and Council,Main Calendar
END:VEVENT
BEGIN:VEVENT
DTSTART;TZID=America/New_York:20230615T190000
DTEND;TZID=America/New_York:20230615T213000
DTSTAMP:20260425T121501
CREATED:20230308T154225Z
LAST-MODIFIED:20230615T115213Z
UID:9360-1686855600-1686864600@www.califonboro.org
SUMMARY:Council Meeting
DESCRIPTION:
URL:https://www.califonboro.org/event/council-meeting-41/
LOCATION:Municipal Building\, 39 Academy Street\, Califon\, NJ\, 07830\, United States
CATEGORIES:Califon Events,Califon Mayor and Council,Main Calendar
END:VEVENT
BEGIN:VEVENT
DTSTART;TZID=America/New_York:20230605T190000
DTEND;TZID=America/New_York:20230605T213000
DTSTAMP:20260425T121501
CREATED:20230308T154142Z
LAST-MODIFIED:20230321T180948Z
UID:9358-1685991600-1686000600@www.califonboro.org
SUMMARY:Council Meeting
DESCRIPTION:
URL:https://www.califonboro.org/event/council-meeting-40/
LOCATION:Municipal Building\, 39 Academy Street\, Califon\, NJ\, 07830\, United States
CATEGORIES:Califon Events,Califon Mayor and Council,Main Calendar
END:VEVENT
BEGIN:VEVENT
DTSTART;TZID=America/New_York:20230515T190000
DTEND;TZID=America/New_York:20230515T213000
DTSTAMP:20260425T121501
CREATED:20230308T154014Z
LAST-MODIFIED:20230321T181555Z
UID:9356-1684177200-1684186200@www.califonboro.org
SUMMARY:Council Meeting
DESCRIPTION:
URL:https://www.califonboro.org/event/council-meeting-39/
LOCATION:Municipal Building\, 39 Academy Street\, Califon\, NJ\, 07830\, United States
CATEGORIES:Califon Events,Califon Mayor and Council,Main Calendar
END:VEVENT
BEGIN:VEVENT
DTSTART;TZID=America/New_York:20230501T190000
DTEND;TZID=America/New_York:20230501T213000
DTSTAMP:20260425T121502
CREATED:20230308T153909Z
LAST-MODIFIED:20230321T181632Z
UID:9354-1682967600-1682976600@www.califonboro.org
SUMMARY:Council Meeting
DESCRIPTION:
URL:https://www.califonboro.org/event/council-meeting-34/
LOCATION:Municipal Building\, 39 Academy Street\, Califon\, NJ\, 07830\, United States
CATEGORIES:Califon Events,Califon Mayor and Council,Main Calendar
END:VEVENT
BEGIN:VEVENT
DTSTART;TZID=America/New_York:20230417T193000
DTEND;TZID=America/New_York:20230417T213000
DTSTAMP:20260425T121502
CREATED:20230120T165758Z
LAST-MODIFIED:20230120T165810Z
UID:9058-1681759800-1681767000@www.califonboro.org
SUMMARY:Council Meeting
DESCRIPTION:
URL:https://www.califonboro.org/event/council-meeting-38/
LOCATION:Municipal Building\, 39 Academy Street\, Califon\, NJ\, 07830\, United States
CATEGORIES:Califon Events,Califon Mayor and Council,Main Calendar
END:VEVENT
BEGIN:VEVENT
DTSTART;TZID=America/New_York:20230403T193000
DTEND;TZID=America/New_York:20230403T213000
DTSTAMP:20260425T121502
CREATED:20230308T153753Z
LAST-MODIFIED:20230308T153753Z
UID:9352-1680550200-1680557400@www.califonboro.org
SUMMARY:Council Meeting
DESCRIPTION:
URL:https://www.califonboro.org/event/council-meeting-33/
LOCATION:Municipal Building\, 39 Academy Street\, Califon\, NJ\, 07830\, United States
CATEGORIES:Califon Events,Califon Mayor and Council,Main Calendar
END:VEVENT
END:VCALENDAR