BEGIN:VCALENDAR
VERSION:2.0
PRODID:-//Califon, New Jersey - ECPv6.13.2.1//NONSGML v1.0//EN
CALSCALE:GREGORIAN
METHOD:PUBLISH
X-WR-CALNAME:Califon, New Jersey
X-ORIGINAL-URL:https://www.califonboro.org
X-WR-CALDESC:Events for Califon, New Jersey
REFRESH-INTERVAL;VALUE=DURATION:PT1H
X-Robots-Tag:noindex
X-PUBLISHED-TTL:PT1H
BEGIN:VTIMEZONE
TZID:America/New_York
BEGIN:DAYLIGHT
TZOFFSETFROM:-0500
TZOFFSETTO:-0400
TZNAME:EDT
DTSTART:20220313T070000
END:DAYLIGHT
BEGIN:STANDARD
TZOFFSETFROM:-0400
TZOFFSETTO:-0500
TZNAME:EST
DTSTART:20221106T060000
END:STANDARD
BEGIN:DAYLIGHT
TZOFFSETFROM:-0500
TZOFFSETTO:-0400
TZNAME:EDT
DTSTART:20230312T070000
END:DAYLIGHT
BEGIN:STANDARD
TZOFFSETFROM:-0400
TZOFFSETTO:-0500
TZNAME:EST
DTSTART:20231105T060000
END:STANDARD
END:VTIMEZONE
BEGIN:VTIMEZONE
TZID:Europe/London
BEGIN:DAYLIGHT
TZOFFSETFROM:+0000
TZOFFSETTO:+0100
TZNAME:BST
DTSTART:20200329T010000
END:DAYLIGHT
BEGIN:STANDARD
TZOFFSETFROM:+0100
TZOFFSETTO:+0000
TZNAME:GMT
DTSTART:20201025T010000
END:STANDARD
BEGIN:DAYLIGHT
TZOFFSETFROM:+0000
TZOFFSETTO:+0100
TZNAME:BST
DTSTART:20210328T010000
END:DAYLIGHT
BEGIN:STANDARD
TZOFFSETFROM:+0100
TZOFFSETTO:+0000
TZNAME:GMT
DTSTART:20211031T010000
END:STANDARD
END:VTIMEZONE
BEGIN:VEVENT
DTSTART;TZID=America/New_York:20230806T140000
DTEND;TZID=America/New_York:20230806T160000
DTSTAMP:20260425T142214
CREATED:20230405T191109Z
LAST-MODIFIED:20230405T191149Z
UID:9529-1691330400-1691337600@www.califonboro.org
SUMMARY:Hoffman House & Cabin Open
DESCRIPTION:August 6 – Hoffman House & Cabin Open 2-4:00 pm
URL:https://www.califonboro.org/event/hoffman-house-cabin-open-5/
CATEGORIES:Califon Events,Califon Historical Society,Main Calendar
END:VEVENT
BEGIN:VEVENT
DTSTART;TZID=America/New_York:20230718T193000
DTEND;TZID=America/New_York:20230718T203000
DTSTAMP:20260425T142214
CREATED:20230405T190949Z
LAST-MODIFIED:20230405T190949Z
UID:9527-1689708600-1689712200@www.califonboro.org
SUMMARY:Historical Society Meeting
DESCRIPTION:July 18 – Historical Society Mtg. 7:30 pm – Cabin \n 
URL:https://www.califonboro.org/event/historical-society-meeting-4/
CATEGORIES:Califon Events,Califon Historical Society,Main Calendar
END:VEVENT
BEGIN:VEVENT
DTSTART;TZID=America/New_York:20230716T140000
DTEND;TZID=America/New_York:20230716T160000
DTSTAMP:20260425T142214
CREATED:20230405T190710Z
LAST-MODIFIED:20230405T190710Z
UID:9525-1689516000-1689523200@www.califonboro.org
SUMMARY:Hoffman House and Cabin Open
DESCRIPTION:July 16 – Hoffman House & Cabin Open 2-4:00 pm \n 
URL:https://www.califonboro.org/event/hoffman-house-and-cabin-open/
CATEGORIES:Califon Events,Califon Historical Society,Main Calendar
END:VEVENT
BEGIN:VEVENT
DTSTART;TZID=America/New_York:20230702T140000
DTEND;TZID=America/New_York:20230702T160000
DTSTAMP:20260425T142214
CREATED:20230405T190526Z
LAST-MODIFIED:20230405T190526Z
UID:9523-1688306400-1688313600@www.califonboro.org
SUMMARY:Hoffman House & Cabin Open
DESCRIPTION:July 2 – Hoffman House & Cabin Open 2-4:00 pm \n 
URL:https://www.califonboro.org/event/hoffman-house-cabin-open-4/
CATEGORIES:Califon Events,Califon Historical Society,Main Calendar
END:VEVENT
BEGIN:VEVENT
DTSTART;TZID=America/New_York:20230620T193000
DTEND;TZID=America/New_York:20230620T203000
DTSTAMP:20260425T142214
CREATED:20230405T184837Z
LAST-MODIFIED:20230405T184837Z
UID:9518-1687289400-1687293000@www.califonboro.org
SUMMARY:Historical Society Meeting
DESCRIPTION:June 20 – Historical Society Mtg. 7:30 pm – Cabin \n  \nJuly 2 – Hoffman House & Cabin Open 2-4:00 pm \nJuly 16 – Hoffman House & Cabin Open 2-4:00 pm \nJuly 18 – Historical Society Mtg. 7:30 pm – Cabin \n  \nAugust 6 – Hoffman House & Cabin Open 2-4:00 pm \nAugust 15 – Historical Society Mtg. 7:30 pm – Cabin \nAugust 20 – Hoffman House & Cabin Open 2-4:00 pm \n 
URL:https://www.califonboro.org/event/historical-society-meeting-3/
LOCATION:Cabin In The Woods\, River Road\, Califon\, NJ\, 07830\, United States
CATEGORIES:Califon Events,Califon Historical Society,Main Calendar
END:VEVENT
BEGIN:VEVENT
DTSTART;TZID=America/New_York:20230618T140000
DTEND;TZID=America/New_York:20230618T160000
DTSTAMP:20260425T142214
CREATED:20230405T185050Z
LAST-MODIFIED:20230405T185050Z
UID:9520-1687096800-1687104000@www.califonboro.org
SUMMARY:Hoffman House & Cabin Open
DESCRIPTION:June 18 – Hoffman House & Cabin Open 2-4:00 pm \n  \n 
URL:https://www.califonboro.org/event/hoffman-house-cabin-open-3/
CATEGORIES:Califon Events,Califon Historical Society,Main Calendar
END:VEVENT
BEGIN:VEVENT
DTSTART;TZID=America/New_York:20230604T140000
DTEND;TZID=America/New_York:20230604T160000
DTSTAMP:20260425T142214
CREATED:20230405T184700Z
LAST-MODIFIED:20230405T191519Z
UID:9516-1685887200-1685894400@www.califonboro.org
SUMMARY:Hoffman House & Cabin Open
DESCRIPTION:June 4 – Hoffman House & Cabin Open 2-4:00 pm \n 
URL:https://www.califonboro.org/event/hoffman-house-cabin-open-2/
CATEGORIES:Califon Events,Califon Historical Society,Main Calendar
END:VEVENT
BEGIN:VEVENT
DTSTART;TZID=America/New_York:20230521T140000
DTEND;TZID=America/New_York:20230521T160000
DTSTAMP:20260425T142214
CREATED:20230405T184544Z
LAST-MODIFIED:20230405T191441Z
UID:9514-1684677600-1684684800@www.califonboro.org
SUMMARY:Hoffman House & Cabin Open
DESCRIPTION:May 21 – Hoffman House & Cabin Open 2-4:00 pm \n  \n 
URL:https://www.califonboro.org/event/hoffman-house-cabin-open/
CATEGORIES:Califon Events,Califon Historical Society,Main Calendar
END:VEVENT
BEGIN:VEVENT
DTSTART;TZID=America/New_York:20230516T193000
DTEND;TZID=America/New_York:20230516T213000
DTSTAMP:20260425T142214
CREATED:20230405T184422Z
LAST-MODIFIED:20230405T191610Z
UID:9512-1684265400-1684272600@www.califonboro.org
SUMMARY:Historical Society Meeting
DESCRIPTION:May 16 – Historical Society Mtg. 7:30 pm – Cabin \n 
URL:https://www.califonboro.org/event/historical-society-meeting-2/
LOCATION:Cabin In The Woods\, River Road\, Califon\, NJ\, 07830\, United States
CATEGORIES:Califon Events,Califon Historical Society,Main Calendar
END:VEVENT
BEGIN:VEVENT
DTSTART;TZID=America/New_York:20230507T140000
DTEND;TZID=America/New_York:20230507T160000
DTSTAMP:20260425T142214
CREATED:20230405T184226Z
LAST-MODIFIED:20230405T191705Z
UID:9510-1683468000-1683475200@www.califonboro.org
SUMMARY:Historical Society Open House & Walking Tour
DESCRIPTION:May 7 – Historical Society Open House & Walking Tour 2-4:00 pm \n 
URL:https://www.califonboro.org/event/historical-society-open-house-walking-tour-2/
CATEGORIES:Califon Historical Society,Main Calendar
END:VEVENT
BEGIN:VEVENT
DTSTART;TZID=America/New_York:20221211T140000
DTEND;TZID=America/New_York:20221211T160000
DTSTAMP:20260425T142214
CREATED:20221107T154525Z
LAST-MODIFIED:20221205T152705Z
UID:8707-1670767200-1670774400@www.califonboro.org
SUMMARY:Califon Historical Society - Annual Christmas Open House
DESCRIPTION:Kick off the holiday season at the Historical Society’s Annual Christmas Open House.  The Hoffman House & Cabin by the River will be decorated for the holidays showcasing old tyme toys & games of Califon residents\, antique trains\, holiday memorabilia and vintage holiday decor.  Open dates are November 20th\, December 4th and 11th from 2:00 – 4:00 pm.  The Califon Story\, Califon pottery\, Califon Bridge ornaments & holiday cards are available for purchase.  Stop by for refreshments\, holiday shopping & to share a Califon memory! \n 
URL:https://www.califonboro.org/event/califon-historical-society-annual-christmas-open-house-sunday-november-20th/
LOCATION:Cabin In The Woods\, River Road\, Califon\, NJ\, 07830\, United States
CATEGORIES:Califon Events,Califon Historical Society,Main Calendar
END:VEVENT
BEGIN:VEVENT
DTSTART;TZID=America/New_York:20221204T140000
DTEND;TZID=America/New_York:20221204T160000
DTSTAMP:20260425T142214
CREATED:20221205T152246Z
LAST-MODIFIED:20221205T152246Z
UID:8817-1670162400-1670169600@www.califonboro.org
SUMMARY:Califon Historical Society - Annual Christmas Open House
DESCRIPTION:Califon Historical Society\nAnnual Christmas Open House\n\n\nNovember 20th @ 2:00 – 4:00 PM\nDecember 4 @ 2:00 PM – 4:00 PM\nDecember 11 @ 2:00 PM – 4:00 PM\n\n\n\nKick off the holiday season at the Historical Society’s Annual Christmas Open House.  The Hoffman House & Cabin by the River will be decorated for the holidays showcasing old tyme toys & games of Califon residents\, antique trains\, holiday memorabilia and vintage holiday decor.  Open dates are November 20th\, December 4th and 11th from 2:00 – 4:00 pm.  The Califon Story\, Califon pottery\, Califon Bridge ornaments & holiday cards are available for purchase.  Stop by for refreshments\, holiday shopping & to share a Califon memory!
URL:https://www.califonboro.org/event/califon-historical-society-annual-christmas-open-house/
CATEGORIES:Califon Historical Society,Main Calendar
END:VEVENT
BEGIN:VEVENT
DTSTART;TZID=America/New_York:20221120T140000
DTEND;TZID=America/New_York:20221120T160000
DTSTAMP:20260425T142214
CREATED:20221205T152628Z
LAST-MODIFIED:20221205T152810Z
UID:8819-1668952800-1668960000@www.califonboro.org
SUMMARY:Califon Historical Society Annual Christmas Open House
DESCRIPTION:Califon Historical Society\nAnnual Christmas Open House\n\n\nNovember 20th @ 2:00 – 4:00 PM\nDecember 4 @ 2:00 PM – 4:00 PM\nDecember 11 @ 2:00 PM – 4:00 PM\n\n\n\nKick off the holiday season at the Historical Society’s Annual Christmas Open House.  The Hoffman House & Cabin by the River will be decorated for the holidays showcasing old tyme toys & games of Califon residents\, antique trains\, holiday memorabilia and vintage holiday decor.  Open dates are November 20th\, December 4th and 11th from 2:00 – 4:00 pm.  The Califon Story\, Califon pottery\, Califon Bridge ornaments & holiday cards are available for purchase.  Stop by for refreshments\, holiday shopping & to share a Califon memory!
URL:https://www.califonboro.org/event/califon-historical-society-annual-christmas-open-house-2/
CATEGORIES:Califon Historical Society,Main Calendar
END:VEVENT
BEGIN:VEVENT
DTSTART;TZID=America/New_York:20221018T193000
DTEND;TZID=America/New_York:20221018T193000
DTSTAMP:20260425T142214
CREATED:20220620T142717Z
LAST-MODIFIED:20220620T142732Z
UID:8179-1666121400-1666121400@www.califonboro.org
SUMMARY:Califon Historical Society Meeting at the Cabin
DESCRIPTION:
URL:https://www.califonboro.org/event/califon-historical-society-meeting-at-the-cabin-3/
LOCATION:Cabin by the River\, United States
CATEGORIES:Califon Events,Califon Historical Society,Main Calendar
END:VEVENT
BEGIN:VEVENT
DTSTART;TZID=America/New_York:20221002T140000
DTEND;TZID=America/New_York:20221002T163000
DTSTAMP:20260425T142214
CREATED:20220620T144226Z
LAST-MODIFIED:20220620T144226Z
UID:8185-1664719200-1664728200@www.califonboro.org
SUMMARY:Open House at Cabin by the River
DESCRIPTION:
URL:https://www.califonboro.org/event/open-house-at-cabin-by-the-river-3/
LOCATION:Cabin by the River\, United States
CATEGORIES:Califon Events,Califon Historical Society,Main Calendar
END:VEVENT
BEGIN:VEVENT
DTSTART;TZID=America/New_York:20220920T193000
DTEND;TZID=America/New_York:20220920T193000
DTSTAMP:20260425T142214
CREATED:20220620T142424Z
LAST-MODIFIED:20220620T142424Z
UID:8177-1663702200-1663702200@www.califonboro.org
SUMMARY:Califon Historical Society Meeting- At the Cabin
DESCRIPTION:
URL:https://www.califonboro.org/event/califon-historical-society-meeting-at-the-cabin-2/
LOCATION:Cabin by the River\, United States
CATEGORIES:Califon Events,Califon Historical Society,Main Calendar
END:VEVENT
BEGIN:VEVENT
DTSTART;TZID=America/New_York:20220918T140000
DTEND;TZID=America/New_York:20220918T163000
DTSTAMP:20260425T142214
CREATED:20220620T144113Z
LAST-MODIFIED:20220620T144113Z
UID:8183-1663509600-1663518600@www.califonboro.org
SUMMARY:Open House at Cabin by the River
DESCRIPTION:
URL:https://www.califonboro.org/event/open-house-at-cabin-by-the-river-2/
LOCATION:Cabin by the River\, United States
CATEGORIES:Califon Events,Califon Historical Society,Main Calendar
END:VEVENT
BEGIN:VEVENT
DTSTART;TZID=America/New_York:20220904T140000
DTEND;TZID=America/New_York:20220904T160000
DTSTAMP:20260425T142214
CREATED:20220620T142932Z
LAST-MODIFIED:20220620T143024Z
UID:8181-1662300000-1662307200@www.califonboro.org
SUMMARY:Open House at Cabin by the River
DESCRIPTION:
URL:https://www.califonboro.org/event/open-house-at-cabin-by-the-river/
LOCATION:Cabin by the River\, United States
CATEGORIES:Califon Events,Califon Historical Society,Main Calendar
END:VEVENT
BEGIN:VEVENT
DTSTART;TZID=America/New_York:20220821T140000
DTEND;TZID=America/New_York:20220821T163000
DTSTAMP:20260425T142214
CREATED:20220620T144429Z
LAST-MODIFIED:20220620T144429Z
UID:8189-1661090400-1661099400@www.califonboro.org
SUMMARY:Open House at Cabin by the River
DESCRIPTION:
URL:https://www.califonboro.org/event/open-house-at-cabin-by-the-river-5/
LOCATION:Cabin by the River\, United States
CATEGORIES:Califon Events,Califon Historical Society,Main Calendar
END:VEVENT
BEGIN:VEVENT
DTSTART;TZID=America/New_York:20220816T193000
DTEND;TZID=America/New_York:20220816T193000
DTSTAMP:20260425T142214
CREATED:20220620T144548Z
LAST-MODIFIED:20220620T144548Z
UID:8191-1660678200-1660678200@www.califonboro.org
SUMMARY:Califon Historical Society Meeting at the Cabin
DESCRIPTION:
URL:https://www.califonboro.org/event/califon-historical-society-meeting-at-the-cabin-4/
LOCATION:Cabin by the River\, United States
CATEGORIES:Califon Events,Califon Historical Society,Main Calendar
END:VEVENT
BEGIN:VEVENT
DTSTART;TZID=America/New_York:20220807T140000
DTEND;TZID=America/New_York:20220807T163000
DTSTAMP:20260425T142214
CREATED:20220620T144344Z
LAST-MODIFIED:20220620T144344Z
UID:8187-1659880800-1659889800@www.califonboro.org
SUMMARY:Open House at Cabin by the River
DESCRIPTION:
URL:https://www.califonboro.org/event/open-house-at-cabin-by-the-river-4/
LOCATION:Cabin by the River\, United States
CATEGORIES:Califon Events,Califon Historical Society,Main Calendar
END:VEVENT
BEGIN:VEVENT
DTSTART;TZID=America/New_York:20220719T193000
DTEND;TZID=America/New_York:20220719T193000
DTSTAMP:20260425T142214
CREATED:20220620T142243Z
LAST-MODIFIED:20220620T142303Z
UID:8175-1658259000-1658259000@www.califonboro.org
SUMMARY:Califon Historical Society Meeting- At the Cabin
DESCRIPTION:
URL:https://www.califonboro.org/event/califon-historical-society-meeting-at-the-cabin/
LOCATION:Cabin by the River\, United States
CATEGORIES:Califon Events,Califon Historical Society,Main Calendar
END:VEVENT
BEGIN:VEVENT
DTSTART;TZID=America/New_York:20220717T140000
DTEND;TZID=America/New_York:20220717T163000
DTSTAMP:20260425T142214
CREATED:20220620T144833Z
LAST-MODIFIED:20220620T144833Z
UID:8195-1658066400-1658075400@www.califonboro.org
SUMMARY:Open House at Cabin by the River
DESCRIPTION:
URL:https://www.califonboro.org/event/open-house-at-cabin-by-the-river-7/
LOCATION:Cabin by the River\, United States
CATEGORIES:Califon Events,Califon Historical Society,Main Calendar
END:VEVENT
BEGIN:VEVENT
DTSTART;TZID=America/New_York:20220703T140000
DTEND;TZID=America/New_York:20220703T163000
DTSTAMP:20260425T142214
CREATED:20220620T144715Z
LAST-MODIFIED:20220620T144715Z
UID:8193-1656856800-1656865800@www.califonboro.org
SUMMARY:Open House at Cabin by the River
DESCRIPTION:
URL:https://www.califonboro.org/event/open-house-at-cabin-by-the-river-6/
LOCATION:Cabin by the River\, United States
CATEGORIES:Califon Events,Califon Historical Society,Main Calendar
END:VEVENT
BEGIN:VEVENT
DTSTART;TZID=America/New_York:20220621T193000
DTEND;TZID=America/New_York:20220621T193000
DTSTAMP:20260425T142214
CREATED:20220620T144950Z
LAST-MODIFIED:20220620T144950Z
UID:8197-1655839800-1655839800@www.califonboro.org
SUMMARY:Califon Historical Society Meeting Tonight
DESCRIPTION:
URL:https://www.califonboro.org/event/califon-historical-society-meeting-tonight/
CATEGORIES:Califon Events,Califon Historical Society,Main Calendar
END:VEVENT
BEGIN:VEVENT
DTSTART;TZID=America/New_York:20220501T140000
DTEND;TZID=America/New_York:20220501T160000
DTSTAMP:20260425T142214
CREATED:20220413T184002Z
LAST-MODIFIED:20220414T154440Z
UID:7616-1651413600-1651420800@www.califonboro.org
SUMMARY:Califon's Historical Society's Spring Open House - Sunday\, May 1st\, 2022
DESCRIPTION:Califon’s Historical Society’s Spring Open House\n \nCHS Open House Flyer \n 
URL:https://www.califonboro.org/event/califons-historical-societys-spring-open-house-sunday-may-8th-2022/
LOCATION:Cabin In The Woods\, River Road\, Califon\, NJ\, 07830\, United States
CATEGORIES:Califon Events,Califon Historical Society,Historic Preservation Commission,Main Calendar
END:VEVENT
BEGIN:VEVENT
DTSTART;TZID=Europe/London:20211212T120000
DTEND;TZID=Europe/London:20211212T160000
DTSTAMP:20260425T142214
CREATED:20211130T193101Z
LAST-MODIFIED:20211130T193102Z
UID:6729-1639310400-1639324800@www.califonboro.org
SUMMARY:Christmas Open House at Hoffman House & Cabin by the River
DESCRIPTION:Visit the Hoffman House and Cabin by the River\, decorated with antique toys of Califon Residents\, \nVintage holiday décor and memorabilia .  Just in time to get you into the holiday spirit!
URL:https://www.califonboro.org/event/christmas-open-house-at-hoffman-house-cabin-by-the-river/
LOCATION:Hoffman House\, 57 River Road
CATEGORIES:Califon Events,Califon Historical Society
END:VEVENT
BEGIN:VEVENT
DTSTART;TZID=Europe/London:20211205T120000
DTEND;TZID=Europe/London:20211205T160000
DTSTAMP:20260425T142214
CREATED:20211130T192922Z
LAST-MODIFIED:20211130T192922Z
UID:6726-1638705600-1638720000@www.califonboro.org
SUMMARY:Christmas Open House at the Hoffman House & Cabin by the River
DESCRIPTION:Visit the Hoffman House and Cabin by the River\, decorated with antique toys of Califon Residents\, \nVintage holiday décor and memorabilia .  Just in time to get you into the holiday spirit!
URL:https://www.califonboro.org/event/christmas-open-house-at-the-hoffman-house-cabin-by-the-river/
LOCATION:Hoffman House\, 57 River Road
CATEGORIES:Califon Events,Califon Historical Society
END:VEVENT
BEGIN:VEVENT
DTSTART;TZID=Europe/London:20211022T190000
DTEND;TZID=Europe/London:20211022T200000
DTSTAMP:20260425T142214
CREATED:20211004T234658Z
LAST-MODIFIED:20211004T234658Z
UID:6578-1634929200-1634932800@www.califonboro.org
SUMMARY:Halloween: A Haunted History
DESCRIPTION:Halloween: A Haunted History\nThe Califon Historical Society presents Kevin Woyce\, author\, photographer & lecturer specializing in New Jersey and New York regional history. \n\nWhy do we carve pumpkins at Halloween\, dress up in costumes\, or decorate our homes with skeletons and ghosts? Join us for a wicked good time as Kevin Woyce traces the strange history of Halloween\, from Old World harvest festivals to our modern family holiday. Along the way\, Kevin will discuss the origins of the Jack-o-lantern\, Orson Welles’ 1938 “War of the Worlds” radio broadcast\, the first monster movies\, famous costume makers\, and much more. The hour-long slideshow is illustrated with original photographs and antique Halloween cards\, advertisements\, artwork and movie posters. Free Admission & refreshments served. \nFriday\, October 22nd 7:00 pm – Califon Borough Hall \nhalloween haunted history
URL:https://www.califonboro.org/event/halloween-a-haunted-history-2/
LOCATION:Municipal Building\, 39 Academy Street\, Califon\, NJ\, 07830\, United States
CATEGORIES:Califon Historical Society
END:VEVENT
BEGIN:VEVENT
DTSTART;TZID=Europe/London:20201018T140000
DTEND;TZID=Europe/London:20201018T160000
DTSTAMP:20260425T142214
CREATED:20200116T001852Z
LAST-MODIFIED:20200929T222848Z
UID:5036-1603029600-1603036800@www.califonboro.org
SUMMARY:Califon Historical Society Museum Open House CANCELLED
DESCRIPTION:
URL:https://www.califonboro.org/event/califon-historical-society-museum-open-house-2-pm-to-4-pm-3/
CATEGORIES:Califon Historical Society
END:VEVENT
END:VCALENDAR