BEGIN:VCALENDAR
VERSION:2.0
PRODID:-//Califon, New Jersey - ECPv6.13.2.1//NONSGML v1.0//EN
CALSCALE:GREGORIAN
METHOD:PUBLISH
X-WR-CALNAME:Califon, New Jersey
X-ORIGINAL-URL:https://www.califonboro.org
X-WR-CALDESC:Events for Califon, New Jersey
REFRESH-INTERVAL;VALUE=DURATION:PT1H
X-Robots-Tag:noindex
X-PUBLISHED-TTL:PT1H
BEGIN:VTIMEZONE
TZID:America/New_York
BEGIN:DAYLIGHT
TZOFFSETFROM:-0500
TZOFFSETTO:-0400
TZNAME:EDT
DTSTART:20240310T070000
END:DAYLIGHT
BEGIN:STANDARD
TZOFFSETFROM:-0400
TZOFFSETTO:-0500
TZNAME:EST
DTSTART:20241103T060000
END:STANDARD
END:VTIMEZONE
BEGIN:VEVENT
DTSTART;TZID=America/New_York:20241006T140000
DTEND;TZID=America/New_York:20241006T160000
DTSTAMP:20260425T221259
CREATED:20240416T170639Z
LAST-MODIFIED:20240416T170639Z
UID:11126-1728223200-1728230400@www.califonboro.org
SUMMARY:Hoffman House and/or Cabin Open House
DESCRIPTION:Hoffman-House\n\n		\n		\n			\n		\n\n		\n		\n\n			\n				\n					\n				\n			\n\n			\n				\n					\n				\n			\n\n			\n				Image				1				of				2
URL:https://www.califonboro.org/event/hoffman-house-and-or-cabin-open-house-9/
LOCATION:NJ
CATEGORIES:Califon Events,Main Calendar
END:VEVENT
END:VCALENDAR