BEGIN:VCALENDAR
VERSION:2.0
PRODID:-//Califon, New Jersey - ECPv6.13.2.1//NONSGML v1.0//EN
CALSCALE:GREGORIAN
METHOD:PUBLISH
X-ORIGINAL-URL:https://www.califonboro.org
X-WR-CALDESC:Events for Califon, New Jersey
REFRESH-INTERVAL;VALUE=DURATION:PT1H
X-Robots-Tag:noindex
X-PUBLISHED-TTL:PT1H
BEGIN:VTIMEZONE
TZID:America/New_York
BEGIN:DAYLIGHT
TZOFFSETFROM:-0500
TZOFFSETTO:-0400
TZNAME:EDT
DTSTART:20250309T070000
END:DAYLIGHT
BEGIN:STANDARD
TZOFFSETFROM:-0400
TZOFFSETTO:-0500
TZNAME:EST
DTSTART:20251102T060000
END:STANDARD
END:VTIMEZONE
BEGIN:VEVENT
DTSTART;TZID=America/New_York:20250506T190000
DTEND;TZID=America/New_York:20250506T210000
DTSTAMP:20260425T105142
CREATED:20250113T181028Z
LAST-MODIFIED:20250113T181028Z
UID:12102-1746558000-1746565200@www.califonboro.org
SUMMARY:Council Meeting
DESCRIPTION:
URL:https://www.califonboro.org/event/council-meeting-80/
LOCATION:NJ
CATEGORIES:Califon Events,Main Calendar
END:VEVENT
BEGIN:VEVENT
DTSTART;TZID=America/New_York:20250512T190000
DTEND;TZID=America/New_York:20250512T200000
DTSTAMP:20260425T105142
CREATED:20250113T182742Z
LAST-MODIFIED:20250505T160741Z
UID:12134-1747076400-1747080000@www.califonboro.org
SUMMARY:Environmental Commission Meeting
DESCRIPTION:
URL:https://www.califonboro.org/event/environmental-commission-meeting-31/
LOCATION:NJ
CATEGORIES:Califon Events,Main Calendar
END:VEVENT
BEGIN:VEVENT
DTSTART;TZID=America/New_York:20250514T190000
DTEND;TZID=America/New_York:20250514T200000
DTSTAMP:20260425T105142
CREATED:20250114T153533Z
LAST-MODIFIED:20250114T153533Z
UID:12199-1747249200-1747252800@www.califonboro.org
SUMMARY:PARC Meeting
DESCRIPTION:
URL:https://www.califonboro.org/event/parc-meeting-14/
LOCATION:NJ
CATEGORIES:Califon Events,Main Calendar
END:VEVENT
BEGIN:VEVENT
DTSTART;TZID=America/New_York:20250520T190000
DTEND;TZID=America/New_York:20250520T210000
DTSTAMP:20260425T105142
CREATED:20250113T181102Z
LAST-MODIFIED:20250113T181102Z
UID:12104-1747767600-1747774800@www.califonboro.org
SUMMARY:Council Meeting
DESCRIPTION:
URL:https://www.califonboro.org/event/council-meeting-81/
LOCATION:NJ
CATEGORIES:Califon Events,Main Calendar
END:VEVENT
BEGIN:VEVENT
DTSTART;TZID=America/New_York:20250521T190000
DTEND;TZID=America/New_York:20250521T200000
DTSTAMP:20260425T105142
CREATED:20250114T152259Z
LAST-MODIFIED:20250519T135755Z
UID:12163-1747854000-1747857600@www.califonboro.org
SUMMARY:CANCELLED- Planning Board Meeting
DESCRIPTION:THIS MEETING HAS BEEN CANCELLED
URL:https://www.califonboro.org/event/planning-board-meeting-7/
LOCATION:NJ
CATEGORIES:Califon Events,Main Calendar
END:VEVENT
BEGIN:VEVENT
DTSTART;TZID=America/New_York:20250521T193000
DTEND;TZID=America/New_York:20250521T213000
DTSTAMP:20260425T105142
CREATED:20250413T201354Z
LAST-MODIFIED:20250521T164657Z
UID:12508-1747855800-1747863000@www.califonboro.org
SUMMARY:Historical Society Meeting
DESCRIPTION:
URL:https://www.califonboro.org/event/historical-society-meeting-5/
LOCATION:Cabin by the River\, United States
CATEGORIES:Califon Events,Main Calendar
END:VEVENT
BEGIN:VEVENT
DTSTART;TZID=America/New_York:20250526T110000
DTEND;TZID=America/New_York:20250526T120000
DTSTAMP:20260425T105142
CREATED:20250108T204406Z
LAST-MODIFIED:20250108T204406Z
UID:12080-1748257200-1748260800@www.califonboro.org
SUMMARY:Memorial Day Parade
DESCRIPTION:
URL:https://www.califonboro.org/event/memorial-day-parade-6/
LOCATION:Borough Streets
CATEGORIES:Califon Events,Califon Parks and Recreation Committee,Main Calendar
END:VEVENT
END:VCALENDAR