BEGIN:VCALENDAR
VERSION:2.0
PRODID:-//Califon, New Jersey - ECPv6.13.2.1//NONSGML v1.0//EN
CALSCALE:GREGORIAN
METHOD:PUBLISH
X-ORIGINAL-URL:https://www.califonboro.org
X-WR-CALDESC:Events for Califon, New Jersey
REFRESH-INTERVAL;VALUE=DURATION:PT1H
X-Robots-Tag:noindex
X-PUBLISHED-TTL:PT1H
BEGIN:VTIMEZONE
TZID:America/New_York
BEGIN:DAYLIGHT
TZOFFSETFROM:-0500
TZOFFSETTO:-0400
TZNAME:EDT
DTSTART:20250309T070000
END:DAYLIGHT
BEGIN:STANDARD
TZOFFSETFROM:-0400
TZOFFSETTO:-0500
TZNAME:EST
DTSTART:20251102T060000
END:STANDARD
END:VTIMEZONE
BEGIN:VEVENT
DTSTART;TZID=America/New_York:20250401T190000
DTEND;TZID=America/New_York:20250401T210000
DTSTAMP:20260425T121426
CREATED:20250113T174831Z
LAST-MODIFIED:20250113T174831Z
UID:12098-1743534000-1743541200@www.califonboro.org
SUMMARY:Council Meeting
DESCRIPTION:
URL:https://www.califonboro.org/event/council-meeting-78/
LOCATION:NJ
CATEGORIES:Califon Events,Main Calendar
END:VEVENT
BEGIN:VEVENT
DTSTART;TZID=America/New_York:20250402T190000
DTEND;TZID=America/New_York:20250402T200000
DTSTAMP:20260425T121426
CREATED:20250114T152825Z
LAST-MODIFIED:20250327T182727Z
UID:12181-1743620400-1743624000@www.califonboro.org
SUMMARY:Board of Health Meeting - CANCELLED
DESCRIPTION:
URL:https://www.califonboro.org/event/board-of-health-meeting-7/
LOCATION:NJ
CATEGORIES:Califon Events,Main Calendar
END:VEVENT
BEGIN:VEVENT
DTSTART;TZID=America/New_York:20250408T190000
DTEND;TZID=America/New_York:20250408T200000
DTSTAMP:20260425T121426
CREATED:20250113T182316Z
LAST-MODIFIED:20250327T182613Z
UID:12132-1744138800-1744142400@www.califonboro.org
SUMMARY:Environmental Commission Meeting - CANCELLED
DESCRIPTION:
URL:https://www.califonboro.org/event/environmental-commission-meeting-24/
LOCATION:NJ
CATEGORIES:Califon Events,Main Calendar
END:VEVENT
BEGIN:VEVENT
DTSTART;TZID=America/New_York:20250408T190000
DTEND;TZID=America/New_York:20250408T200000
DTSTAMP:20260425T121426
CREATED:20250114T153459Z
LAST-MODIFIED:20250404T130954Z
UID:12197-1744138800-1744142400@www.califonboro.org
SUMMARY:PARC Meeting
DESCRIPTION:
URL:https://www.califonboro.org/event/parc-meeting-13/
LOCATION:NJ
CATEGORIES:Califon Events,Main Calendar
END:VEVENT
BEGIN:VEVENT
DTSTART;TZID=America/New_York:20250412T090000
DTEND;TZID=America/New_York:20250412T120000
DTSTAMP:20260425T121426
CREATED:20250327T183154Z
LAST-MODIFIED:20250327T183154Z
UID:12465-1744448400-1744459200@www.califonboro.org
SUMMARY:Stream Clean Up
DESCRIPTION:
URL:https://www.califonboro.org/event/stream-clean-up/
LOCATION:NJ
CATEGORIES:Califon Environmental Commission,Califon Events,Island Park Pavilion,Main Calendar
ORGANIZER;CN="Raritan Headwaters Association":MAILTO:info@raritanheadwaters.org
END:VEVENT
BEGIN:VEVENT
DTSTART;TZID=America/New_York:20250412T120000
DTEND;TZID=America/New_York:20250412T160000
DTSTAMP:20260425T121426
CREATED:20250327T182257Z
LAST-MODIFIED:20250327T182257Z
UID:12460-1744459200-1744473600@www.califonboro.org
SUMMARY:Trout Fest
DESCRIPTION:https://www.sboutfitters.com/trout-fest-2025
URL:https://www.califonboro.org/event/trout-fest/
LOCATION:Califon Island Park
CATEGORIES:Califon Events,Califon Parks and Recreation Committee,Island Park Pavilion,Main Calendar
END:VEVENT
BEGIN:VEVENT
DTSTART;TZID=America/New_York:20250412T140000
DTEND;TZID=America/New_York:20250413T150000
DTSTAMP:20260425T121426
CREATED:20250108T204137Z
LAST-MODIFIED:20250410T122930Z
UID:12078-1744466400-1744556400@www.califonboro.org
SUMMARY:EASTER EGG HUNT
DESCRIPTION:
URL:https://www.califonboro.org/event/easter-egg-hunt-2/
LOCATION:Califon Island Park\, Bank Street\, Califon\, 07830
CATEGORIES:Califon Events,Califon Parks and Recreation Committee,Island Park Pavilion,Main Calendar
END:VEVENT
BEGIN:VEVENT
DTSTART;TZID=America/New_York:20250415T190000
DTEND;TZID=America/New_York:20250415T210000
DTSTAMP:20260425T121426
CREATED:20250113T174918Z
LAST-MODIFIED:20250113T174918Z
UID:12100-1744743600-1744750800@www.califonboro.org
SUMMARY:Council Meeting
DESCRIPTION:
URL:https://www.califonboro.org/event/council-meeting-79/
LOCATION:NJ
CATEGORIES:Califon Events,Main Calendar
END:VEVENT
BEGIN:VEVENT
DTSTART;VALUE=DATE:20250422
DTEND;VALUE=DATE:20250423
DTSTAMP:20260425T121426
CREATED:20250327T185351Z
LAST-MODIFIED:20250327T185351Z
UID:12478-1745280000-1745366399@www.califonboro.org
SUMMARY:Earth Day
DESCRIPTION:
URL:https://www.califonboro.org/event/earth-day/
LOCATION:NJ
CATEGORIES:Main Calendar
END:VEVENT
BEGIN:VEVENT
DTSTART;TZID=America/New_York:20250430T190000
DTEND;TZID=America/New_York:20250430T200000
DTSTAMP:20260425T121426
CREATED:20250114T152059Z
LAST-MODIFIED:20250406T120316Z
UID:12161-1746039600-1746043200@www.califonboro.org
SUMMARY:Planning Board Meeting
DESCRIPTION:
URL:https://www.califonboro.org/event/planning-board-meeting-6/
LOCATION:NJ
CATEGORIES:Califon Events,Main Calendar
END:VEVENT
END:VCALENDAR