BEGIN:VCALENDAR
VERSION:2.0
PRODID:-//Califon, New Jersey - ECPv6.13.2.1//NONSGML v1.0//EN
CALSCALE:GREGORIAN
METHOD:PUBLISH
X-ORIGINAL-URL:https://www.califonboro.org
X-WR-CALDESC:Events for Califon, New Jersey
REFRESH-INTERVAL;VALUE=DURATION:PT1H
X-Robots-Tag:noindex
X-PUBLISHED-TTL:PT1H
BEGIN:VTIMEZONE
TZID:America/New_York
BEGIN:DAYLIGHT
TZOFFSETFROM:-0500
TZOFFSETTO:-0400
TZNAME:EDT
DTSTART:20240310T070000
END:DAYLIGHT
BEGIN:STANDARD
TZOFFSETFROM:-0400
TZOFFSETTO:-0500
TZNAME:EST
DTSTART:20241103T060000
END:STANDARD
END:VTIMEZONE
BEGIN:VEVENT
DTSTART;TZID=America/New_York:20240901T140000
DTEND;TZID=America/New_York:20240901T160000
DTSTAMP:20260425T221259
CREATED:20240416T170230Z
LAST-MODIFIED:20240416T170230Z
UID:11120-1725199200-1725206400@www.califonboro.org
SUMMARY:Hoffman House and/or Cabin Open House
DESCRIPTION:Hoffman-House\n\n		\n		\n			\n		\n\n		\n		\n\n			\n				\n					\n				\n			\n\n			\n				\n					\n				\n			\n\n			\n				Image				1				of				2
URL:https://www.califonboro.org/event/hoffman-house-and-or-cabin-open-house-7/
LOCATION:NJ
CATEGORIES:Califon Events,Main Calendar
END:VEVENT
BEGIN:VEVENT
DTSTART;TZID=America/New_York:20240904T180000
DTEND;TZID=America/New_York:20240904T180000
DTSTAMP:20260425T221259
CREATED:20240226T185754Z
LAST-MODIFIED:20240827T163259Z
UID:10722-1725472800-1725472800@www.califonboro.org
SUMMARY:PARC Meeting
DESCRIPTION:
URL:https://www.califonboro.org/event/parc-meeting-9/
LOCATION:Municipal Building\, 39 Academy Street\, Califon\, NJ\, 07830\, United States
CATEGORIES:Main Calendar
END:VEVENT
BEGIN:VEVENT
DTSTART;TZID=America/New_York:20240904T190000
DTEND;TZID=America/New_York:20240904T200000
DTSTAMP:20260425T221259
CREATED:20240109T202843Z
LAST-MODIFIED:20240827T163122Z
UID:10491-1725476400-1725480000@www.califonboro.org
SUMMARY:CANCELLED-Board of Health Meeting
DESCRIPTION:
URL:https://www.califonboro.org/event/board-of-health-meeting-4/
LOCATION:NJ
CATEGORIES:Califon Events,Main Calendar
END:VEVENT
BEGIN:VEVENT
DTSTART;TZID=America/New_York:20240905T190000
DTEND;TZID=America/New_York:20240905T210000
DTSTAMP:20260425T221300
CREATED:20240109T201520Z
LAST-MODIFIED:20240109T201520Z
UID:10469-1725562800-1725570000@www.califonboro.org
SUMMARY:Council Meeting
DESCRIPTION:
URL:https://www.califonboro.org/event/council-meeting-64/
LOCATION:NJ
CATEGORIES:Califon Events,Califon Mayor and Council,Main Calendar
END:VEVENT
BEGIN:VEVENT
DTSTART;VALUE=DATE:20240907
DTEND;VALUE=DATE:20240908
DTSTAMP:20260425T221300
CREATED:20240122T171045Z
LAST-MODIFIED:20240122T171203Z
UID:10519-1725667200-1725753599@www.califonboro.org
SUMMARY:Townwide Tag Sale
DESCRIPTION:https://www.califonboro.org/registration-form-for-califon-tag-sale-saturday-september-7th-2024/
URL:https://www.califonboro.org/event/townwide-tag-sale/
LOCATION:NJ
CATEGORIES:Main Calendar
END:VEVENT
BEGIN:VEVENT
DTSTART;TZID=America/New_York:20240910T190000
DTEND;TZID=America/New_York:20240910T200000
DTSTAMP:20260425T221300
CREATED:20240124T204844Z
LAST-MODIFIED:20240124T204844Z
UID:10590-1725994800-1725998400@www.califonboro.org
SUMMARY:Environmental Commission Meeting
DESCRIPTION:
URL:https://www.califonboro.org/event/environmental-commission-meeting-25/
LOCATION:NJ
CATEGORIES:Califon Events,Main Calendar
END:VEVENT
BEGIN:VEVENT
DTSTART;TZID=America/New_York:20240915T140000
DTEND;TZID=America/New_York:20240915T160000
DTSTAMP:20260425T221300
CREATED:20240416T170346Z
LAST-MODIFIED:20240416T170346Z
UID:11122-1726408800-1726416000@www.califonboro.org
SUMMARY:Hoffman House and/or Cabin Open House
DESCRIPTION:Hoffman-House\n\n		\n		\n			\n		\n\n		\n		\n\n			\n				\n					\n				\n			\n\n			\n				\n					\n				\n			\n\n			\n				Image				1				of				2
URL:https://www.califonboro.org/event/hoffman-house-and-or-cabin-open-house-8/
LOCATION:NJ
CATEGORIES:Califon Events,Main Calendar
END:VEVENT
BEGIN:VEVENT
DTSTART;TZID=America/New_York:20240917T193000
DTEND;TZID=America/New_York:20240917T203000
DTSTAMP:20260425T221300
CREATED:20240416T170539Z
LAST-MODIFIED:20240416T170539Z
UID:11124-1726601400-1726605000@www.califonboro.org
SUMMARY:Historical Society Meeting @Cabin by the River
DESCRIPTION:
URL:https://www.califonboro.org/event/historical-society-meeting-cabin-by-the-river-4/
LOCATION:NJ
CATEGORIES:Califon Events,Main Calendar
END:VEVENT
BEGIN:VEVENT
DTSTART;TZID=America/New_York:20240918T190000
DTEND;TZID=America/New_York:20240918T200000
DTSTAMP:20260425T221300
CREATED:20240123T214230Z
LAST-MODIFIED:20240916T142314Z
UID:10548-1726686000-1726689600@www.califonboro.org
SUMMARY:Planning/Zoning Board Meeting Cancelled
DESCRIPTION:
URL:https://www.califonboro.org/event/planning-zoning-board-meeting-14/
LOCATION:NJ
CATEGORIES:Califon Events,Main Calendar
END:VEVENT
BEGIN:VEVENT
DTSTART;TZID=America/New_York:20240919T190000
DTEND;TZID=America/New_York:20240919T210000
DTSTAMP:20260425T221300
CREATED:20240109T201558Z
LAST-MODIFIED:20240109T201558Z
UID:10471-1726772400-1726779600@www.califonboro.org
SUMMARY:Council Meeting
DESCRIPTION:
URL:https://www.califonboro.org/event/council-meeting-65/
LOCATION:NJ
CATEGORIES:Califon Events,Califon Mayor and Council,Main Calendar
END:VEVENT
BEGIN:VEVENT
DTSTART;VALUE=DATE:20240921
DTEND;VALUE=DATE:20240922
DTSTAMP:20260425T221300
CREATED:20231117T143731Z
LAST-MODIFIED:20231117T143731Z
UID:10242-1726876800-1726963199@www.califonboro.org
SUMMARY:Califon Classic Car Show
DESCRIPTION:Califon Classic Car Show – Rain date Sunday\, September 22\, 2024
URL:https://www.califonboro.org/event/califon-classic-car-show/
LOCATION:NJ
CATEGORIES:Island Park Pavilion,Main Calendar
END:VEVENT
END:VCALENDAR