BEGIN:VCALENDAR
VERSION:2.0
PRODID:-//Califon, New Jersey - ECPv6.13.2.1//NONSGML v1.0//EN
CALSCALE:GREGORIAN
METHOD:PUBLISH
X-ORIGINAL-URL:https://www.califonboro.org
X-WR-CALDESC:Events for Califon, New Jersey
REFRESH-INTERVAL;VALUE=DURATION:PT1H
X-Robots-Tag:noindex
X-PUBLISHED-TTL:PT1H
BEGIN:VTIMEZONE
TZID:America/New_York
BEGIN:DAYLIGHT
TZOFFSETFROM:-0500
TZOFFSETTO:-0400
TZNAME:EDT
DTSTART:20230312T070000
END:DAYLIGHT
BEGIN:STANDARD
TZOFFSETFROM:-0400
TZOFFSETTO:-0500
TZNAME:EST
DTSTART:20231105T060000
END:STANDARD
BEGIN:DAYLIGHT
TZOFFSETFROM:-0500
TZOFFSETTO:-0400
TZNAME:EDT
DTSTART:20240310T070000
END:DAYLIGHT
BEGIN:STANDARD
TZOFFSETFROM:-0400
TZOFFSETTO:-0500
TZNAME:EST
DTSTART:20241103T060000
END:STANDARD
BEGIN:DAYLIGHT
TZOFFSETFROM:-0500
TZOFFSETTO:-0400
TZNAME:EDT
DTSTART:20250309T070000
END:DAYLIGHT
BEGIN:STANDARD
TZOFFSETFROM:-0400
TZOFFSETTO:-0500
TZNAME:EST
DTSTART:20251102T060000
END:STANDARD
END:VTIMEZONE
BEGIN:VEVENT
DTSTART;TZID=America/New_York:20250412T090000
DTEND;TZID=America/New_York:20250412T120000
DTSTAMP:20260425T081432
CREATED:20250327T183154Z
LAST-MODIFIED:20250327T183154Z
UID:12465-1744448400-1744459200@www.califonboro.org
SUMMARY:Stream Clean Up
DESCRIPTION:
URL:https://www.califonboro.org/event/stream-clean-up/
CATEGORIES:Califon Environmental Commission,Califon Events,Island Park Pavilion,Main Calendar
ORGANIZER;CN="Raritan Headwaters Association":MAILTO:info@raritanheadwaters.org
END:VEVENT
BEGIN:VEVENT
DTSTART;TZID=America/New_York:20241110T103000
DTEND;TZID=America/New_York:20241110T113000
DTSTAMP:20260425T081432
CREATED:20241107T000005Z
LAST-MODIFIED:20241107T131049Z
UID:11866-1731234600-1731238200@www.califonboro.org
SUMMARY:Bucket Brigade to Water the Trees!
DESCRIPTION:With no rain in sight\, we will have another bucket brigade on Sunday\, November 10th at 10:30 am. \nPlease bring a bucket\, a friend\, and a neighbor!
URL:https://www.califonboro.org/event/bucket-brigade-to-water-the-trees/
LOCATION:Califon Island Park\, Bank Street\, Califon\, 07830
CATEGORIES:Califon Events,Island Park Pavilion
END:VEVENT
BEGIN:VEVENT
DTSTART;VALUE=DATE:20241028
DTEND;VALUE=DATE:20241029
DTSTAMP:20260425T081432
CREATED:20241004T173915Z
LAST-MODIFIED:20241004T173915Z
UID:11702-1730073600-1730159999@www.califonboro.org
SUMMARY:Hackelbarney Trout Unlimited
DESCRIPTION:
URL:https://www.califonboro.org/event/hackelbarney-trout-unlimited-3/
CATEGORIES:Califon Events,Island Park Pavilion
END:VEVENT
BEGIN:VEVENT
DTSTART;TZID=America/New_York:20240929T130000
DTEND;TZID=America/New_York:20240929T170000
DTSTAMP:20260425T081432
CREATED:20240730T175120Z
LAST-MODIFIED:20240730T175120Z
UID:11472-1727614800-1727629200@www.califonboro.org
SUMMARY:Old Timers Day
DESCRIPTION:Old timers baseball Game
URL:https://www.califonboro.org/event/old-timers-day/
LOCATION:Califon Island Park\, Bank Street\, Califon\, 07830
CATEGORIES:Califon Events,Island Park Pavilion
END:VEVENT
BEGIN:VEVENT
DTSTART;VALUE=DATE:20240928
DTEND;VALUE=DATE:20240929
DTSTAMP:20260425T081432
CREATED:20240917T175645Z
LAST-MODIFIED:20240917T175645Z
UID:11638-1727481600-1727567999@www.califonboro.org
SUMMARY:Delaware Fly Fishers- Clinic
DESCRIPTION:
URL:https://www.califonboro.org/event/delaware-fly-fishers-clinic/
LOCATION:Califon Park Pavillon
CATEGORIES:Califon Events,Island Park Pavilion
END:VEVENT
BEGIN:VEVENT
DTSTART;VALUE=DATE:20240921
DTEND;VALUE=DATE:20240922
DTSTAMP:20260425T081432
CREATED:20231117T143731Z
LAST-MODIFIED:20231117T143731Z
UID:10242-1726876800-1726963199@www.califonboro.org
SUMMARY:Califon Classic Car Show
DESCRIPTION:Califon Classic Car Show – Rain date Sunday\, September 22\, 2024
URL:https://www.califonboro.org/event/califon-classic-car-show/
CATEGORIES:Island Park Pavilion,Main Calendar
END:VEVENT
BEGIN:VEVENT
DTSTART;TZID=America/New_York:20240824T080000
DTEND;TZID=America/New_York:20240824T170000
DTSTAMP:20260425T081432
CREATED:20240724T131104Z
LAST-MODIFIED:20240724T131104Z
UID:11447-1724486400-1724518800@www.califonboro.org
SUMMARY:Califon Block Party at the Park!
DESCRIPTION:
URL:https://www.califonboro.org/event/califon-block-party-at-the-park/
LOCATION:Califon Park Pavillon
CATEGORIES:Califon Events,Island Park Pavilion
END:VEVENT
BEGIN:VEVENT
DTSTART;TZID=America/New_York:20240804T080000
DTEND;TZID=America/New_York:20240804T110000
DTSTAMP:20260425T081432
CREATED:20240726T131450Z
LAST-MODIFIED:20240726T131527Z
UID:11454-1722758400-1722769200@www.califonboro.org
SUMMARY:Envision Fitness- Workout
DESCRIPTION:Basketball Court
URL:https://www.califonboro.org/event/envision-fitness-workout/
LOCATION:Califon Park Basketball Court
CATEGORIES:Califon Events,Island Park Pavilion
END:VEVENT
BEGIN:VEVENT
DTSTART;TZID=America/New_York:20240730T080000
DTEND;TZID=America/New_York:20240730T150000
DTSTAMP:20260425T081432
CREATED:20240730T163950Z
LAST-MODIFIED:20240730T174932Z
UID:11470-1722326400-1722351600@www.califonboro.org
SUMMARY:Delaware Fly Fishing Clinic
DESCRIPTION:
URL:https://www.califonboro.org/event/delaware-fly-fishing-clinic/
LOCATION:Califon Island Park\, Bank Street\, Califon\, 07830
CATEGORIES:Califon Events,Island Park Pavilion
END:VEVENT
BEGIN:VEVENT
DTSTART;TZID=America/New_York:20240720T094500
DTEND;TZID=America/New_York:20240720T133000
DTSTAMP:20260425T081432
CREATED:20240605T141244Z
LAST-MODIFIED:20240605T141244Z
UID:11312-1721468700-1721482200@www.califonboro.org
SUMMARY:Reserved - Rain date for 7/13/24
DESCRIPTION:
URL:https://www.califonboro.org/event/reserved-rain-date-for-7-13-24/
CATEGORIES:Island Park Pavilion
END:VEVENT
BEGIN:VEVENT
DTSTART;TZID=America/New_York:20240713T094500
DTEND;TZID=America/New_York:20240713T133000
DTSTAMP:20260425T081432
CREATED:20240605T141130Z
LAST-MODIFIED:20240605T141130Z
UID:11310-1720863900-1720877400@www.califonboro.org
SUMMARY:Reserved
DESCRIPTION:
URL:https://www.califonboro.org/event/reserved-16/
CATEGORIES:Island Park Pavilion
END:VEVENT
BEGIN:VEVENT
DTSTART;VALUE=DATE:20240708
DTEND;VALUE=DATE:20240713
DTSTAMP:20260425T081432
CREATED:20240508T190858Z
LAST-MODIFIED:20240508T190858Z
UID:11179-1720396800-1720828799@www.califonboro.org
SUMMARY:Califon Fun Days!!
DESCRIPTION:
URL:https://www.califonboro.org/event/califon-fun-days/
CATEGORIES:Califon Events,Island Park Pavilion
END:VEVENT
BEGIN:VEVENT
DTSTART;TZID=America/New_York:20240629T120000
DTEND;TZID=America/New_York:20240629T180000
DTSTAMP:20260425T081432
CREATED:20240311T120637Z
LAST-MODIFIED:20240311T141340Z
UID:10853-1719662400-1719684000@www.califonboro.org
SUMMARY:3rd Annual Califon Tournament
DESCRIPTION:
URL:https://www.califonboro.org/event/3rd-annual-califon-tournament/
LOCATION:Califon Island Park\, Bank Street\, Califon\, 07830
CATEGORIES:Califon Events,Island Park Pavilion
END:VEVENT
BEGIN:VEVENT
DTSTART;VALUE=DATE:20240608
DTEND;VALUE=DATE:20240609
DTSTAMP:20260425T081432
CREATED:20231117T143607Z
LAST-MODIFIED:20231117T143607Z
UID:10240-1717804800-1717891199@www.califonboro.org
SUMMARY:Califon's All Mopar Show
DESCRIPTION:Califon’s All Mopar Show – Rain Date Sunday\, June 9\, 2024
URL:https://www.califonboro.org/event/califons-all-mopar-show-3/
CATEGORIES:Island Park Pavilion,Main Calendar
END:VEVENT
BEGIN:VEVENT
DTSTART;TZID=America/New_York:20240602T080000
DTEND;TZID=America/New_York:20240602T170000
DTSTAMP:20260425T081432
CREATED:20240220T171432Z
LAST-MODIFIED:20240220T171432Z
UID:10700-1717315200-1717347600@www.califonboro.org
SUMMARY:Reserved
DESCRIPTION:
URL:https://www.califonboro.org/event/reserved-13/
CATEGORIES:Island Park Pavilion
END:VEVENT
BEGIN:VEVENT
DTSTART;TZID=America/New_York:20240602T080000
DTEND;TZID=America/New_York:20240602T140000
DTSTAMP:20260425T081432
CREATED:20240214T162416Z
LAST-MODIFIED:20240214T162416Z
UID:10684-1717315200-1717336800@www.califonboro.org
SUMMARY:Lower Valley Presbyterian Church - Worship
DESCRIPTION:
URL:https://www.califonboro.org/event/lower-valley-presbyterian-church-worship-2/
LOCATION:Califon Island Park\, Bank Street\, Califon\, 07830
CATEGORIES:Califon Events,Island Park Pavilion
END:VEVENT
BEGIN:VEVENT
DTSTART;VALUE=DATE:20240527
DTEND;VALUE=DATE:20240528
DTSTAMP:20260425T081432
CREATED:20240311T173140Z
LAST-MODIFIED:20240311T173337Z
UID:10862-1716768000-1716854399@www.califonboro.org
SUMMARY:Memorial Day Parade
DESCRIPTION:
URL:https://www.califonboro.org/event/memorial-day-parade-5/
CATEGORIES:Califon Events,Island Park Pavilion
END:VEVENT
BEGIN:VEVENT
DTSTART;TZID=America/New_York:20240518T080000
DTEND;TZID=America/New_York:20240518T170000
DTSTAMP:20260425T081432
CREATED:20240220T171334Z
LAST-MODIFIED:20240220T171334Z
UID:10698-1716019200-1716051600@www.califonboro.org
SUMMARY:Reserved
DESCRIPTION:
URL:https://www.califonboro.org/event/reserved-12/
CATEGORIES:Island Park Pavilion
END:VEVENT
BEGIN:VEVENT
DTSTART;TZID=America/New_York:20240511T093000
DTEND;TZID=America/New_York:20240511T133000
DTSTAMP:20260425T081432
CREATED:20240507T161604Z
LAST-MODIFIED:20240507T161604Z
UID:11176-1715419800-1715434200@www.califonboro.org
SUMMARY:Schoenig Family
DESCRIPTION:Pavillion Rental
URL:https://www.califonboro.org/event/schoenig-family/
LOCATION:Califon Park Pavillon
CATEGORIES:Califon Events,Island Park Pavilion
END:VEVENT
BEGIN:VEVENT
DTSTART;TZID=America/New_York:20240420T120000
DTEND;TZID=America/New_York:20240420T160000
DTSTAMP:20260425T081432
CREATED:20240130T145222Z
LAST-MODIFIED:20240130T192126Z
UID:10611-1713614400-1713628800@www.califonboro.org
SUMMARY:TROUT FEST 2024
DESCRIPTION:On Saturday\, April 20th come out to Califon Island Park for Trout Fest 2024! It will be an afternoon of celebrating spring and fly fishing complete with good music and food\, kids’ fishing derby and instructional events throughout the day along with quality local handmade vendors. \nLast year’s event was a success with over 150 people in attendance testing their fly rod casting skills\, enjoying good food provided by the Califon Fire Dept.\, shopping local makers and enjoying music by the Joe Cirotti Trio. \nSouth Branch Outfitters at 74 Main Street is sponsoring this event. It is owned by Califon residents Abraham and Lindsey Beates\, both Navy veterans committed to service to their country and their community. Their vision for this new business includes breaking down the barriers to entry for those new to the sport or anyone in need of a little mental peace and quiet – stop by the shop and they’ll get you out on the water!
URL:https://www.califonboro.org/event/trout-fest-2024/
LOCATION:Califon Island Park\, Bank Street\, Califon\, 07830
CATEGORIES:Califon Events,Island Park Pavilion,Main Calendar
END:VEVENT
BEGIN:VEVENT
DTSTART;VALUE=DATE:20240420
DTEND;VALUE=DATE:20240421
DTSTAMP:20260425T081432
CREATED:20240130T160836Z
LAST-MODIFIED:20240228T162914Z
UID:10616-1713571200-1713657599@www.califonboro.org
SUMMARY:Stream Cleanup\, Saturday\, April 20\, 2024
DESCRIPTION:Stream Cleanup 2024 Poster \nPlease join the Environmental Commission at the annual Stream Clean up Event\, sponsored by Raritan Headwaters https://www.raritanheadwaters.org/get-involved-2/stream-cleanup-page/.  \nWe will also be planting trees through the NJ tree recovery program https://www.arborday.org/programs/community-tree-recovery/new-jersey.cfm and working on the pollinator garden and rain barrel.   Please join us for a great day of volunteering. \n 
URL:https://www.califonboro.org/event/stream-cleanup-saturday-april-20-2024/
CATEGORIES:Califon Events,Island Park Pavilion,Main Calendar
END:VEVENT
BEGIN:VEVENT
DTSTART;TZID=America/New_York:20240419T150000
DTEND;TZID=America/New_York:20240419T190000
DTSTAMP:20260425T081432
CREATED:20240404T184825Z
LAST-MODIFIED:20240404T184825Z
UID:11002-1713538800-1713553200@www.califonboro.org
SUMMARY:Reserved
DESCRIPTION:
URL:https://www.califonboro.org/event/reserved-14/
CATEGORIES:Island Park Pavilion
END:VEVENT
BEGIN:VEVENT
DTSTART;TZID=America/New_York:20240407T080000
DTEND;TZID=America/New_York:20240407T103000
DTSTAMP:20260425T081432
CREATED:20240322T151722Z
LAST-MODIFIED:20240322T151722Z
UID:10934-1712476800-1712485800@www.califonboro.org
SUMMARY:Envision Health & Fitness Spring Kick Off
DESCRIPTION:
URL:https://www.califonboro.org/event/envision-health-fitness-spring-kick-off/
LOCATION:Califon Park Basketball Court
CATEGORIES:Califon Events,Island Park Pavilion
END:VEVENT
BEGIN:VEVENT
DTSTART;TZID=America/New_York:20240324T140000
DTEND;TZID=America/New_York:20240324T150000
DTSTAMP:20260425T081432
CREATED:20240322T152212Z
LAST-MODIFIED:20240322T152507Z
UID:10938-1711288800-1711292400@www.califonboro.org
SUMMARY:Califon's Annual Easter Egg Hunt @ 2:00 pm - Califon Island Park
DESCRIPTION:Due to inclement weather\, the Easter Egg Hunt has been moved to Sunday\, March 24th\, at 2:00 pm. \nPlease note that the Easter Bunny will make his rounds around Califon on the Califon Fire Truck around 1:30 to remind everyone to head down to the Park by 2! \nSo put on your galoshes\, grab a basket and join in the fun this Sunday!
URL:https://www.califonboro.org/event/califons-annual-easter-egg-hunt/
LOCATION:Califon Island Park\, Bank Street\, Califon\, 07830
CATEGORIES:Califon Events,Island Park Pavilion
END:VEVENT
BEGIN:VEVENT
DTSTART;VALUE=DATE:20231022
DTEND;VALUE=DATE:20231023
DTSTAMP:20260425T081432
CREATED:20230615T175125Z
LAST-MODIFIED:20230920T130902Z
UID:9753-1697932800-1698019199@www.califonboro.org
SUMMARY:Car Show
DESCRIPTION:https://www.califonboro.org/9th-annual-classic-car-show-rescheduled-to-sunday-september-24th/
URL:https://www.califonboro.org/event/car-show/
LOCATION:Califon Island Park\, Bank Street\, Califon\, 07830
CATEGORIES:Califon Events,Island Park Pavilion
ORGANIZER;CN="Califon Car Show":MAILTO:califoncarshow@gmail.com
END:VEVENT
BEGIN:VEVENT
DTSTART;TZID=America/New_York:20231017T080000
DTEND;TZID=America/New_York:20231017T160000
DTSTAMP:20260425T081432
CREATED:20231006T135623Z
LAST-MODIFIED:20231006T135623Z
UID:10096-1697529600-1697558400@www.califonboro.org
SUMMARY:Project Healing Waters Fly Fishing
DESCRIPTION:
URL:https://www.califonboro.org/event/project-healing-waters-fly-fishing/
LOCATION:Califon Park Pavillon
CATEGORIES:Califon Events,Island Park Pavilion
END:VEVENT
BEGIN:VEVENT
DTSTART;TZID=America/New_York:20230930T080000
DTEND;TZID=America/New_York:20230930T150000
DTSTAMP:20260425T081432
CREATED:20230411T225936Z
LAST-MODIFIED:20230411T225936Z
UID:9544-1696060800-1696086000@www.califonboro.org
SUMMARY:Delaware Valley Fly Fishers
DESCRIPTION:Fly Fishing Event
URL:https://www.califonboro.org/event/delaware-valley-fly-fishers/
CATEGORIES:Island Park Pavilion
END:VEVENT
BEGIN:VEVENT
DTSTART;TZID=America/New_York:20230917T140000
DTEND;TZID=America/New_York:20230917T170000
DTSTAMP:20260425T081432
CREATED:20230203T153709Z
LAST-MODIFIED:20230823T190614Z
UID:9221-1694959200-1694970000@www.califonboro.org
SUMMARY:Sabatini Classic Softball Tournament
DESCRIPTION:Sabatini Classic
URL:https://www.califonboro.org/event/sabatini-classic-softball-tournament/
LOCATION:Califon Island Park\, Bank Street\, Califon\, 07830
CATEGORIES:Califon Events,Island Park Pavilion
ORGANIZER;CN="Mark Gibson":MAILTO:mgibson@customalloy.us
END:VEVENT
BEGIN:VEVENT
DTSTART;TZID=America/New_York:20230719T110000
DTEND;TZID=America/New_York:20230719T140000
DTSTAMP:20260425T081432
CREATED:20230705T171942Z
LAST-MODIFIED:20230705T173111Z
UID:9803-1689764400-1689775200@www.califonboro.org
SUMMARY:ESC Picnic
DESCRIPTION:
URL:https://www.califonboro.org/event/esc-picnic/
CATEGORIES:Califon Events,Island Park Pavilion
END:VEVENT
BEGIN:VEVENT
DTSTART;TZID=America/New_York:20230624T140000
DTEND;TZID=America/New_York:20230624T160000
DTSTAMP:20260425T081432
CREATED:20230516T153840Z
LAST-MODIFIED:20230516T153840Z
UID:9657-1687615200-1687622400@www.califonboro.org
SUMMARY:Open House at Califon Island Park Today!
DESCRIPTION:Come down to the Park and learn about all the ways you can volunteer in your community. \nSome of the Organizations that will be there for you to speak with are;   \nCalifon Fire Company \nCalifon First Aid Squad \nCalifon Parks & Recreation &  \nCalifon Environmental Commission
URL:https://www.califonboro.org/event/open-house-at-califon-island-park-today/
LOCATION:Califon Park Pavillon
CATEGORIES:Califon Events,Island Park Pavilion,Main Calendar
END:VEVENT
END:VCALENDAR