BEGIN:VCALENDAR
VERSION:2.0
PRODID:-//Califon, New Jersey - ECPv6.13.2.1//NONSGML v1.0//EN
CALSCALE:GREGORIAN
METHOD:PUBLISH
X-ORIGINAL-URL:https://www.califonboro.org
X-WR-CALDESC:Events for Califon, New Jersey
REFRESH-INTERVAL;VALUE=DURATION:PT1H
X-Robots-Tag:noindex
X-PUBLISHED-TTL:PT1H
BEGIN:VTIMEZONE
TZID:America/New_York
BEGIN:DAYLIGHT
TZOFFSETFROM:-0500
TZOFFSETTO:-0400
TZNAME:EDT
DTSTART:20260308T070000
END:DAYLIGHT
BEGIN:STANDARD
TZOFFSETFROM:-0400
TZOFFSETTO:-0500
TZNAME:EST
DTSTART:20261101T060000
END:STANDARD
END:VTIMEZONE
BEGIN:VEVENT
DTSTART;TZID=America/New_York:20260901T190000
DTEND;TZID=America/New_York:20260901T210000
DTSTAMP:20260425T063506
CREATED:20260106T171530Z
LAST-MODIFIED:20260106T171530Z
UID:13368-1788289200-1788296400@www.califonboro.org
SUMMARY:Council Meeting
DESCRIPTION:
URL:https://www.califonboro.org/event/council-meeting-105/
LOCATION:Municipal Building\, 39 Academy Street\, Califon\, NJ\, 07830\, United States
CATEGORIES:Main Calendar
END:VEVENT
BEGIN:VEVENT
DTSTART;TZID=America/New_York:20260902T190000
DTEND;TZID=America/New_York:20260902T210000
DTSTAMP:20260425T063506
CREATED:20260316T131844Z
LAST-MODIFIED:20260316T131844Z
UID:13582-1788375600-1788382800@www.califonboro.org
SUMMARY:Board of Health Meeting
DESCRIPTION:
URL:https://www.califonboro.org/event/board-of-health-meeting-12/
LOCATION:Municipal Building\, 39 Academy Street\, Califon\, NJ\, 07830\, United States
CATEGORIES:Board of Health,Main Calendar
END:VEVENT
BEGIN:VEVENT
DTSTART;TZID=America/New_York:20260915T190000
DTEND;TZID=America/New_York:20260915T210000
DTSTAMP:20260425T063506
CREATED:20260106T171554Z
LAST-MODIFIED:20260106T171554Z
UID:13370-1789498800-1789506000@www.califonboro.org
SUMMARY:Council Meeting
DESCRIPTION:
URL:https://www.califonboro.org/event/council-meeting-106/
LOCATION:Municipal Building\, 39 Academy Street\, Califon\, NJ\, 07830\, United States
CATEGORIES:Main Calendar
END:VEVENT
BEGIN:VEVENT
DTSTART;TZID=America/New_York:20260919T090000
DTEND;TZID=America/New_York:20260919T140000
DTSTAMP:20260425T063506
CREATED:20260127T174720Z
LAST-MODIFIED:20260318T141755Z
UID:13418-1789808400-1789826400@www.califonboro.org
SUMMARY:12th Califon Classic Car Show
DESCRIPTION:
URL:https://www.califonboro.org/event/car-show-3/
LOCATION:Califon Island Park
CATEGORIES:Island Park Pavilion
END:VEVENT
BEGIN:VEVENT
DTSTART;TZID=America/New_York:20260922T190000
DTEND;TZID=America/New_York:20260922T210000
DTSTAMP:20260425T063506
CREATED:20260316T122321Z
LAST-MODIFIED:20260316T123424Z
UID:13547-1790103600-1790110800@www.califonboro.org
SUMMARY:PARC Meeting
DESCRIPTION:
URL:https://www.califonboro.org/event/parc-meeting-27/
LOCATION:Municipal Building\, 39 Academy Street\, Califon\, NJ\, 07830\, United States
CATEGORIES:Califon Parks and Recreation Committee,Main Calendar
END:VEVENT
BEGIN:VEVENT
DTSTART;TZID=America/New_York:20260930T190000
DTEND;TZID=America/New_York:20260930T210000
DTSTAMP:20260425T063506
CREATED:20260316T123949Z
LAST-MODIFIED:20260402T131038Z
UID:13568-1790794800-1790802000@www.califonboro.org
SUMMARY:Planning/Zoning Board Meeting
DESCRIPTION:
URL:https://www.califonboro.org/event/planning-zoning-board-meeting-27/
LOCATION:Municipal Building\, 39 Academy Street\, Califon\, NJ\, 07830\, United States
CATEGORIES:Main Calendar,Planning/Zoning
END:VEVENT
END:VCALENDAR