BEGIN:VCALENDAR
VERSION:2.0
PRODID:-//Califon, New Jersey - ECPv6.13.2.1//NONSGML v1.0//EN
CALSCALE:GREGORIAN
METHOD:PUBLISH
X-WR-CALNAME:Califon, New Jersey
X-ORIGINAL-URL:https://www.califonboro.org
X-WR-CALDESC:Events for Califon, New Jersey
REFRESH-INTERVAL;VALUE=DURATION:PT1H
X-Robots-Tag:noindex
X-PUBLISHED-TTL:PT1H
BEGIN:VTIMEZONE
TZID:America/New_York
BEGIN:DAYLIGHT
TZOFFSETFROM:-0500
TZOFFSETTO:-0400
TZNAME:EDT
DTSTART:20250309T070000
END:DAYLIGHT
BEGIN:STANDARD
TZOFFSETFROM:-0400
TZOFFSETTO:-0500
TZNAME:EST
DTSTART:20251102T060000
END:STANDARD
END:VTIMEZONE
BEGIN:VEVENT
DTSTART;TZID=America/New_York:20250204T190000
DTEND;TZID=America/New_York:20250204T210000
DTSTAMP:20260425T200018
CREATED:20250113T173530Z
LAST-MODIFIED:20250113T173530Z
UID:12090-1738695600-1738702800@www.califonboro.org
SUMMARY:Council Meeting
DESCRIPTION:
URL:https://www.califonboro.org/event/council-meeting-74/
LOCATION:NJ
CATEGORIES:Califon Events,Main Calendar
END:VEVENT
BEGIN:VEVENT
DTSTART;TZID=America/New_York:20250211T190000
DTEND;TZID=America/New_York:20250211T200000
DTSTAMP:20260425T200018
CREATED:20250113T182006Z
LAST-MODIFIED:20250113T182006Z
UID:12128-1739300400-1739304000@www.califonboro.org
SUMMARY:Environmental Commission Meeting
DESCRIPTION:
URL:https://www.califonboro.org/event/environmental-commission-meeting-29/
LOCATION:NJ
CATEGORIES:Califon Events,Main Calendar
END:VEVENT
BEGIN:VEVENT
DTSTART;TZID=America/New_York:20250212T190000
DTEND;TZID=America/New_York:20250212T200000
DTSTAMP:20260425T200018
CREATED:20250114T153342Z
LAST-MODIFIED:20250114T153342Z
UID:12193-1739386800-1739390400@www.califonboro.org
SUMMARY:PARC Meeting
DESCRIPTION:
URL:https://www.califonboro.org/event/parc-meeting-11/
LOCATION:NJ
CATEGORIES:Califon Events,Main Calendar
END:VEVENT
BEGIN:VEVENT
DTSTART;TZID=America/New_York:20250218T190000
DTEND;TZID=America/New_York:20250218T210000
DTSTAMP:20260425T200018
CREATED:20250113T174354Z
LAST-MODIFIED:20250113T174354Z
UID:12092-1739905200-1739912400@www.califonboro.org
SUMMARY:Council Meeting
DESCRIPTION:
URL:https://www.califonboro.org/event/council-meeting-75/
LOCATION:NJ
CATEGORIES:Califon Events,Main Calendar
END:VEVENT
BEGIN:VEVENT
DTSTART;TZID=America/New_York:20250219T190000
DTEND;TZID=America/New_York:20250219T200000
DTSTAMP:20260425T200018
CREATED:20250114T151941Z
LAST-MODIFIED:20250219T221657Z
UID:12157-1739991600-1739995200@www.califonboro.org
SUMMARY:Planning Board Meeting - CANCELLED
DESCRIPTION:
URL:https://www.califonboro.org/event/planning-board-meeting-4/
LOCATION:NJ
CATEGORIES:Califon Events,Main Calendar
END:VEVENT
END:VCALENDAR