BEGIN:VCALENDAR
VERSION:2.0
PRODID:-//Califon, New Jersey - ECPv6.13.2.1//NONSGML v1.0//EN
CALSCALE:GREGORIAN
METHOD:PUBLISH
X-WR-CALNAME:Califon, New Jersey
X-ORIGINAL-URL:https://www.califonboro.org
X-WR-CALDESC:Events for Califon, New Jersey
REFRESH-INTERVAL;VALUE=DURATION:PT1H
X-Robots-Tag:noindex
X-PUBLISHED-TTL:PT1H
BEGIN:VTIMEZONE
TZID:America/New_York
BEGIN:DAYLIGHT
TZOFFSETFROM:-0500
TZOFFSETTO:-0400
TZNAME:EDT
DTSTART:20190310T070000
END:DAYLIGHT
BEGIN:STANDARD
TZOFFSETFROM:-0400
TZOFFSETTO:-0500
TZNAME:EST
DTSTART:20191103T060000
END:STANDARD
BEGIN:DAYLIGHT
TZOFFSETFROM:-0500
TZOFFSETTO:-0400
TZNAME:EDT
DTSTART:20200308T070000
END:DAYLIGHT
BEGIN:STANDARD
TZOFFSETFROM:-0400
TZOFFSETTO:-0500
TZNAME:EST
DTSTART:20201101T060000
END:STANDARD
BEGIN:DAYLIGHT
TZOFFSETFROM:-0500
TZOFFSETTO:-0400
TZNAME:EDT
DTSTART:20210314T070000
END:DAYLIGHT
BEGIN:STANDARD
TZOFFSETFROM:-0400
TZOFFSETTO:-0500
TZNAME:EST
DTSTART:20211107T060000
END:STANDARD
BEGIN:DAYLIGHT
TZOFFSETFROM:-0500
TZOFFSETTO:-0400
TZNAME:EDT
DTSTART:20220313T070000
END:DAYLIGHT
BEGIN:STANDARD
TZOFFSETFROM:-0400
TZOFFSETTO:-0500
TZNAME:EST
DTSTART:20221106T060000
END:STANDARD
BEGIN:DAYLIGHT
TZOFFSETFROM:-0500
TZOFFSETTO:-0400
TZNAME:EDT
DTSTART:20230312T070000
END:DAYLIGHT
BEGIN:STANDARD
TZOFFSETFROM:-0400
TZOFFSETTO:-0500
TZNAME:EST
DTSTART:20231105T060000
END:STANDARD
BEGIN:DAYLIGHT
TZOFFSETFROM:-0500
TZOFFSETTO:-0400
TZNAME:EDT
DTSTART:20240310T070000
END:DAYLIGHT
BEGIN:STANDARD
TZOFFSETFROM:-0400
TZOFFSETTO:-0500
TZNAME:EST
DTSTART:20241103T060000
END:STANDARD
BEGIN:DAYLIGHT
TZOFFSETFROM:-0500
TZOFFSETTO:-0400
TZNAME:EDT
DTSTART:20250309T070000
END:DAYLIGHT
BEGIN:STANDARD
TZOFFSETFROM:-0400
TZOFFSETTO:-0500
TZNAME:EST
DTSTART:20251102T060000
END:STANDARD
BEGIN:DAYLIGHT
TZOFFSETFROM:-0500
TZOFFSETTO:-0400
TZNAME:EDT
DTSTART:20260308T070000
END:DAYLIGHT
BEGIN:STANDARD
TZOFFSETFROM:-0400
TZOFFSETTO:-0500
TZNAME:EST
DTSTART:20261101T060000
END:STANDARD
END:VTIMEZONE
BEGIN:VTIMEZONE
TZID:Europe/London
BEGIN:DAYLIGHT
TZOFFSETFROM:+0000
TZOFFSETTO:+0100
TZNAME:BST
DTSTART:20200329T010000
END:DAYLIGHT
BEGIN:STANDARD
TZOFFSETFROM:+0100
TZOFFSETTO:+0000
TZNAME:GMT
DTSTART:20201025T010000
END:STANDARD
BEGIN:DAYLIGHT
TZOFFSETFROM:+0000
TZOFFSETTO:+0100
TZNAME:BST
DTSTART:20210328T010000
END:DAYLIGHT
BEGIN:STANDARD
TZOFFSETFROM:+0100
TZOFFSETTO:+0000
TZNAME:GMT
DTSTART:20211031T010000
END:STANDARD
BEGIN:DAYLIGHT
TZOFFSETFROM:+0000
TZOFFSETTO:+0100
TZNAME:BST
DTSTART:20220327T010000
END:DAYLIGHT
BEGIN:STANDARD
TZOFFSETFROM:+0100
TZOFFSETTO:+0000
TZNAME:GMT
DTSTART:20221030T010000
END:STANDARD
END:VTIMEZONE
BEGIN:VTIMEZONE
TZID:Europe/Jersey
BEGIN:DAYLIGHT
TZOFFSETFROM:+0000
TZOFFSETTO:+0100
TZNAME:BST
DTSTART:20220327T010000
END:DAYLIGHT
BEGIN:STANDARD
TZOFFSETFROM:+0100
TZOFFSETTO:+0000
TZNAME:GMT
DTSTART:20221030T010000
END:STANDARD
END:VTIMEZONE
BEGIN:VEVENT
DTSTART;TZID=America/New_York:20260401T190000
DTEND;TZID=America/New_York:20260401T210000
DTSTAMP:20260425T091838
CREATED:20260316T131648Z
LAST-MODIFIED:20260401T170045Z
UID:13578-1775070000-1775077200@www.califonboro.org
SUMMARY:Board of Health Meeting
DESCRIPTION:
URL:https://www.califonboro.org/event/board-of-health-meeting-8/
LOCATION:Municipal Building\, 39 Academy Street\, Califon\, NJ\, 07830\, United States
CATEGORIES:Califon Board of Health,Main Calendar
END:VEVENT
BEGIN:VEVENT
DTSTART;TZID=Europe/London:20220907T190000
DTEND;TZID=Europe/London:20220907T200000
DTSTAMP:20260425T091838
CREATED:20220120T001349Z
LAST-MODIFIED:20220217T211636Z
UID:6818-1662577200-1662580800@www.califonboro.org
SUMMARY:Board of Health Meeting
DESCRIPTION:
URL:https://www.califonboro.org/event/board-of-health-meeting-2/
LOCATION:Municipal Building\, 39 Academy Street\, Califon\, NJ\, 07830\, United States
CATEGORIES:Califon Board of Health,Califon Events,Main Calendar
END:VEVENT
BEGIN:VEVENT
DTSTART;TZID=Europe/London:20220317T193000
DTEND;TZID=Europe/London:20220317T203000
DTSTAMP:20260425T091838
CREATED:20220119T232729Z
LAST-MODIFIED:20220228T224500Z
UID:6812-1647545400-1647549000@www.califonboro.org
SUMMARY:Board of Health Meeting - Date changed from 4/6/22
DESCRIPTION:Meeting ID: 896 9499 0753\nPasscode: 741126 \n 
URL:https://www.califonboro.org/event/board-of-health-meeting/
LOCATION:via Zoom
CATEGORIES:Califon Board of Health,Main Calendar
END:VEVENT
BEGIN:VEVENT
DTSTART;TZID=Europe/Jersey:20220108T130000
DTEND;TZID=Europe/Jersey:20220108T150000
DTSTAMP:20260425T091838
CREATED:20211009T010023Z
LAST-MODIFIED:20211009T010023Z
UID:6594-1641646800-1641654000@www.califonboro.org
SUMMARY:Free Rabies Clinic
DESCRIPTION:The Califon Board of Health will be sponsoring a free Rabies Clinic on Saturday\, January 8\, 2022\, from 1 pm to 3 pm. \nThe Clinic will take place in the garage bays at the Califon Municipal Building and is open to all Hunterdon County Residents \nand is for both dogs and cats. \nDogs and Cats that are receiving their first rabies vaccination will be given a ONE YEAR vaccination. \nDogs and Cats that have had a rabies vaccination in the past\, their vaccination will be good for THREE YEARS. \nAny questions\, please contact Karen Mastro @ kmastro@califonboro.net or 908-832-7850 ext. 204. \n 
URL:https://www.califonboro.org/event/free-rabies-clinic-2/
LOCATION:Municipal Building\, 39 Academy Street\, Califon\, NJ\, 07830\, United States
CATEGORIES:Califon Board of Health,Califon Events
END:VEVENT
BEGIN:VEVENT
DTSTART;TZID=Europe/London:20220105T193000
DTEND;TZID=Europe/London:20220105T203000
DTSTAMP:20260425T091838
CREATED:20220105T000932Z
LAST-MODIFIED:20220217T211712Z
UID:6786-1641411000-1641414600@www.califonboro.org
SUMMARY:Califon Board of Health Meeting Via Zoom
DESCRIPTION:Karen mastro is inviting you to a scheduled Zoom meeting. \nTopic: Califon Board of Health Reorganization & Regular Meeting\nTime: Jan 5\, 2022 07:30 PM Eastern Time (US and Canada) \nJoin Zoom Meeting\nhttps://us02web.zoom.us/j/84461636866?pwd=L2FZcCsxa0Z0TUEwVUVMMUFPVUJIQT09 \nMeeting ID: 844 6163 6866\nPasscode: 028351\nOne tap mobile\n+19292056099\,\,84461636866#\,\,\,\,*028351# US (New York)\n+13017158592\,\,84461636866#\,\,\,\,*028351# US (Washington DC) \nDial by your location\n+1 929 205 6099 US (New York)\n+1 301 715 8592 US (Washington DC)\n+1 312 626 6799 US (Chicago)\n+1 669 900 6833 US (San Jose)\n+1 253 215 8782 US (Tacoma)\n+1 346 248 7799 US (Houston)\nMeeting ID: 844 6163 6866\nPasscode: 028351\nFind your local number: https://us02web.zoom.us/u/k1c5ltvG0 \n 
URL:https://www.califonboro.org/event/califon-board-of-health-meeting-via-zoom/
LOCATION:via Zoom
CATEGORIES:Califon Board of Health,Main Calendar
END:VEVENT
BEGIN:VEVENT
DTSTART;TZID=Europe/London:20200603T193000
DTEND;TZID=Europe/London:20200603T193000
DTSTAMP:20260425T091838
CREATED:20200129T210746Z
LAST-MODIFIED:20200520T191514Z
UID:5111-1591212600-1591212600@www.califonboro.org
SUMMARY:Board of Health Meeting @ 7:30pm Via Zoom
DESCRIPTION:
URL:https://www.califonboro.org/event/board-of-health-meeting-730pm/
LOCATION:Municipal Building\, 39 Academy Street\, Califon\, NJ\, 07830\, United States
CATEGORIES:Califon Board of Health
END:VEVENT
BEGIN:VEVENT
DTSTART;TZID=America/New_York:20191106T193000
DTEND;TZID=America/New_York:20191106T200000
DTSTAMP:20260425T091838
CREATED:20191105T180102Z
LAST-MODIFIED:20191105T180102Z
UID:4701-1573068600-1573070400@www.califonboro.org
SUMMARY:Califon Board of Health
DESCRIPTION:The Califon Board of Health will meet the First Wednesday of each month at the Municipal building at 7:30 pm .
URL:https://www.califonboro.org/event/califon-board-of-health-2/
LOCATION:NJ
CATEGORIES:Califon Board of Health
END:VEVENT
BEGIN:VEVENT
DTSTART;TZID=America/New_York:20190904T193000
DTEND;TZID=America/New_York:20190904T223000
DTSTAMP:20260425T091838
CREATED:20190723T142158Z
LAST-MODIFIED:20190723T142158Z
UID:4526-1567625400-1567636200@www.califonboro.org
SUMMARY:Califon Board of Health
DESCRIPTION:
URL:https://www.califonboro.org/event/califon-board-of-health/
LOCATION:Main Street\, Main Street\, Califon\, NJ\, 07830\, United States
CATEGORIES:Califon Board of Health
END:VEVENT
END:VCALENDAR