BEGIN:VCALENDAR
VERSION:2.0
PRODID:-//Califon, New Jersey - ECPv6.13.2.1//NONSGML v1.0//EN
CALSCALE:GREGORIAN
METHOD:PUBLISH
X-WR-CALNAME:Califon, New Jersey
X-ORIGINAL-URL:https://www.califonboro.org
X-WR-CALDESC:Events for Califon, New Jersey
REFRESH-INTERVAL;VALUE=DURATION:PT1H
X-Robots-Tag:noindex
X-PUBLISHED-TTL:PT1H
BEGIN:VTIMEZONE
TZID:America/New_York
BEGIN:DAYLIGHT
TZOFFSETFROM:-0500
TZOFFSETTO:-0400
TZNAME:EDT
DTSTART:20260308T070000
END:DAYLIGHT
BEGIN:STANDARD
TZOFFSETFROM:-0400
TZOFFSETTO:-0500
TZNAME:EST
DTSTART:20261101T060000
END:STANDARD
END:VTIMEZONE
BEGIN:VEVENT
DTSTART;TZID=America/New_York:20260511T170000
DTEND;TZID=America/New_York:20260515T193000
DTSTAMP:20260424T221553
CREATED:20260318T135351Z
LAST-MODIFIED:20260318T135351Z
UID:13616-1778518800-1778873400@www.califonboro.org
SUMMARY:LTAA Softball
DESCRIPTION:
URL:https://www.califonboro.org/event/ltaa-softball-9/
LOCATION:Califon Island Park
CATEGORIES:Island Park Pavilion
END:VEVENT
BEGIN:VEVENT
DTSTART;TZID=America/New_York:20260512T190000
DTEND;TZID=America/New_York:20260512T210000
DTSTAMP:20260424T221553
CREATED:20260319T134956Z
LAST-MODIFIED:20260319T134956Z
UID:13676-1778612400-1778619600@www.califonboro.org
SUMMARY:Environmental Commission Meeting
DESCRIPTION:
URL:https://www.califonboro.org/event/environmental-commission-meeting-39/
LOCATION:Municipal Building\, 39 Academy Street\, Califon\, NJ\, 07830\, United States
CATEGORIES:Califon Environmental Commission
END:VEVENT
END:VCALENDAR